{"text_format":"1","workbook":"xlsx","n_sheets":7,"sheets":["Setup_Settings","Advance_Curves","Saved_Curves","Table_Values","12F683_Code","12F1840_Code","Compiler_Command_Lines"],"not_rendered":{"charts":3,"images":1,"macros":1,"external_links":0,"defined_names":0,"comments":0,"pivot_tables":0},"unopened":[],"bounds":{"document_bytes":16777216,"sheet_cells":100000,"rows_first":2000,"rows_last":500,"rows_between":2000,"halvings":0,"cell_chars":16384,"cell_head_chars":4096},"cells_cut":0,"cells_raw":0,"read":"whole","date_system":"1900"}

{"sheet":"Setup_Settings","index":0,"n_rows":28,"n_cols":17,"rows_kept":28,"cut":false,"hidden":false,"merged":[[9,1,9,16],[10,1,10,3],[11,1,11,3],[12,1,12,3],[10,6,10,16],[11,6,11,16],[12,6,12,16],[26,1,26,3],[26,6,26,16],[27,1,27,3],[27,6,27,16],[23,1,23,3],[23,6,23,16],[24,1,24,3],[24,6,24,16],[25,1,25,3],[25,6,25,16],[19,1,19,16],[21,1,21,3],[21,6,21,16],[22,1,22,3],[22,6,22,16],[20,1,20,3],[20,6,20,16],[14,6,14,16],[15,6,15,16],[16,6,16,16],[17,6,17,16],[13,6,13,16],[13,1,13,3],[14,1,14,3],[15,1,15,3],[16,1,16,3],[17,1,17,3],[1,1,1,2],[2,13,2,14],[1,3,1,14],[2,1,2,9],[3,8,3,9],[3,13,3,14],[8,2,8,16],[6,4,6,6],[3,1,3,2],[3,4,3,6],[4,4,4,5],[5,4,5,5],[4,8,4,9],[5,8,5,9],[6,8,6,9],[6,13,6,14],[4,13,4,14],[5,13,5,14]]}
[]
[null,"Version 1.0",null,"Settings Caclulator",null,null,null,null,null,null,null,null,null,null,null,1,{"$f":"P2*360/256","v":1.40625}]
[null,"Green = Settings to change, Red = Values for the code, Yellow = Info/Calcs",null,null,null,null,null,null,null,null,"Target","Actual",null,"Starting Settings",null,"Target","Actual"]
[null,"Clock Speed",null,null,"16-Bit Timer 1",null,null,null,"Hall Sensor °BTDC",null,45,{"$f":"L5*(360/256)","v":45},null,"Est. Start RPM",null,200,{"$f":"(1/(((Q7/(L5-Q6))*256)/1000000))*60","v":199.99695242739159}]
[null,8,"MHz Fosc",null,{"$f":"B7*G6","v":1},null,"Fcyc/Tick",null,"Sensor Digi° BTDC",null,{"$f":"K4*(256/360)","v":32},{"$f":"ROUND(K5,0)","v":32},null,"Start Advance °",null,{"$f":"Advance_Curves!C5","v":5},{"$f":"Q6*(360/256)","v":5.625}]
[null,{"$f":"B5/4","v":2},"MHz Fcyc",null,"Prescaler = 1:",null,2,null,"Low RPM Advance °",null,{"$f":"Advance_Curves!D5","v":10},{"$f":"(L5-L7)*(360/256)","v":9.84375},null,"Start Advance d°",null,{"$f":"P5*(256/360)","v":3.5555555555555558},{"$f":"ROUND(P6,0)","v":4}]
[null,{"$f":"1/B6","v":0.5},"uS Tcyc",null,{"$f":"E5*65536","v":65536},null,null,null,"LowRPM Delay d°",null,{"$f":"L5-(K6*256/360)","v":24.888888888888889},{"$f":"ROUND(K7,0)","v":25},null,"StartDelay =",null,{"$f":"(((1/(P4/60))*1000000)/256)*(L5-Q6)","v":32812.5},{"$f":"ROUND(P7,0)","v":32813}]
[]
[null,null,"Name your files \"683.c\" or \"1840.c\" for the command line to work properly.  Assumes you are using XC8 compiler v1.11."]
[null,"User Settings for AdvanceTable 1"]
[null,"SensorDigiDeg",null,null,{"$f":"K4","v":45},{"$f":"ROUND(E11,0)","v":45},"Hall Sensor Digi° BTDC  (Use the Settings Calculator)"]
[null,"LowRPM_Delay",null,null,{"$f":"L5-(Advance_Curves!D5*256/360)","v":24.888888888888889},{"$f":"ROUND((L5-(Advance_Curves!D5*256/360)),0)","v":25},"LowRPM Delay Digi° (Taken from advance curve)"]
[null,"Est. Start RPM",null,null,200,{"$f":"ROUND(((((1/(E13/60))*1000000)/256)*(F11-ROUND((Advance_Curves!C5*(256/360)),0))),0)","v":48047},"Start Delay in uS (Calculated from Est. Start RPM & Start Advance in the Curves)"]
[null,"MSD_Start_Spark",null,null,2,{"$f":"ROUND(E14,0)","v":2},"Total number of sparks to fire on the first starting revolution."]
[null,"MSD_Low_Spark",null,null,3,{"$f":"ROUND(E15,0)","v":3},"Total number of sparks to fire when in LowRPM mode (120-915 RPM)"]
[null,"Max_MSD_Rev",null,null,2300,{"$f":"ROUND((((1/(E16/60))*1000000*$E$5)/256),0)","v":102},"Maximum RPM to use MSD at (value is in terms of CurrentRev + 1)"]
[null,"MSD_Spark",null,null,1,{"$f":"ROUND(E17,0)","v":1},"Total number of sparks per revolution when RPM is below Max_MSD_Rev (916-Max_MSD_Rev)"]
[null,"MSD_Delay",null,null,3950,{"$f":"ROUND(E18/100,0)","v":40},"uS in between trigger pulses for MSD (Suggested = 4000)(100 uS increments)"]
[]
[null,"User Settings for AdvanceTable 2"]
[null,"SensorDigiDeg",null,null,50,{"$f":"ROUND(E21,0)","v":50},"Hall Sensor Digi° BTDC  (Use the Settings Calculator)"]
[null,"LowRPM_Delay",null,null,{"$f":"L5-(Advance_Curves!D34*256/360)","v":24.888888888888889},{"$f":"ROUND((L5-(Advance_Curves!D34*256/360)),0)","v":25},"LowRPM Advance Digi° (Taken from advance curve)"]
[null,"Est. Start RPM",null,null,200,{"$f":"ROUND(((((1/(E23/60))*1000000)/256)*(F21-ROUND((Advance_Curves!C34*(256/360)),0))),0)","v":53906},"Start Delay in uS (Calculated from Est. Start RPM & Start Advance in the Curves)"]
[null,"MSD_Start_Spark",null,null,3,{"$f":"ROUND(E24,0)","v":3},"Total number of sparks to fire on the first starting revolution."]
[null,"MSD_Low_Spark",null,null,3,{"$f":"ROUND(E25,0)","v":3},"Total number of sparks to fire when in LowRPM mode (120-915 RPM)"]
[null,"Max_MSD_Rev",null,null,2300,{"$f":"ROUND((((1/(E26/60))*1000000*$E$5)/256),0)","v":102},"Maximum RPM to use MSD at (value is in terms of CurrentRev + 1)"]
[null,"MSD_Spark",null,null,1,{"$f":"ROUND(E27,0)","v":1},"Total number of sparks per revolution when RPM is below Max_MSD_Rev (916-Max_MSD_Rev)"]
[null,"MSD_Delay",null,null,3950,{"$f":"ROUND(E28/100,0)","v":40},"uS in between trigger pulses for MSD (Suggested = 4000)"]

{"sheet":"Advance_Curves","index":1,"n_rows":245,"n_cols":36,"rows_kept":245,"cut":false,"hidden":false,"merged":[[1,2,1,3],[1,8,1,19],[30,2,30,3],[30,8,30,19]]}
[]
[null,null,"LowRPM",null,null,null,null,null,"Advance Table Curve 1"]
[null,null,"Start","120-915",null,null,null,null,null,null,null,null,null,null,null,null,null,null,null,null,null,null,null,null,null,null,null,null,null,null,null,null,null,"RPM Points","Curve-1","Curve-2"]
[null,"RPM Point",0,500,1000,1400,2000,2500,3000,3500,4000,4500,5000,5500,6000,6500,7000,7500,8000,8500,9000,9500,10000,10500,11000,12000,13000,14000,15000,16000,null,null,null,915.52734375,{"$f":"(Table_Values!$E$3-((Table_Values!J261+Table_Values!$F$2)/Table_Values!E261))*360/256","v":21.632080078125},{"$f":"(Table_Values!$E$3-((Table_Values!Q261+Table_Values!$M$2)/Table_Values!L261))*360/256","v":24.1259765625}]
[null,"Advance°",5,10,24,24,24,24,24,24,24,24,24,24,24,24,24,24,24,24,24,24,24,24,24,24,24,24,24,24,null,null,null,919.11764705882354,{"$f":"(Table_Values!$E$3-((Table_Values!J260+Table_Values!$F$2)/Table_Values!E260))*360/256","v":21.733455882352938},{"$f":"(Table_Values!$E$3-((Table_Values!Q260+Table_Values!$M$2)/Table_Values!L260))*360/256","v":24.24816176470588}]
[null,null,null,null,null,null,null,null,null,null,null,null,null,null,null,null,null,null,null,null,null,null,null,null,null,null,null,null,null,null,null,null,null,922.73622047244089,{"$f":"(Table_Values!$E$3-((Table_Values!J259+Table_Values!$F$2)/Table_Values!E259))*360/256","v":21.835629921259844},{"$f":"(Table_Values!$E$3-((Table_Values!Q259+Table_Values!$M$2)/Table_Values!L259))*360/256","v":24.371309055118111}]
[null,null,null,null,null,null,null,null,null,null,null,null,null,null,null,null,null,null,null,null,null,null,null,null,null,null,null,null,null,null,null,null,null,926.38339920948613,{"$f":"(Table_Values!$E$3-((Table_Values!J258+Table_Values!$F$2)/Table_Values!E258))*360/256","v":21.938611660079051},{"$f":"(Table_Values!$E$3-((Table_Values!Q258+Table_Values!$M$2)/Table_Values!L258))*360/256","v":24.495429841897234}]
[null,null,null,null,null,null,null,null,null,null,null,null,null,null,null,null,null,null,null,null,null,null,null,null,null,null,null,null,null,null,null,null,null,930.05952380952374,{"$f":"(Table_Values!$E$3-((Table_Values!J257+Table_Values!$F$2)/Table_Values!E257))*360/256","v":22.042410714285712},{"$f":"(Table_Values!$E$3-((Table_Values!Q257+Table_Values!$M$2)/Table_Values!L257))*360/256","v":24.620535714285712}]
[null,null,null,null,null,null,null,null,null,null,null,null,null,null,null,null,null,null,null,null,null,null,null,null,null,null,null,null,null,null,null,null,null,933.76494023904377,{"$f":"(Table_Values!$E$3-((Table_Values!J256+Table_Values!$F$2)/Table_Values!E256))*360/256","v":22.14703685258964},{"$f":"(Table_Values!$E$3-((Table_Values!Q256+Table_Values!$M$2)/Table_Values!L256))*360/256","v":24.74663844621514}]
[null,null,null,null,null,null,null,null,null,null,null,null,null,null,null,null,null,null,null,null,null,null,null,null,null,null,null,null,null,null,null,null,null,937.5,{"$f":"(Table_Values!$E$3-((Table_Values!J255+Table_Values!$F$2)/Table_Values!E255))*360/256","v":22.252500000000001},{"$f":"(Table_Values!$E$3-((Table_Values!Q255+Table_Values!$M$2)/Table_Values!L255))*360/256","v":24.873750000000005}]
[null,null,null,null,null,null,null,null,null,null,null,null,null,null,null,null,null,null,null,null,null,null,null,null,null,null,null,null,null,null,null,null,null,941.26506024096375,{"$f":"(Table_Values!$E$3-((Table_Values!J254+Table_Values!$F$2)/Table_Values!E254))*360/256","v":22.353162650602407},{"$f":"(Table_Values!$E$3-((Table_Values!Q254+Table_Values!$M$2)/Table_Values!L254))*360/256","v":25.001882530120479}]
[null,null,null,null,null,null,null,null,null,null,null,null,null,null,null,null,null,null,null,null,null,null,null,null,null,null,null,null,null,null,null,null,null,945.06048387096769,{"$f":"(Table_Values!$E$3-((Table_Values!J253+Table_Values!$F$2)/Table_Values!E253))*360/256","v":22.46030745967742},{"$f":"(Table_Values!$E$3-((Table_Values!Q253+Table_Values!$M$2)/Table_Values!L253))*360/256","v":25.131048387096776}]
[null,null,null,null,null,null,null,null,null,null,null,null,null,null,null,null,null,null,null,null,null,null,null,null,null,null,null,null,null,null,null,null,null,948.88663967611342,{"$f":"(Table_Values!$E$3-((Table_Values!J252+Table_Values!$F$2)/Table_Values!E252))*360/256","v":22.568319838056681},{"$f":"(Table_Values!$E$3-((Table_Values!Q252+Table_Values!$M$2)/Table_Values!L252))*360/256","v":25.261260121457489}]
[null,null,null,null,null,null,null,null,null,null,null,null,null,null,null,null,null,null,null,null,null,null,null,null,null,null,null,null,null,null,null,null,null,952.74390243902451,{"$f":"(Table_Values!$E$3-((Table_Values!J251+Table_Values!$F$2)/Table_Values!E251))*360/256","v":22.677210365853657},{"$f":"(Table_Values!$E$3-((Table_Values!Q251+Table_Values!$M$2)/Table_Values!L251))*360/256","v":25.392530487804876}]
[null,null,null,null,null,null,null,null,null,null,null,null,null,null,null,null,null,null,null,null,null,null,null,null,null,null,null,null,null,null,null,null,null,956.63265306122457,{"$f":"(Table_Values!$E$3-((Table_Values!J250+Table_Values!$F$2)/Table_Values!E250))*360/256","v":22.786989795918366},{"$f":"(Table_Values!$E$3-((Table_Values!Q250+Table_Values!$M$2)/Table_Values!L250))*360/256","v":25.524872448979593}]
[null,null,null,null,null,null,null,null,null,null,null,null,null,null,null,null,null,null,null,null,null,null,null,null,null,null,null,null,null,null,null,null,null,960.55327868852464,{"$f":"(Table_Values!$E$3-((Table_Values!J249+Table_Values!$F$2)/Table_Values!E249))*360/256","v":22.897669057377048},{"$f":"(Table_Values!$E$3-((Table_Values!Q249+Table_Values!$M$2)/Table_Values!L249))*360/256","v":25.658299180327866}]
[null,null,null,null,null,null,null,null,null,null,null,null,null,null,null,null,null,null,null,null,null,null,null,null,null,null,null,null,null,null,null,null,null,964.50617283950623,{"$f":"(Table_Values!$E$3-((Table_Values!J248+Table_Values!$F$2)/Table_Values!E248))*360/256","v":23.003472222222221},{"$f":"(Table_Values!$E$3-((Table_Values!Q248+Table_Values!$M$2)/Table_Values!L248))*360/256","v":25.792824074074073}]
[null,null,null,null,null,null,null,null,null,null,null,null,null,null,null,null,null,null,null,null,null,null,null,null,null,null,null,null,null,null,null,null,null,968.49173553719015,{"$f":"(Table_Values!$E$3-((Table_Values!J247+Table_Values!$F$2)/Table_Values!E247))*360/256","v":23.115960743801651},{"$f":"(Table_Values!$E$3-((Table_Values!Q247+Table_Values!$M$2)/Table_Values!L247))*360/256","v":25.928460743801651}]
[null,null,null,null,null,null,null,null,null,null,null,null,null,null,null,null,null,null,null,null,null,null,null,null,null,null,null,null,null,null,null,null,null,972.51037344398344,{"$f":"(Table_Values!$E$3-((Table_Values!J246+Table_Values!$F$2)/Table_Values!E246))*360/256","v":23.22938278008299},{"$f":"(Table_Values!$E$3-((Table_Values!Q246+Table_Values!$M$2)/Table_Values!L246))*360/256","v":26.065223029045647}]
[null,null,null,null,null,null,null,null,null,null,null,null,null,null,null,null,null,null,null,null,null,null,null,null,null,null,null,null,null,null,null,null,null,976.5625,{"$f":"(Table_Values!$E$3-((Table_Values!J245+Table_Values!$F$2)/Table_Values!E245))*360/256","v":23.343750000000004},{"$f":"(Table_Values!$E$3-((Table_Values!Q245+Table_Values!$M$2)/Table_Values!L245))*360/256","v":26.203125}]
[null,null,null,null,null,null,null,null,null,null,null,null,null,null,null,null,null,null,null,null,null,null,null,null,null,null,null,null,null,null,null,null,null,980.64853556485343,{"$f":"(Table_Values!$E$3-((Table_Values!J244+Table_Values!$F$2)/Table_Values!E244))*360/256","v":23.459074267782427},{"$f":"(Table_Values!$E$3-((Table_Values!Q244+Table_Values!$M$2)/Table_Values!L244))*360/256","v":26.342180962343097}]
[null,null,null,null,null,null,null,null,null,null,null,null,null,null,null,null,null,null,null,null,null,null,null,null,null,null,null,null,null,null,null,null,null,984.76890756302521,{"$f":"(Table_Values!$E$3-((Table_Values!J243+Table_Values!$F$2)/Table_Values!E243))*360/256","v":23.575367647058826},{"$f":"(Table_Values!$E$3-((Table_Values!Q243+Table_Values!$M$2)/Table_Values!L243))*360/256","v":26.482405462184875}]
[null,null,null,null,null,null,null,null,null,null,null,null,null,null,null,null,null,null,null,null,null,null,null,null,null,null,null,null,null,null,null,null,null,988.9240506329113,{"$f":"(Table_Values!$E$3-((Table_Values!J242+Table_Values!$F$2)/Table_Values!E242))*360/256","v":23.692642405063289},{"$f":"(Table_Values!$E$3-((Table_Values!Q242+Table_Values!$M$2)/Table_Values!L242))*360/256","v":26.623813291139243}]
[null,null,null,null,null,null,null,null,null,null,null,null,null,null,null,null,null,null,null,null,null,null,null,null,null,null,null,null,null,null,null,null,null,993.11440677966107,{"$f":"(Table_Values!$E$3-((Table_Values!J241+Table_Values!$F$2)/Table_Values!E241))*360/256","v":23.80495233050847},{"$f":"(Table_Values!$E$3-((Table_Values!Q241+Table_Values!$M$2)/Table_Values!L241))*360/256","v":26.766419491525426}]
[null,null,null,null,null,null,null,null,null,null,null,null,null,null,null,null,null,null,null,null,null,null,null,null,null,null,null,null,null,null,null,null,null,997.34042553191489,{"$f":"(Table_Values!$E$3-((Table_Values!J240+Table_Values!$F$2)/Table_Values!E240))*360/256","v":23.924202127659576},{"$f":"(Table_Values!$E$3-((Table_Values!Q240+Table_Values!$M$2)/Table_Values!L240))*360/256","v":26.910239361702128}]
[null,null,null,null,null,null,null,null,null,null,null,null,null,null,null,null,null,null,null,null,null,null,null,null,null,null,null,null,null,null,null,null,null,1001.6025641025642,{"$f":"(Table_Values!$E$3-((Table_Values!J239+Table_Values!$F$2)/Table_Values!E239))*360/256","v":24.002403846153847},{"$f":"(Table_Values!$E$3-((Table_Values!Q239+Table_Values!$M$2)/Table_Values!L239))*360/256","v":27.00120192307692}]
[null,null,null,null,null,null,null,null,null,null,null,null,null,null,null,null,null,null,null,null,null,null,null,null,null,null,null,null,null,null,null,null,null,1005.9012875536481,{"$f":"(Table_Values!$E$3-((Table_Values!J238+Table_Values!$F$2)/Table_Values!E238))*360/256","v":24.002816523605148},{"$f":"(Table_Values!$E$3-((Table_Values!Q238+Table_Values!$M$2)/Table_Values!L238))*360/256","v":27.00241416309013}]
[null,null,null,null,null,null,null,null,null,null,null,null,null,null,null,null,null,null,null,null,null,null,null,null,null,null,null,null,null,null,null,null,null,1010.2370689655172,{"$f":"(Table_Values!$E$3-((Table_Values!J237+Table_Values!$F$2)/Table_Values!E237))*360/256","v":23.997171336206897},{"$f":"(Table_Values!$E$3-((Table_Values!Q237+Table_Values!$M$2)/Table_Values!L237))*360/256","v":26.997575431034488}]
[null,null,null,null,null,null,null,null,null,null,null,null,null,null,null,null,null,null,null,null,null,null,null,null,null,null,null,null,null,null,null,null,null,1014.6103896103896,{"$f":"(Table_Values!$E$3-((Table_Values!J236+Table_Values!$F$2)/Table_Values!E236))*360/256","v":23.997564935064933},{"$f":"(Table_Values!$E$3-((Table_Values!Q236+Table_Values!$M$2)/Table_Values!L236))*360/256","v":26.998782467532468}]
[null,null,null,null,null,null,null,null,null,null,null,null,null,null,null,null,null,null,null,null,null,null,null,null,null,null,null,null,null,null,null,null,null,1019.0217391304348,{"$f":"(Table_Values!$E$3-((Table_Values!J235+Table_Values!$F$2)/Table_Values!E235))*360/256","v":23.997961956521738},{"$f":"(Table_Values!$E$3-((Table_Values!Q235+Table_Values!$M$2)/Table_Values!L235))*360/256","v":27}]
[null,null,"LowRPM",null,null,null,null,null,"Advance Table Curve 2",null,null,null,null,null,null,null,null,null,null,null,null,null,null,null,null,null,null,null,null,null,null,null,null,1023.4716157205239,{"$f":"(Table_Values!$E$3-((Table_Values!J234+Table_Values!$F$2)/Table_Values!E234))*360/256","v":23.998362445414848},{"$f":"(Table_Values!$E$3-((Table_Values!Q234+Table_Values!$M$2)/Table_Values!L234))*360/256","v":27.001228165938862}]
[null,null,"Start","120-915",null,null,null,null,null,null,null,null,null,null,null,null,null,null,null,null,null,null,null,null,null,null,null,null,null,null,null,null,null,1027.9605263157894,{"$f":"(Table_Values!$E$3-((Table_Values!J233+Table_Values!$F$2)/Table_Values!E233))*360/256","v":23.998766447368425},{"$f":"(Table_Values!$E$3-((Table_Values!Q233+Table_Values!$M$2)/Table_Values!L233))*360/256","v":27.002467105263158}]
[null,"RPM Point",0,500,1000,1400,2000,2500,3000,3500,4000,4500,5000,5500,6000,6500,7000,7500,8000,8500,9000,9500,10000,10500,11000,12000,13000,14000,15000,16000,null,null,null,1032.4889867841412,{"$f":"(Table_Values!$E$3-((Table_Values!J232+Table_Values!$F$2)/Table_Values!E232))*360/256","v":23.999174008810574},{"$f":"(Table_Values!$E$3-((Table_Values!Q232+Table_Values!$M$2)/Table_Values!L232))*360/256","v":26.997522026431717}]
[null,"Advance°",5,10,27,27,27,27,27,27,27,27,27,27,27,27,27,27,27,27,27,27,27,27,27,27,27,27,27,27,null,null,null,1037.0575221238937,{"$f":"(Table_Values!$E$3-((Table_Values!J231+Table_Values!$F$2)/Table_Values!E231))*360/256","v":23.99958517699115},{"$f":"(Table_Values!$E$3-((Table_Values!Q231+Table_Values!$M$2)/Table_Values!L231))*360/256","v":26.998755530973455}]
[null,null,0,0,0,0,0,0,0,0,0,0,0,0,0,0,0,0,0,0,0,0,0,0,0,0,0,0,0,0,null,null,null,1041.6666666666667,{"$f":"(Table_Values!$E$3-((Table_Values!J230+Table_Values!$F$2)/Table_Values!E230))*360/256","v":24},{"$f":"(Table_Values!$E$3-((Table_Values!Q230+Table_Values!$M$2)/Table_Values!L230))*360/256","v":27}]
[null,null,null,null,null,null,null,null,null,null,null,null,null,null,null,null,null,null,null,null,null,null,null,null,null,null,null,null,null,null,null,null,null,1046.3169642857142,{"$f":"(Table_Values!$E$3-((Table_Values!J229+Table_Values!$F$2)/Table_Values!E229))*360/256","v":24.000418526785712},{"$f":"(Table_Values!$E$3-((Table_Values!Q229+Table_Values!$M$2)/Table_Values!L229))*360/256","v":27.001255580357142}]
[null,null,null,null,null,null,null,null,null,null,null,null,null,null,null,null,null,null,null,null,null,null,null,null,null,null,null,null,null,null,null,null,null,1051.0089686098654,{"$f":"(Table_Values!$E$3-((Table_Values!J228+Table_Values!$F$2)/Table_Values!E228))*360/256","v":24.000840807174889},{"$f":"(Table_Values!$E$3-((Table_Values!Q228+Table_Values!$M$2)/Table_Values!L228))*360/256","v":27.002522421524667}]
[null,null,null,null,null,null,null,null,null,null,null,null,null,null,null,null,null,null,null,null,null,null,null,null,null,null,null,null,null,null,null,null,null,1055.7432432432433,{"$f":"(Table_Values!$E$3-((Table_Values!J227+Table_Values!$F$2)/Table_Values!E227))*360/256","v":24.001266891891895},{"$f":"(Table_Values!$E$3-((Table_Values!Q227+Table_Values!$M$2)/Table_Values!L227))*360/256","v":26.997466216216218}]
[null,null,null,null,null,null,null,null,null,null,null,null,null,null,null,null,null,null,null,null,null,null,null,null,null,null,null,null,null,null,null,null,null,1060.5203619909503,{"$f":"(Table_Values!$E$3-((Table_Values!J226+Table_Values!$F$2)/Table_Values!E226))*360/256","v":24.001696832579185},{"$f":"(Table_Values!$E$3-((Table_Values!Q226+Table_Values!$M$2)/Table_Values!L226))*360/256","v":26.998727375565611}]
[null,null,null,null,null,null,null,null,null,null,null,null,null,null,null,null,null,null,null,null,null,null,null,null,null,null,null,null,null,null,null,null,null,1065.340909090909,{"$f":"(Table_Values!$E$3-((Table_Values!J225+Table_Values!$F$2)/Table_Values!E225))*360/256","v":24.002130681818183},{"$f":"(Table_Values!$E$3-((Table_Values!Q225+Table_Values!$M$2)/Table_Values!L225))*360/256","v":27}]
[null,null,null,null,null,null,null,null,null,null,null,null,null,null,null,null,null,null,null,null,null,null,null,null,null,null,null,null,null,null,null,null,null,1070.2054794520548,{"$f":"(Table_Values!$E$3-((Table_Values!J224+Table_Values!$F$2)/Table_Values!E224))*360/256","v":24.002568493150683},{"$f":"(Table_Values!$E$3-((Table_Values!Q224+Table_Values!$M$2)/Table_Values!L224))*360/256","v":27.001284246575342}]
[null,null,null,null,null,null,null,null,null,null,null,null,null,null,null,null,null,null,null,null,null,null,null,null,null,null,null,null,null,null,null,null,null,1075.1146788990827,{"$f":"(Table_Values!$E$3-((Table_Values!J223+Table_Values!$F$2)/Table_Values!E223))*360/256","v":24.00301032110092},{"$f":"(Table_Values!$E$3-((Table_Values!Q223+Table_Values!$M$2)/Table_Values!L223))*360/256","v":27.002580275229356}]
[null,null,null,null,null,null,null,null,null,null,null,null,null,null,null,null,null,null,null,null,null,null,null,null,null,null,null,null,null,null,null,null,null,1080.0691244239631,{"$f":"(Table_Values!$E$3-((Table_Values!J222+Table_Values!$F$2)/Table_Values!E222))*360/256","v":23.996975806451609},{"$f":"(Table_Values!$E$3-((Table_Values!Q222+Table_Values!$M$2)/Table_Values!L222))*360/256","v":26.997407834101384}]
[null,null,null,null,null,null,null,null,null,null,null,null,null,null,null,null,null,null,null,null,null,null,null,null,null,null,null,null,null,null,null,null,null,1085.0694444444443,{"$f":"(Table_Values!$E$3-((Table_Values!J221+Table_Values!$F$2)/Table_Values!E221))*360/256","v":23.997395833333336},{"$f":"(Table_Values!$E$3-((Table_Values!Q221+Table_Values!$M$2)/Table_Values!L221))*360/256","v":26.998697916666671}]
[null,null,null,null,null,null,null,null,null,null,null,null,null,null,null,null,null,null,null,null,null,null,null,null,null,null,null,null,null,null,null,null,null,1090.1162790697674,{"$f":"(Table_Values!$E$3-((Table_Values!J220+Table_Values!$F$2)/Table_Values!E220))*360/256","v":23.997819767441865},{"$f":"(Table_Values!$E$3-((Table_Values!Q220+Table_Values!$M$2)/Table_Values!L220))*360/256","v":27}]
[null,null,null,null,null,null,null,null,null,null,null,null,null,null,null,null,null,null,null,null,null,null,null,null,null,null,null,null,null,null,null,null,null,1095.2102803738317,{"$f":"(Table_Values!$E$3-((Table_Values!J219+Table_Values!$F$2)/Table_Values!E219))*360/256","v":23.9982476635514},{"$f":"(Table_Values!$E$3-((Table_Values!Q219+Table_Values!$M$2)/Table_Values!L219))*360/256","v":27.001314252336449}]
[null,null,null,null,null,null,null,null,null,null,null,null,null,null,null,null,null,null,null,null,null,null,null,null,null,null,null,null,null,null,null,null,null,1100.3521126760563,{"$f":"(Table_Values!$E$3-((Table_Values!J218+Table_Values!$F$2)/Table_Values!E218))*360/256","v":23.998679577464788},{"$f":"(Table_Values!$E$3-((Table_Values!Q218+Table_Values!$M$2)/Table_Values!L218))*360/256","v":27.00264084507042}]
[null,null,null,null,null,null,null,null,null,null,null,null,null,null,null,null,null,null,null,null,null,null,null,null,null,null,null,null,null,null,null,null,null,1105.5424528301887,{"$f":"(Table_Values!$E$3-((Table_Values!J217+Table_Values!$F$2)/Table_Values!E217))*360/256","v":23.999115566037737},{"$f":"(Table_Values!$E$3-((Table_Values!Q217+Table_Values!$M$2)/Table_Values!L217))*360/256","v":26.997346698113208}]
[null,null,null,null,null,null,null,null,null,null,null,null,null,null,null,null,null,null,null,null,null,null,null,null,null,null,null,null,null,null,null,null,null,1110.7819905213271,{"$f":"(Table_Values!$E$3-((Table_Values!J216+Table_Values!$F$2)/Table_Values!E216))*360/256","v":23.999555687203788},{"$f":"(Table_Values!$E$3-((Table_Values!Q216+Table_Values!$M$2)/Table_Values!L216))*360/256","v":26.998667061611375}]
[null,null,null,null,null,null,null,null,null,null,null,null,null,null,null,null,null,null,null,null,null,null,null,null,null,null,null,null,null,null,null,null,null,1116.0714285714287,{"$f":"(Table_Values!$E$3-((Table_Values!J215+Table_Values!$F$2)/Table_Values!E215))*360/256","v":24},{"$f":"(Table_Values!$E$3-((Table_Values!Q215+Table_Values!$M$2)/Table_Values!L215))*360/256","v":27}]
[null,null,null,null,null,null,null,null,null,null,null,null,null,null,null,null,null,null,null,null,null,null,null,null,null,null,null,null,null,null,null,null,null,1121.4114832535886,{"$f":"(Table_Values!$E$3-((Table_Values!J214+Table_Values!$F$2)/Table_Values!E214))*360/256","v":24.000448564593306},{"$f":"(Table_Values!$E$3-((Table_Values!Q214+Table_Values!$M$2)/Table_Values!L214))*360/256","v":27.001345693779903}]
[null,null,null,null,null,null,null,null,null,null,null,null,null,null,null,null,null,null,null,null,null,null,null,null,null,null,null,null,null,null,null,null,null,1126.8028846153848,{"$f":"(Table_Values!$E$3-((Table_Values!J213+Table_Values!$F$2)/Table_Values!E213))*360/256","v":24.000901442307693},{"$f":"(Table_Values!$E$3-((Table_Values!Q213+Table_Values!$M$2)/Table_Values!L213))*360/256","v":27.002704326923077}]
[null,null,null,null,null,null,null,null,null,null,null,null,null,null,null,null,null,null,null,null,null,null,null,null,null,null,null,null,null,null,null,null,null,1132.2463768115942,{"$f":"(Table_Values!$E$3-((Table_Values!J212+Table_Values!$F$2)/Table_Values!E212))*360/256","v":24.001358695652172},{"$f":"(Table_Values!$E$3-((Table_Values!Q212+Table_Values!$M$2)/Table_Values!L212))*360/256","v":26.997282608695649}]
[null,null,null,null,null,null,null,null,null,null,null,null,null,null,null,null,null,null,null,null,null,null,null,null,null,null,null,null,null,null,null,null,null,1137.7427184466019,{"$f":"(Table_Values!$E$3-((Table_Values!J211+Table_Values!$F$2)/Table_Values!E211))*360/256","v":24.001820388349515},{"$f":"(Table_Values!$E$3-((Table_Values!Q211+Table_Values!$M$2)/Table_Values!L211))*360/256","v":26.998634708737864}]
[null,null,null,null,null,null,null,null,null,null,null,null,null,null,null,null,null,null,null,null,null,null,null,null,null,null,null,null,null,null,null,null,null,1143.2926829268292,{"$f":"(Table_Values!$E$3-((Table_Values!J210+Table_Values!$F$2)/Table_Values!E210))*360/256","v":24.002286585365855},{"$f":"(Table_Values!$E$3-((Table_Values!Q210+Table_Values!$M$2)/Table_Values!L210))*360/256","v":27}]
[null,null,null,null,null,null,null,null,null,null,null,null,null,null,null,null,null,null,null,null,null,null,null,null,null,null,null,null,null,null,null,null,null,1148.8970588235295,{"$f":"(Table_Values!$E$3-((Table_Values!J209+Table_Values!$F$2)/Table_Values!E209))*360/256","v":24.002757352941178},{"$f":"(Table_Values!$E$3-((Table_Values!Q209+Table_Values!$M$2)/Table_Values!L209))*360/256","v":27.001378676470591}]
[null,null,null,null,null,null,null,null,null,null,null,null,null,null,null,null,null,null,null,null,null,null,null,null,null,null,null,null,null,null,null,null,null,1154.5566502463055,{"$f":"(Table_Values!$E$3-((Table_Values!J208+Table_Values!$F$2)/Table_Values!E208))*360/256","v":24.00323275862069},{"$f":"(Table_Values!$E$3-((Table_Values!Q208+Table_Values!$M$2)/Table_Values!L208))*360/256","v":27.002770935960591}]
[null,null,null,null,null,null,null,null,null,null,null,null,null,null,null,null,null,null,null,null,null,null,null,null,null,null,null,null,null,null,null,null,null,1160.2722772277227,{"$f":"(Table_Values!$E$3-((Table_Values!J207+Table_Values!$F$2)/Table_Values!E207))*360/256","v":23.996751237623762},{"$f":"(Table_Values!$E$3-((Table_Values!Q207+Table_Values!$M$2)/Table_Values!L207))*360/256","v":26.997215346534652}]
[null,null,null,null,null,null,null,null,null,null,null,null,null,null,null,null,null,null,null,null,null,null,null,null,null,null,null,null,null,null,null,null,null,1166.044776119403,{"$f":"(Table_Values!$E$3-((Table_Values!J206+Table_Values!$F$2)/Table_Values!E206))*360/256","v":23.997201492537311},{"$f":"(Table_Values!$E$3-((Table_Values!Q206+Table_Values!$M$2)/Table_Values!L206))*360/256","v":26.998600746268657}]
[null,null,null,null,null,null,null,null,null,null,null,null,null,null,null,null,null,null,null,null,null,null,null,null,null,null,null,null,null,null,null,null,null,1171.875,{"$f":"(Table_Values!$E$3-((Table_Values!J205+Table_Values!$F$2)/Table_Values!E205))*360/256","v":23.997656249999999},{"$f":"(Table_Values!$E$3-((Table_Values!Q205+Table_Values!$M$2)/Table_Values!L205))*360/256","v":27}]
[null,null,null,null,null,null,null,null,null,null,null,null,null,null,null,null,null,null,null,null,null,null,null,null,null,null,null,null,null,null,null,null,null,1177.7638190954774,{"$f":"(Table_Values!$E$3-((Table_Values!J204+Table_Values!$F$2)/Table_Values!E204))*360/256","v":23.99811557788945},{"$f":"(Table_Values!$E$3-((Table_Values!Q204+Table_Values!$M$2)/Table_Values!L204))*360/256","v":27.001413316582916}]
[null,null,null,null,null,null,null,null,null,null,null,null,null,null,null,null,null,null,null,null,null,null,null,null,null,null,null,null,null,null,null,null,null,1183.7121212121212,{"$f":"(Table_Values!$E$3-((Table_Values!J203+Table_Values!$F$2)/Table_Values!E203))*360/256","v":23.998579545454547},{"$f":"(Table_Values!$E$3-((Table_Values!Q203+Table_Values!$M$2)/Table_Values!L203))*360/256","v":27.002840909090907}]
[null,null,null,null,null,null,null,null,null,null,null,null,null,null,null,null,null,null,null,null,null,null,null,null,null,null,null,null,null,null,null,null,null,1189.7208121827409,{"$f":"(Table_Values!$E$3-((Table_Values!J202+Table_Values!$F$2)/Table_Values!E202))*360/256","v":23.99904822335025},{"$f":"(Table_Values!$E$3-((Table_Values!Q202+Table_Values!$M$2)/Table_Values!L202))*360/256","v":26.997144670050762}]
[null,null,null,null,null,null,null,null,null,null,null,null,null,null,null,null,null,null,null,null,null,null,null,null,null,null,null,null,null,null,null,null,null,1195.7908163265306,{"$f":"(Table_Values!$E$3-((Table_Values!J201+Table_Values!$F$2)/Table_Values!E201))*360/256","v":23.999521683673468},{"$f":"(Table_Values!$E$3-((Table_Values!Q201+Table_Values!$M$2)/Table_Values!L201))*360/256","v":26.998565051020403}]
[null,null,null,null,null,null,null,null,null,null,null,null,null,null,null,null,null,null,null,null,null,null,null,null,null,null,null,null,null,null,null,null,null,1201.9230769230769,{"$f":"(Table_Values!$E$3-((Table_Values!J200+Table_Values!$F$2)/Table_Values!E200))*360/256","v":24},{"$f":"(Table_Values!$E$3-((Table_Values!Q200+Table_Values!$M$2)/Table_Values!L200))*360/256","v":27}]
[null,null,null,null,null,null,null,null,null,null,null,null,null,null,null,null,null,null,null,null,null,null,null,null,null,null,null,null,null,null,null,null,null,1208.1185567010309,{"$f":"(Table_Values!$E$3-((Table_Values!J199+Table_Values!$F$2)/Table_Values!E199))*360/256","v":24.000483247422682},{"$f":"(Table_Values!$E$3-((Table_Values!Q199+Table_Values!$M$2)/Table_Values!L199))*360/256","v":27.001449742268036}]
[null,null,null,null,null,null,null,null,null,null,null,null,null,null,null,null,null,null,null,null,null,null,null,null,null,null,null,null,null,null,null,null,null,1214.3782383419689,{"$f":"(Table_Values!$E$3-((Table_Values!J198+Table_Values!$F$2)/Table_Values!E198))*360/256","v":24.000971502590673},{"$f":"(Table_Values!$E$3-((Table_Values!Q198+Table_Values!$M$2)/Table_Values!L198))*360/256","v":27.002914507772022}]
[null,null,null,null,null,null,null,null,null,null,null,null,null,null,null,null,null,null,null,null,null,null,null,null,null,null,null,null,null,null,null,null,null,1220.703125,{"$f":"(Table_Values!$E$3-((Table_Values!J197+Table_Values!$F$2)/Table_Values!E197))*360/256","v":24.001464843750004},{"$f":"(Table_Values!$E$3-((Table_Values!Q197+Table_Values!$M$2)/Table_Values!L197))*360/256","v":26.997070312499996}]
[null,null,null,null,null,null,null,null,null,null,null,null,null,null,null,null,null,null,null,null,null,null,null,null,null,null,null,null,null,null,null,null,null,1227.0942408376964,{"$f":"(Table_Values!$E$3-((Table_Values!J196+Table_Values!$F$2)/Table_Values!E196))*360/256","v":24.001963350785338},{"$f":"(Table_Values!$E$3-((Table_Values!Q196+Table_Values!$M$2)/Table_Values!L196))*360/256","v":26.998527486910991}]
[null,null,null,null,null,null,null,null,null,null,null,null,null,null,null,null,null,null,null,null,null,null,null,null,null,null,null,null,null,null,null,null,null,1233.5526315789473,{"$f":"(Table_Values!$E$3-((Table_Values!J195+Table_Values!$F$2)/Table_Values!E195))*360/256","v":24.002467105263158},{"$f":"(Table_Values!$E$3-((Table_Values!Q195+Table_Values!$M$2)/Table_Values!L195))*360/256","v":27}]
[null,null,null,null,null,null,null,null,null,null,null,null,null,null,null,null,null,null,null,null,null,null,null,null,null,null,null,null,null,null,null,null,null,1240.0793650793651,{"$f":"(Table_Values!$E$3-((Table_Values!J194+Table_Values!$F$2)/Table_Values!E194))*360/256","v":24.002976190476193},{"$f":"(Table_Values!$E$3-((Table_Values!Q194+Table_Values!$M$2)/Table_Values!L194))*360/256","v":27.001488095238098}]
[null,null,null,null,null,null,null,null,null,null,null,null,null,null,null,null,null,null,null,null,null,null,null,null,null,null,null,null,null,null,null,null,null,1246.6755319148936,{"$f":"(Table_Values!$E$3-((Table_Values!J193+Table_Values!$F$2)/Table_Values!E193))*360/256","v":24.003490691489365},{"$f":"(Table_Values!$E$3-((Table_Values!Q193+Table_Values!$M$2)/Table_Values!L193))*360/256","v":27.002992021276597}]
[null,null,null,null,null,null,null,null,null,null,null,null,null,null,null,null,null,null,null,null,null,null,null,null,null,null,null,null,null,null,null,null,null,1253.3422459893047,{"$f":"(Table_Values!$E$3-((Table_Values!J192+Table_Values!$F$2)/Table_Values!E192))*360/256","v":23.996490641711226},{"$f":"(Table_Values!$E$3-((Table_Values!Q192+Table_Values!$M$2)/Table_Values!L192))*360/256","v":26.996991978609621}]
[null,null,null,null,null,null,null,null,null,null,null,null,null,null,null,null,null,null,null,null,null,null,null,null,null,null,null,null,null,null,null,null,null,1260.0806451612905,{"$f":"(Table_Values!$E$3-((Table_Values!J191+Table_Values!$F$2)/Table_Values!E191))*360/256","v":23.996975806451609},{"$f":"(Table_Values!$E$3-((Table_Values!Q191+Table_Values!$M$2)/Table_Values!L191))*360/256","v":26.998487903225808}]
[null,null,null,null,null,null,null,null,null,null,null,null,null,null,null,null,null,null,null,null,null,null,null,null,null,null,null,null,null,null,null,null,null,1266.8918918918919,{"$f":"(Table_Values!$E$3-((Table_Values!J190+Table_Values!$F$2)/Table_Values!E190))*360/256","v":23.997466216216218},{"$f":"(Table_Values!$E$3-((Table_Values!Q190+Table_Values!$M$2)/Table_Values!L190))*360/256","v":27}]
[null,null,null,null,null,null,null,null,null,null,null,null,null,null,null,null,null,null,null,null,null,null,null,null,null,null,null,null,null,null,null,null,null,1273.7771739130435,{"$f":"(Table_Values!$E$3-((Table_Values!J189+Table_Values!$F$2)/Table_Values!E189))*360/256","v":23.997961956521738},{"$f":"(Table_Values!$E$3-((Table_Values!Q189+Table_Values!$M$2)/Table_Values!L189))*360/256","v":27.001528532608695}]
[null,null,null,null,null,null,null,null,null,null,null,null,null,null,null,null,null,null,null,null,null,null,null,null,null,null,null,null,null,null,null,null,null,1280.7377049180327,{"$f":"(Table_Values!$E$3-((Table_Values!J188+Table_Values!$F$2)/Table_Values!E188))*360/256","v":23.998463114754099},{"$f":"(Table_Values!$E$3-((Table_Values!Q188+Table_Values!$M$2)/Table_Values!L188))*360/256","v":27.003073770491802}]
[null,null,null,null,null,null,null,null,null,null,null,null,null,null,null,null,null,null,null,null,null,null,null,null,null,null,null,null,null,null,null,null,null,1287.7747252747254,{"$f":"(Table_Values!$E$3-((Table_Values!J187+Table_Values!$F$2)/Table_Values!E187))*360/256","v":23.998969780219781},{"$f":"(Table_Values!$E$3-((Table_Values!Q187+Table_Values!$M$2)/Table_Values!L187))*360/256","v":26.996909340659339}]
[null,null,null,null,null,null,null,null,null,null,null,null,null,null,null,null,null,null,null,null,null,null,null,null,null,null,null,null,null,null,null,null,null,1294.889502762431,{"$f":"(Table_Values!$E$3-((Table_Values!J186+Table_Values!$F$2)/Table_Values!E186))*360/256","v":23.999482044198896},{"$f":"(Table_Values!$E$3-((Table_Values!Q186+Table_Values!$M$2)/Table_Values!L186))*360/256","v":26.998446132596687}]
[null,null,null,null,null,null,null,null,null,null,null,null,null,null,null,null,null,null,null,null,null,null,null,null,null,null,null,null,null,null,null,null,null,1302.0833333333335,{"$f":"(Table_Values!$E$3-((Table_Values!J185+Table_Values!$F$2)/Table_Values!E185))*360/256","v":24},{"$f":"(Table_Values!$E$3-((Table_Values!Q185+Table_Values!$M$2)/Table_Values!L185))*360/256","v":27}]
[null,null,null,null,null,null,null,null,null,null,null,null,null,null,null,null,null,null,null,null,null,null,null,null,null,null,null,null,null,null,null,null,null,1309.3575418994415,{"$f":"(Table_Values!$E$3-((Table_Values!J184+Table_Values!$F$2)/Table_Values!E184))*360/256","v":24.00052374301676},{"$f":"(Table_Values!$E$3-((Table_Values!Q184+Table_Values!$M$2)/Table_Values!L184))*360/256","v":27.001571229050281}]
[null,null,null,null,null,null,null,null,null,null,null,null,null,null,null,null,null,null,null,null,null,null,null,null,null,null,null,null,null,null,null,null,null,1316.7134831460673,{"$f":"(Table_Values!$E$3-((Table_Values!J183+Table_Values!$F$2)/Table_Values!E183))*360/256","v":24.001053370786515},{"$f":"(Table_Values!$E$3-((Table_Values!Q183+Table_Values!$M$2)/Table_Values!L183))*360/256","v":27.003160112359549}]
[null,null,null,null,null,null,null,null,null,null,null,null,null,null,null,null,null,null,null,null,null,null,null,null,null,null,null,null,null,null,null,null,null,1324.1525423728813,{"$f":"(Table_Values!$E$3-((Table_Values!J182+Table_Values!$F$2)/Table_Values!E182))*360/256","v":24.001588983050848},{"$f":"(Table_Values!$E$3-((Table_Values!Q182+Table_Values!$M$2)/Table_Values!L182))*360/256","v":26.996822033898304}]
[null,null,null,null,null,null,null,null,null,null,null,null,null,null,null,null,null,null,null,null,null,null,null,null,null,null,null,null,null,null,null,null,null,1331.6761363636365,{"$f":"(Table_Values!$E$3-((Table_Values!J181+Table_Values!$F$2)/Table_Values!E181))*360/256","v":24.002130681818183},{"$f":"(Table_Values!$E$3-((Table_Values!Q181+Table_Values!$M$2)/Table_Values!L181))*360/256","v":26.998401988636363}]
[null,null,null,null,null,null,null,null,null,null,null,null,null,null,null,null,null,null,null,null,null,null,null,null,null,null,null,null,null,null,null,null,null,1339.2857142857142,{"$f":"(Table_Values!$E$3-((Table_Values!J180+Table_Values!$F$2)/Table_Values!E180))*360/256","v":24.002678571428575},{"$f":"(Table_Values!$E$3-((Table_Values!Q180+Table_Values!$M$2)/Table_Values!L180))*360/256","v":27}]
[null,null,null,null,null,null,null,null,null,null,null,null,null,null,null,null,null,null,null,null,null,null,null,null,null,null,null,null,null,null,null,null,null,1346.9827586206895,{"$f":"(Table_Values!$E$3-((Table_Values!J179+Table_Values!$F$2)/Table_Values!E179))*360/256","v":24.00323275862069},{"$f":"(Table_Values!$E$3-((Table_Values!Q179+Table_Values!$M$2)/Table_Values!L179))*360/256","v":27.001616379310342}]
[null,null,null,null,null,null,null,null,null,null,null,null,null,null,null,null,null,null,null,null,null,null,null,null,null,null,null,null,null,null,null,null,null,1354.7687861271675,{"$f":"(Table_Values!$E$3-((Table_Values!J178+Table_Values!$F$2)/Table_Values!E178))*360/256","v":24.003793352601157},{"$f":"(Table_Values!$E$3-((Table_Values!Q178+Table_Values!$M$2)/Table_Values!L178))*360/256","v":27.003251445086704}]
[null,null,null,null,null,null,null,null,null,null,null,null,null,null,null,null,null,null,null,null,null,null,null,null,null,null,null,null,null,null,null,null,null,1362.6453488372092,{"$f":"(Table_Values!$E$3-((Table_Values!J177+Table_Values!$F$2)/Table_Values!E177))*360/256","v":23.996184593023255},{"$f":"(Table_Values!$E$3-((Table_Values!Q177+Table_Values!$M$2)/Table_Values!L177))*360/256","v":26.996729651162788}]
[null,null,null,null,null,null,null,null,null,null,null,null,null,null,null,null,null,null,null,null,null,null,null,null,null,null,null,null,null,null,null,null,null,1370.6140350877192,{"$f":"(Table_Values!$E$3-((Table_Values!J176+Table_Values!$F$2)/Table_Values!E176))*360/256","v":23.996710526315791},{"$f":"(Table_Values!$E$3-((Table_Values!Q176+Table_Values!$M$2)/Table_Values!L176))*360/256","v":26.998355263157894}]
[null,null,null,null,null,null,null,null,null,null,null,null,null,null,null,null,null,null,null,null,null,null,null,null,null,null,null,null,null,null,null,null,null,1378.6764705882354,{"$f":"(Table_Values!$E$3-((Table_Values!J175+Table_Values!$F$2)/Table_Values!E175))*360/256","v":23.997242647058819},{"$f":"(Table_Values!$E$3-((Table_Values!Q175+Table_Values!$M$2)/Table_Values!L175))*360/256","v":27}]
[null,null,null,null,null,null,null,null,null,null,null,null,null,null,null,null,null,null,null,null,null,null,null,null,null,null,null,null,null,null,null,null,null,1386.8343195266273,{"$f":"(Table_Values!$E$3-((Table_Values!J174+Table_Values!$F$2)/Table_Values!E174))*360/256","v":23.997781065088756},{"$f":"(Table_Values!$E$3-((Table_Values!Q174+Table_Values!$M$2)/Table_Values!L174))*360/256","v":27.001664201183434}]
[null,null,null,null,null,null,null,null,null,null,null,null,null,null,null,null,null,null,null,null,null,null,null,null,null,null,null,null,null,null,null,null,null,1395.0892857142856,{"$f":"(Table_Values!$E$3-((Table_Values!J173+Table_Values!$F$2)/Table_Values!E173))*360/256","v":23.998325892857142},{"$f":"(Table_Values!$E$3-((Table_Values!Q173+Table_Values!$M$2)/Table_Values!L173))*360/256","v":27.003348214285715}]
[null,null,null,null,null,null,null,null,null,null,null,null,null,null,null,null,null,null,null,null,null,null,null,null,null,null,null,null,null,null,null,null,null,1403.4431137724553,{"$f":"(Table_Values!$E$3-((Table_Values!J172+Table_Values!$F$2)/Table_Values!E172))*360/256","v":23.998877245508982},{"$f":"(Table_Values!$E$3-((Table_Values!Q172+Table_Values!$M$2)/Table_Values!L172))*360/256","v":26.996631736526947}]
[null,null,null,null,null,null,null,null,null,null,null,null,null,null,null,null,null,null,null,null,null,null,null,null,null,null,null,null,null,null,null,null,null,1411.897590361446,{"$f":"(Table_Values!$E$3-((Table_Values!J171+Table_Values!$F$2)/Table_Values!E171))*360/256","v":23.999435240963859},{"$f":"(Table_Values!$E$3-((Table_Values!Q171+Table_Values!$M$2)/Table_Values!L171))*360/256","v":26.998305722891562}]
[null,null,null,null,null,null,null,null,null,null,null,null,null,null,null,null,null,null,null,null,null,null,null,null,null,null,null,null,null,null,null,null,null,1420.4545454545455,{"$f":"(Table_Values!$E$3-((Table_Values!J170+Table_Values!$F$2)/Table_Values!E170))*360/256","v":24},{"$f":"(Table_Values!$E$3-((Table_Values!Q170+Table_Values!$M$2)/Table_Values!L170))*360/256","v":27}]
[null,null,null,null,null,null,null,null,null,null,null,null,null,null,null,null,null,null,null,null,null,null,null,null,null,null,null,null,null,null,null,null,null,1429.1158536585367,{"$f":"(Table_Values!$E$3-((Table_Values!J169+Table_Values!$F$2)/Table_Values!E169))*360/256","v":24.000571646341463},{"$f":"(Table_Values!$E$3-((Table_Values!Q169+Table_Values!$M$2)/Table_Values!L169))*360/256","v":27.001714939024392}]
[null,null,null,null,null,null,null,null,null,null,null,null,null,null,null,null,null,null,null,null,null,null,null,null,null,null,null,null,null,null,null,null,null,1437.8834355828221,{"$f":"(Table_Values!$E$3-((Table_Values!J168+Table_Values!$F$2)/Table_Values!E168))*360/256","v":24.001150306748468},{"$f":"(Table_Values!$E$3-((Table_Values!Q168+Table_Values!$M$2)/Table_Values!L168))*360/256","v":27.003450920245395}]
[null,null,null,null,null,null,null,null,null,null,null,null,null,null,null,null,null,null,null,null,null,null,null,null,null,null,null,null,null,null,null,null,null,1446.7592592592591,{"$f":"(Table_Values!$E$3-((Table_Values!J167+Table_Values!$F$2)/Table_Values!E167))*360/256","v":24.001736111111111},{"$f":"(Table_Values!$E$3-((Table_Values!Q167+Table_Values!$M$2)/Table_Values!L167))*360/256","v":26.996527777777779}]
[null,null,null,null,null,null,null,null,null,null,null,null,null,null,null,null,null,null,null,null,null,null,null,null,null,null,null,null,null,null,null,null,null,1455.7453416149067,{"$f":"(Table_Values!$E$3-((Table_Values!J166+Table_Values!$F$2)/Table_Values!E166))*360/256","v":24.002329192546586},{"$f":"(Table_Values!$E$3-((Table_Values!Q166+Table_Values!$M$2)/Table_Values!L166))*360/256","v":26.998253105590063}]
[null,null,null,null,null,null,null,null,null,null,null,null,null,null,null,null,null,null,null,null,null,null,null,null,null,null,null,null,null,null,null,null,null,1464.84375,{"$f":"(Table_Values!$E$3-((Table_Values!J165+Table_Values!$F$2)/Table_Values!E165))*360/256","v":24.002929687500004},{"$f":"(Table_Values!$E$3-((Table_Values!Q165+Table_Values!$M$2)/Table_Values!L165))*360/256","v":27}]
[null,null,null,null,null,null,null,null,null,null,null,null,null,null,null,null,null,null,null,null,null,null,null,null,null,null,null,null,null,null,null,null,null,1474.056603773585,{"$f":"(Table_Values!$E$3-((Table_Values!J164+Table_Values!$F$2)/Table_Values!E164))*360/256","v":24.003537735849054},{"$f":"(Table_Values!$E$3-((Table_Values!Q164+Table_Values!$M$2)/Table_Values!L164))*360/256","v":27.001768867924529}]
[null,null,null,null,null,null,null,null,null,null,null,null,null,null,null,null,null,null,null,null,null,null,null,null,null,null,null,null,null,null,null,null,null,1483.3860759493671,{"$f":"(Table_Values!$E$3-((Table_Values!J163+Table_Values!$F$2)/Table_Values!E163))*360/256","v":24.004153481012661},{"$f":"(Table_Values!$E$3-((Table_Values!Q163+Table_Values!$M$2)/Table_Values!L163))*360/256","v":27.003560126582279}]
[null,null,null,null,null,null,null,null,null,null,null,null,null,null,null,null,null,null,null,null,null,null,null,null,null,null,null,null,null,null,null,null,null,1492.8343949044586,{"$f":"(Table_Values!$E$3-((Table_Values!J162+Table_Values!$F$2)/Table_Values!E162))*360/256","v":23.995820063694268},{"$f":"(Table_Values!$E$3-((Table_Values!Q162+Table_Values!$M$2)/Table_Values!L162))*360/256","v":26.996417197452232}]
[null,null,null,null,null,null,null,null,null,null,null,null,null,null,null,null,null,null,null,null,null,null,null,null,null,null,null,null,null,null,null,null,null,1502.4038461538462,{"$f":"(Table_Values!$E$3-((Table_Values!J161+Table_Values!$F$2)/Table_Values!E161))*360/256","v":23.996394230769226},{"$f":"(Table_Values!$E$3-((Table_Values!Q161+Table_Values!$M$2)/Table_Values!L161))*360/256","v":26.998197115384617}]
[null,null,null,null,null,null,null,null,null,null,null,null,null,null,null,null,null,null,null,null,null,null,null,null,null,null,null,null,null,null,null,null,null,1512.0967741935483,{"$f":"(Table_Values!$E$3-((Table_Values!J160+Table_Values!$F$2)/Table_Values!E160))*360/256","v":23.996975806451609},{"$f":"(Table_Values!$E$3-((Table_Values!Q160+Table_Values!$M$2)/Table_Values!L160))*360/256","v":27}]
[null,null,null,null,null,null,null,null,null,null,null,null,null,null,null,null,null,null,null,null,null,null,null,null,null,null,null,null,null,null,null,null,null,1521.9155844155846,{"$f":"(Table_Values!$E$3-((Table_Values!J159+Table_Values!$F$2)/Table_Values!E159))*360/256","v":23.997564935064933},{"$f":"(Table_Values!$E$3-((Table_Values!Q159+Table_Values!$M$2)/Table_Values!L159))*360/256","v":27.001826298701296}]
[null,null,null,null,null,null,null,null,null,null,null,null,null,null,null,null,null,null,null,null,null,null,null,null,null,null,null,null,null,null,null,null,null,1531.8627450980393,{"$f":"(Table_Values!$E$3-((Table_Values!J158+Table_Values!$F$2)/Table_Values!E158))*360/256","v":23.99816176470588},{"$f":"(Table_Values!$E$3-((Table_Values!Q158+Table_Values!$M$2)/Table_Values!L158))*360/256","v":27.003676470588236}]
[null,null,null,null,null,null,null,null,null,null,null,null,null,null,null,null,null,null,null,null,null,null,null,null,null,null,null,null,null,null,null,null,null,1541.9407894736842,{"$f":"(Table_Values!$E$3-((Table_Values!J157+Table_Values!$F$2)/Table_Values!E157))*360/256","v":23.998766447368425},{"$f":"(Table_Values!$E$3-((Table_Values!Q157+Table_Values!$M$2)/Table_Values!L157))*360/256","v":26.99629934210526}]
[null,null,null,null,null,null,null,null,null,null,null,null,null,null,null,null,null,null,null,null,null,null,null,null,null,null,null,null,null,null,null,null,null,1552.1523178807947,{"$f":"(Table_Values!$E$3-((Table_Values!J156+Table_Values!$F$2)/Table_Values!E156))*360/256","v":23.999379139072843},{"$f":"(Table_Values!$E$3-((Table_Values!Q156+Table_Values!$M$2)/Table_Values!L156))*360/256","v":26.998137417218544}]
[null,null,null,null,null,null,null,null,null,null,null,null,null,null,null,null,null,null,null,null,null,null,null,null,null,null,null,null,null,null,null,null,null,1562.5,{"$f":"(Table_Values!$E$3-((Table_Values!J155+Table_Values!$F$2)/Table_Values!E155))*360/256","v":24},{"$f":"(Table_Values!$E$3-((Table_Values!Q155+Table_Values!$M$2)/Table_Values!L155))*360/256","v":27}]
[null,null,null,null,null,null,null,null,null,null,null,null,null,null,null,null,null,null,null,null,null,null,null,null,null,null,null,null,null,null,null,null,null,1572.9865771812081,{"$f":"(Table_Values!$E$3-((Table_Values!J154+Table_Values!$F$2)/Table_Values!E154))*360/256","v":24.000629194630871},{"$f":"(Table_Values!$E$3-((Table_Values!Q154+Table_Values!$M$2)/Table_Values!L154))*360/256","v":27.001887583892614}]
[null,null,null,null,null,null,null,null,null,null,null,null,null,null,null,null,null,null,null,null,null,null,null,null,null,null,null,null,null,null,null,null,null,1583.614864864865,{"$f":"(Table_Values!$E$3-((Table_Values!J153+Table_Values!$F$2)/Table_Values!E153))*360/256","v":24.001266891891895},{"$f":"(Table_Values!$E$3-((Table_Values!Q153+Table_Values!$M$2)/Table_Values!L153))*360/256","v":27.003800675675674}]
[null,null,null,null,null,null,null,null,null,null,null,null,null,null,null,null,null,null,null,null,null,null,null,null,null,null,null,null,null,null,null,null,null,1594.3877551020407,{"$f":"(Table_Values!$E$3-((Table_Values!J152+Table_Values!$F$2)/Table_Values!E152))*360/256","v":24.001913265306122},{"$f":"(Table_Values!$E$3-((Table_Values!Q152+Table_Values!$M$2)/Table_Values!L152))*360/256","v":26.996173469387752}]
[null,null,null,null,null,null,null,null,null,null,null,null,null,null,null,null,null,null,null,null,null,null,null,null,null,null,null,null,null,null,null,null,null,1605.308219178082,{"$f":"(Table_Values!$E$3-((Table_Values!J151+Table_Values!$F$2)/Table_Values!E151))*360/256","v":24.002568493150683},{"$f":"(Table_Values!$E$3-((Table_Values!Q151+Table_Values!$M$2)/Table_Values!L151))*360/256","v":26.998073630136989}]
[null,null,null,null,null,null,null,null,null,null,null,null,null,null,null,null,null,null,null,null,null,null,null,null,null,null,null,null,null,null,null,null,null,1616.3793103448277,{"$f":"(Table_Values!$E$3-((Table_Values!J150+Table_Values!$F$2)/Table_Values!E150))*360/256","v":24.00323275862069},{"$f":"(Table_Values!$E$3-((Table_Values!Q150+Table_Values!$M$2)/Table_Values!L150))*360/256","v":27}]
[null,null,null,null,null,null,null,null,null,null,null,null,null,null,null,null,null,null,null,null,null,null,null,null,null,null,null,null,null,null,null,null,null,1627.6041666666665,{"$f":"(Table_Values!$E$3-((Table_Values!J149+Table_Values!$F$2)/Table_Values!E149))*360/256","v":24.003906249999996},{"$f":"(Table_Values!$E$3-((Table_Values!Q149+Table_Values!$M$2)/Table_Values!L149))*360/256","v":27.001953125}]
[null,null,null,null,null,null,null,null,null,null,null,null,null,null,null,null,null,null,null,null,null,null,null,null,null,null,null,null,null,null,null,null,null,1638.9860139860141,{"$f":"(Table_Values!$E$3-((Table_Values!J148+Table_Values!$F$2)/Table_Values!E148))*360/256","v":24.00458916083916},{"$f":"(Table_Values!$E$3-((Table_Values!Q148+Table_Values!$M$2)/Table_Values!L148))*360/256","v":27.003933566433567}]
[null,null,null,null,null,null,null,null,null,null,null,null,null,null,null,null,null,null,null,null,null,null,null,null,null,null,null,null,null,null,null,null,null,1650.5281690140846,{"$f":"(Table_Values!$E$3-((Table_Values!J147+Table_Values!$F$2)/Table_Values!E147))*360/256","v":23.99537852112676},{"$f":"(Table_Values!$E$3-((Table_Values!Q147+Table_Values!$M$2)/Table_Values!L147))*360/256","v":26.996038732394368}]
[null,null,null,null,null,null,null,null,null,null,null,null,null,null,null,null,null,null,null,null,null,null,null,null,null,null,null,null,null,null,null,null,null,1662.2340425531916,{"$f":"(Table_Values!$E$3-((Table_Values!J146+Table_Values!$F$2)/Table_Values!E146))*360/256","v":23.996010638297872},{"$f":"(Table_Values!$E$3-((Table_Values!Q146+Table_Values!$M$2)/Table_Values!L146))*360/256","v":26.998005319148938}]
[null,null,null,null,null,null,null,null,null,null,null,null,null,null,null,null,null,null,null,null,null,null,null,null,null,null,null,null,null,null,null,null,null,1674.1071428571429,{"$f":"(Table_Values!$E$3-((Table_Values!J145+Table_Values!$F$2)/Table_Values!E145))*360/256","v":23.996651785714288},{"$f":"(Table_Values!$E$3-((Table_Values!Q145+Table_Values!$M$2)/Table_Values!L145))*360/256","v":27}]
[null,null,null,null,null,null,null,null,null,null,null,null,null,null,null,null,null,null,null,null,null,null,null,null,null,null,null,null,null,null,null,null,null,1686.1510791366907,{"$f":"(Table_Values!$E$3-((Table_Values!J144+Table_Values!$F$2)/Table_Values!E144))*360/256","v":23.997302158273381},{"$f":"(Table_Values!$E$3-((Table_Values!Q144+Table_Values!$M$2)/Table_Values!L144))*360/256","v":27.002023381294968}]
[null,null,null,null,null,null,null,null,null,null,null,null,null,null,null,null,null,null,null,null,null,null,null,null,null,null,null,null,null,null,null,null,null,1698.3695652173913,{"$f":"(Table_Values!$E$3-((Table_Values!J143+Table_Values!$F$2)/Table_Values!E143))*360/256","v":23.997961956521738},{"$f":"(Table_Values!$E$3-((Table_Values!Q143+Table_Values!$M$2)/Table_Values!L143))*360/256","v":27.00407608695652}]
[null,null,null,null,null,null,null,null,null,null,null,null,null,null,null,null,null,null,null,null,null,null,null,null,null,null,null,null,null,null,null,null,null,1710.7664233576643,{"$f":"(Table_Values!$E$3-((Table_Values!J142+Table_Values!$F$2)/Table_Values!E142))*360/256","v":23.998631386861316},{"$f":"(Table_Values!$E$3-((Table_Values!Q142+Table_Values!$M$2)/Table_Values!L142))*360/256","v":26.995894160583941}]
[null,null,null,null,null,null,null,null,null,null,null,null,null,null,null,null,null,null,null,null,null,null,null,null,null,null,null,null,null,null,null,null,null,1723.3455882352941,{"$f":"(Table_Values!$E$3-((Table_Values!J141+Table_Values!$F$2)/Table_Values!E141))*360/256","v":23.999310661764707},{"$f":"(Table_Values!$E$3-((Table_Values!Q141+Table_Values!$M$2)/Table_Values!L141))*360/256","v":26.99793198529412}]
[null,null,null,null,null,null,null,null,null,null,null,null,null,null,null,null,null,null,null,null,null,null,null,null,null,null,null,null,null,null,null,null,null,1736.1111111111111,{"$f":"(Table_Values!$E$3-((Table_Values!J140+Table_Values!$F$2)/Table_Values!E140))*360/256","v":24},{"$f":"(Table_Values!$E$3-((Table_Values!Q140+Table_Values!$M$2)/Table_Values!L140))*360/256","v":27}]
[null,null,null,null,null,null,null,null,null,null,null,null,null,null,null,null,null,null,null,null,null,null,null,null,null,null,null,null,null,null,null,null,null,1749.0671641791043,{"$f":"(Table_Values!$E$3-((Table_Values!J139+Table_Values!$F$2)/Table_Values!E139))*360/256","v":24.000699626865671},{"$f":"(Table_Values!$E$3-((Table_Values!Q139+Table_Values!$M$2)/Table_Values!L139))*360/256","v":27.002098880597018}]
[null,null,null,null,null,null,null,null,null,null,null,null,null,null,null,null,null,null,null,null,null,null,null,null,null,null,null,null,null,null,null,null,null,1762.218045112782,{"$f":"(Table_Values!$E$3-((Table_Values!J138+Table_Values!$F$2)/Table_Values!E138))*360/256","v":24.001409774436091},{"$f":"(Table_Values!$E$3-((Table_Values!Q138+Table_Values!$M$2)/Table_Values!L138))*360/256","v":27.004229323308273}]
[null,null,null,null,null,null,null,null,null,null,null,null,null,null,null,null,null,null,null,null,null,null,null,null,null,null,null,null,null,null,null,null,null,1775.5681818181818,{"$f":"(Table_Values!$E$3-((Table_Values!J137+Table_Values!$F$2)/Table_Values!E137))*360/256","v":24.002130681818183},{"$f":"(Table_Values!$E$3-((Table_Values!Q137+Table_Values!$M$2)/Table_Values!L137))*360/256","v":26.995738636363633}]
[null,null,null,null,null,null,null,null,null,null,null,null,null,null,null,null,null,null,null,null,null,null,null,null,null,null,null,null,null,null,null,null,null,1789.1221374045801,{"$f":"(Table_Values!$E$3-((Table_Values!J136+Table_Values!$F$2)/Table_Values!E136))*360/256","v":24.002862595419849},{"$f":"(Table_Values!$E$3-((Table_Values!Q136+Table_Values!$M$2)/Table_Values!L136))*360/256","v":26.997853053435115}]
[null,null,null,null,null,null,null,null,null,null,null,null,null,null,null,null,null,null,null,null,null,null,null,null,null,null,null,null,null,null,null,null,null,1802.8846153846155,{"$f":"(Table_Values!$E$3-((Table_Values!J135+Table_Values!$F$2)/Table_Values!E135))*360/256","v":24.00360576923077},{"$f":"(Table_Values!$E$3-((Table_Values!Q135+Table_Values!$M$2)/Table_Values!L135))*360/256","v":27}]
[null,null,null,null,null,null,null,null,null,null,null,null,null,null,null,null,null,null,null,null,null,null,null,null,null,null,null,null,null,null,null,null,null,1816.8604651162791,{"$f":"(Table_Values!$E$3-((Table_Values!J134+Table_Values!$F$2)/Table_Values!E134))*360/256","v":24.004360465116278},{"$f":"(Table_Values!$E$3-((Table_Values!Q134+Table_Values!$M$2)/Table_Values!L134))*360/256","v":27.002180232558139}]
[null,null,null,null,null,null,null,null,null,null,null,null,null,null,null,null,null,null,null,null,null,null,null,null,null,null,null,null,null,null,null,null,null,1831.0546875,{"$f":"(Table_Values!$E$3-((Table_Values!J133+Table_Values!$F$2)/Table_Values!E133))*360/256","v":24.005126953125},{"$f":"(Table_Values!$E$3-((Table_Values!Q133+Table_Values!$M$2)/Table_Values!L133))*360/256","v":27.00439453125}]
[null,null,null,null,null,null,null,null,null,null,null,null,null,null,null,null,null,null,null,null,null,null,null,null,null,null,null,null,null,null,null,null,null,1845.4724409448818,{"$f":"(Table_Values!$E$3-((Table_Values!J132+Table_Values!$F$2)/Table_Values!E132))*360/256","v":23.994832677165356},{"$f":"(Table_Values!$E$3-((Table_Values!Q132+Table_Values!$M$2)/Table_Values!L132))*360/256","v":26.99557086614173}]
[null,null,null,null,null,null,null,null,null,null,null,null,null,null,null,null,null,null,null,null,null,null,null,null,null,null,null,null,null,null,null,null,null,1860.1190476190475,{"$f":"(Table_Values!$E$3-((Table_Values!J131+Table_Values!$F$2)/Table_Values!E131))*360/256","v":23.995535714285715},{"$f":"(Table_Values!$E$3-((Table_Values!Q131+Table_Values!$M$2)/Table_Values!L131))*360/256","v":26.997767857142854}]
[null,null,null,null,null,null,null,null,null,null,null,null,null,null,null,null,null,null,null,null,null,null,null,null,null,null,null,null,null,null,null,null,null,1875,{"$f":"(Table_Values!$E$3-((Table_Values!J130+Table_Values!$F$2)/Table_Values!E130))*360/256","v":23.99625},{"$f":"(Table_Values!$E$3-((Table_Values!Q130+Table_Values!$M$2)/Table_Values!L130))*360/256","v":27}]
[null,null,null,null,null,null,null,null,null,null,null,null,null,null,null,null,null,null,null,null,null,null,null,null,null,null,null,null,null,null,null,null,null,1890.1209677419354,{"$f":"(Table_Values!$E$3-((Table_Values!J129+Table_Values!$F$2)/Table_Values!E129))*360/256","v":23.996975806451609},{"$f":"(Table_Values!$E$3-((Table_Values!Q129+Table_Values!$M$2)/Table_Values!L129))*360/256","v":27.002268145161292}]
[null,null,null,null,null,null,null,null,null,null,null,null,null,null,null,null,null,null,null,null,null,null,null,null,null,null,null,null,null,null,null,null,null,1905.487804878049,{"$f":"(Table_Values!$E$3-((Table_Values!J128+Table_Values!$F$2)/Table_Values!E128))*360/256","v":23.997713414634141},{"$f":"(Table_Values!$E$3-((Table_Values!Q128+Table_Values!$M$2)/Table_Values!L128))*360/256","v":27.004573170731707}]
[null,null,null,null,null,null,null,null,null,null,null,null,null,null,null,null,null,null,null,null,null,null,null,null,null,null,null,null,null,null,null,null,null,1921.1065573770493,{"$f":"(Table_Values!$E$3-((Table_Values!J127+Table_Values!$F$2)/Table_Values!E127))*360/256","v":23.998463114754099},{"$f":"(Table_Values!$E$3-((Table_Values!Q127+Table_Values!$M$2)/Table_Values!L127))*360/256","v":26.995389344262293}]
[null,null,null,null,null,null,null,null,null,null,null,null,null,null,null,null,null,null,null,null,null,null,null,null,null,null,null,null,null,null,null,null,null,1936.9834710743803,{"$f":"(Table_Values!$E$3-((Table_Values!J126+Table_Values!$F$2)/Table_Values!E126))*360/256","v":23.999225206611566},{"$f":"(Table_Values!$E$3-((Table_Values!Q126+Table_Values!$M$2)/Table_Values!L126))*360/256","v":26.997675619834713}]
[null,null,null,null,null,null,null,null,null,null,null,null,null,null,null,null,null,null,null,null,null,null,null,null,null,null,null,null,null,null,null,null,null,1953.125,{"$f":"(Table_Values!$E$3-((Table_Values!J125+Table_Values!$F$2)/Table_Values!E125))*360/256","v":24},{"$f":"(Table_Values!$E$3-((Table_Values!Q125+Table_Values!$M$2)/Table_Values!L125))*360/256","v":27}]
[null,null,null,null,null,null,null,null,null,null,null,null,null,null,null,null,null,null,null,null,null,null,null,null,null,null,null,null,null,null,null,null,null,1969.5378151260504,{"$f":"(Table_Values!$E$3-((Table_Values!J124+Table_Values!$F$2)/Table_Values!E124))*360/256","v":24.000787815126049},{"$f":"(Table_Values!$E$3-((Table_Values!Q124+Table_Values!$M$2)/Table_Values!L124))*360/256","v":27.002363445378151}]
[null,null,null,null,null,null,null,null,null,null,null,null,null,null,null,null,null,null,null,null,null,null,null,null,null,null,null,null,null,null,null,null,null,1986.2288135593221,{"$f":"(Table_Values!$E$3-((Table_Values!J123+Table_Values!$F$2)/Table_Values!E123))*360/256","v":24.001588983050848},{"$f":"(Table_Values!$E$3-((Table_Values!Q123+Table_Values!$M$2)/Table_Values!L123))*360/256","v":27.004766949152543}]
[null,null,null,null,null,null,null,null,null,null,null,null,null,null,null,null,null,null,null,null,null,null,null,null,null,null,null,null,null,null,null,null,null,2003.2051282051284,{"$f":"(Table_Values!$E$3-((Table_Values!J122+Table_Values!$F$2)/Table_Values!E122))*360/256","v":24.002403846153847},{"$f":"(Table_Values!$E$3-((Table_Values!Q122+Table_Values!$M$2)/Table_Values!L122))*360/256","v":26.995192307692307}]
[null,null,null,null,null,null,null,null,null,null,null,null,null,null,null,null,null,null,null,null,null,null,null,null,null,null,null,null,null,null,null,null,null,2020.4741379310344,{"$f":"(Table_Values!$E$3-((Table_Values!J121+Table_Values!$F$2)/Table_Values!E121))*360/256","v":24.00323275862069},{"$f":"(Table_Values!$E$3-((Table_Values!Q121+Table_Values!$M$2)/Table_Values!L121))*360/256","v":26.997575431034488}]
[null,null,null,null,null,null,null,null,null,null,null,null,null,null,null,null,null,null,null,null,null,null,null,null,null,null,null,null,null,null,null,null,null,2038.0434782608695,{"$f":"(Table_Values!$E$3-((Table_Values!J120+Table_Values!$F$2)/Table_Values!E120))*360/256","v":24.00407608695652},{"$f":"(Table_Values!$E$3-((Table_Values!Q120+Table_Values!$M$2)/Table_Values!L120))*360/256","v":27}]
[null,null,null,null,null,null,null,null,null,null,null,null,null,null,null,null,null,null,null,null,null,null,null,null,null,null,null,null,null,null,null,null,null,2055.9210526315787,{"$f":"(Table_Values!$E$3-((Table_Values!J119+Table_Values!$F$2)/Table_Values!E119))*360/256","v":24.004934210526319},{"$f":"(Table_Values!$E$3-((Table_Values!Q119+Table_Values!$M$2)/Table_Values!L119))*360/256","v":27.002467105263158}]
[null,null,null,null,null,null,null,null,null,null,null,null,null,null,null,null,null,null,null,null,null,null,null,null,null,null,null,null,null,null,null,null,null,2074.1150442477874,{"$f":"(Table_Values!$E$3-((Table_Values!J118+Table_Values!$F$2)/Table_Values!E118))*360/256","v":24.005807522123895},{"$f":"(Table_Values!$E$3-((Table_Values!Q118+Table_Values!$M$2)/Table_Values!L118))*360/256","v":27.004977876106196}]
[null,null,null,null,null,null,null,null,null,null,null,null,null,null,null,null,null,null,null,null,null,null,null,null,null,null,null,null,null,null,null,null,null,2092.6339285714284,{"$f":"(Table_Values!$E$3-((Table_Values!J117+Table_Values!$F$2)/Table_Values!E117))*360/256","v":23.994140625},{"$f":"(Table_Values!$E$3-((Table_Values!Q117+Table_Values!$M$2)/Table_Values!L117))*360/256","v":26.994977678571427}]
[null,null,null,null,null,null,null,null,null,null,null,null,null,null,null,null,null,null,null,null,null,null,null,null,null,null,null,null,null,null,null,null,null,2111.4864864864867,{"$f":"(Table_Values!$E$3-((Table_Values!J116+Table_Values!$F$2)/Table_Values!E116))*360/256","v":23.994932432432432},{"$f":"(Table_Values!$E$3-((Table_Values!Q116+Table_Values!$M$2)/Table_Values!L116))*360/256","v":26.997466216216218}]
[null,null,null,null,null,null,null,null,null,null,null,null,null,null,null,null,null,null,null,null,null,null,null,null,null,null,null,null,null,null,null,null,null,2130.681818181818,{"$f":"(Table_Values!$E$3-((Table_Values!J115+Table_Values!$F$2)/Table_Values!E115))*360/256","v":23.995738636363633},{"$f":"(Table_Values!$E$3-((Table_Values!Q115+Table_Values!$M$2)/Table_Values!L115))*360/256","v":27}]
[null,null,null,null,null,null,null,null,null,null,null,null,null,null,null,null,null,null,null,null,null,null,null,null,null,null,null,null,null,null,null,null,null,2150.2293577981654,{"$f":"(Table_Values!$E$3-((Table_Values!J114+Table_Values!$F$2)/Table_Values!E114))*360/256","v":23.996559633027523},{"$f":"(Table_Values!$E$3-((Table_Values!Q114+Table_Values!$M$2)/Table_Values!L114))*360/256","v":27.002580275229356}]
[null,null,null,null,null,null,null,null,null,null,null,null,null,null,null,null,null,null,null,null,null,null,null,null,null,null,null,null,null,null,null,null,null,2170.1388888888887,{"$f":"(Table_Values!$E$3-((Table_Values!J113+Table_Values!$F$2)/Table_Values!E113))*360/256","v":23.997395833333336},{"$f":"(Table_Values!$E$3-((Table_Values!Q113+Table_Values!$M$2)/Table_Values!L113))*360/256","v":27.005208333333332}]
[null,null,null,null,null,null,null,null,null,null,null,null,null,null,null,null,null,null,null,null,null,null,null,null,null,null,null,null,null,null,null,null,null,2190.4205607476633,{"$f":"(Table_Values!$E$3-((Table_Values!J112+Table_Values!$F$2)/Table_Values!E112))*360/256","v":23.9982476635514},{"$f":"(Table_Values!$E$3-((Table_Values!Q112+Table_Values!$M$2)/Table_Values!L112))*360/256","v":26.994742990654206}]
[null,null,null,null,null,null,null,null,null,null,null,null,null,null,null,null,null,null,null,null,null,null,null,null,null,null,null,null,null,null,null,null,null,2211.0849056603774,{"$f":"(Table_Values!$E$3-((Table_Values!J111+Table_Values!$F$2)/Table_Values!E111))*360/256","v":23.999115566037737},{"$f":"(Table_Values!$E$3-((Table_Values!Q111+Table_Values!$M$2)/Table_Values!L111))*360/256","v":26.997346698113208}]
[null,null,null,null,null,null,null,null,null,null,null,null,null,null,null,null,null,null,null,null,null,null,null,null,null,null,null,null,null,null,null,null,null,2232.1428571428573,{"$f":"(Table_Values!$E$3-((Table_Values!J110+Table_Values!$F$2)/Table_Values!E110))*360/256","v":24},{"$f":"(Table_Values!$E$3-((Table_Values!Q110+Table_Values!$M$2)/Table_Values!L110))*360/256","v":27}]
[null,null,null,null,null,null,null,null,null,null,null,null,null,null,null,null,null,null,null,null,null,null,null,null,null,null,null,null,null,null,null,null,null,2253.6057692307695,{"$f":"(Table_Values!$E$3-((Table_Values!J109+Table_Values!$F$2)/Table_Values!E109))*360/256","v":24.000901442307693},{"$f":"(Table_Values!$E$3-((Table_Values!Q109+Table_Values!$M$2)/Table_Values!L109))*360/256","v":27.002704326923077}]
[null,null,null,null,null,null,null,null,null,null,null,null,null,null,null,null,null,null,null,null,null,null,null,null,null,null,null,null,null,null,null,null,null,2275.4854368932038,{"$f":"(Table_Values!$E$3-((Table_Values!J108+Table_Values!$F$2)/Table_Values!E108))*360/256","v":24.001820388349515},{"$f":"(Table_Values!$E$3-((Table_Values!Q108+Table_Values!$M$2)/Table_Values!L108))*360/256","v":27.005461165048544}]
[null,null,null,null,null,null,null,null,null,null,null,null,null,null,null,null,null,null,null,null,null,null,null,null,null,null,null,null,null,null,null,null,null,2297.794117647059,{"$f":"(Table_Values!$E$3-((Table_Values!J107+Table_Values!$F$2)/Table_Values!E107))*360/256","v":24.002757352941178},{"$f":"(Table_Values!$E$3-((Table_Values!Q107+Table_Values!$M$2)/Table_Values!L107))*360/256","v":26.994485294117645}]
[null,null,null,null,null,null,null,null,null,null,null,null,null,null,null,null,null,null,null,null,null,null,null,null,null,null,null,null,null,null,null,null,null,2320.5445544554455,{"$f":"(Table_Values!$E$3-((Table_Values!J106+Table_Values!$F$2)/Table_Values!E106))*360/256","v":24.003712871287124},{"$f":"(Table_Values!$E$3-((Table_Values!Q106+Table_Values!$M$2)/Table_Values!L106))*360/256","v":26.997215346534652}]
[null,null,null,null,null,null,null,null,null,null,null,null,null,null,null,null,null,null,null,null,null,null,null,null,null,null,null,null,null,null,null,null,null,2343.75,{"$f":"(Table_Values!$E$3-((Table_Values!J105+Table_Values!$F$2)/Table_Values!E105))*360/256","v":24.004687499999999},{"$f":"(Table_Values!$E$3-((Table_Values!Q105+Table_Values!$M$2)/Table_Values!L105))*360/256","v":27}]
[null,null,null,null,null,null,null,null,null,null,null,null,null,null,null,null,null,null,null,null,null,null,null,null,null,null,null,null,null,null,null,null,null,2367.4242424242425,{"$f":"(Table_Values!$E$3-((Table_Values!J104+Table_Values!$F$2)/Table_Values!E104))*360/256","v":24.00568181818182},{"$f":"(Table_Values!$E$3-((Table_Values!Q104+Table_Values!$M$2)/Table_Values!L104))*360/256","v":27.002840909090907}]
[null,null,null,null,null,null,null,null,null,null,null,null,null,null,null,null,null,null,null,null,null,null,null,null,null,null,null,null,null,null,null,null,null,2391.5816326530612,{"$f":"(Table_Values!$E$3-((Table_Values!J103+Table_Values!$F$2)/Table_Values!E103))*360/256","v":24.006696428571427},{"$f":"(Table_Values!$E$3-((Table_Values!Q103+Table_Values!$M$2)/Table_Values!L103))*360/256","v":27.005739795918366}]
[null,null,null,null,null,null,null,null,null,null,null,null,null,null,null,null,null,null,null,null,null,null,null,null,null,null,null,null,null,null,null,null,null,2416.2371134020618,{"$f":"(Table_Values!$E$3-((Table_Values!J102+Table_Values!$F$2)/Table_Values!E102))*360/256","v":23.993234536082475},{"$f":"(Table_Values!$E$3-((Table_Values!Q102+Table_Values!$M$2)/Table_Values!L102))*360/256","v":26.994201030927833}]
[null,null,null,null,null,null,null,null,null,null,null,null,null,null,null,null,null,null,null,null,null,null,null,null,null,null,null,null,null,null,null,null,null,2441.40625,{"$f":"(Table_Values!$E$3-((Table_Values!J101+Table_Values!$F$2)/Table_Values!E101))*360/256","v":23.994140625},{"$f":"(Table_Values!$E$3-((Table_Values!Q101+Table_Values!$M$2)/Table_Values!L101))*360/256","v":26.997070312499996}]
[null,null,null,null,null,null,null,null,null,null,null,null,null,null,null,null,null,null,null,null,null,null,null,null,null,null,null,null,null,null,null,null,null,2467.1052631578946,{"$f":"(Table_Values!$E$3-((Table_Values!J100+Table_Values!$F$2)/Table_Values!E100))*360/256","v":23.995065789473681},{"$f":"(Table_Values!$E$3-((Table_Values!Q100+Table_Values!$M$2)/Table_Values!L100))*360/256","v":27}]
[null,null,null,null,null,null,null,null,null,null,null,null,null,null,null,null,null,null,null,null,null,null,null,null,null,null,null,null,null,null,null,null,null,2493.3510638297871,{"$f":"(Table_Values!$E$3-((Table_Values!J99+Table_Values!$F$2)/Table_Values!E99))*360/256","v":23.996010638297872},{"$f":"(Table_Values!$E$3-((Table_Values!Q99+Table_Values!$M$2)/Table_Values!L99))*360/256","v":27.002992021276597}]
[null,null,null,null,null,null,null,null,null,null,null,null,null,null,null,null,null,null,null,null,null,null,null,null,null,null,null,null,null,null,null,null,null,2520.161290322581,{"$f":"(Table_Values!$E$3-((Table_Values!J98+Table_Values!$F$2)/Table_Values!E98))*360/256","v":23.996975806451609},{"$f":"(Table_Values!$E$3-((Table_Values!Q98+Table_Values!$M$2)/Table_Values!L98))*360/256","v":27.006048387096772}]
[null,null,null,null,null,null,null,null,null,null,null,null,null,null,null,null,null,null,null,null,null,null,null,null,null,null,null,null,null,null,null,null,null,2547.554347826087,{"$f":"(Table_Values!$E$3-((Table_Values!J97+Table_Values!$F$2)/Table_Values!E97))*360/256","v":23.997961956521738},{"$f":"(Table_Values!$E$3-((Table_Values!Q97+Table_Values!$M$2)/Table_Values!L97))*360/256","v":26.993885869565215}]
[null,null,null,null,null,null,null,null,null,null,null,null,null,null,null,null,null,null,null,null,null,null,null,null,null,null,null,null,null,null,null,null,null,2575.5494505494507,{"$f":"(Table_Values!$E$3-((Table_Values!J96+Table_Values!$F$2)/Table_Values!E96))*360/256","v":23.998969780219781},{"$f":"(Table_Values!$E$3-((Table_Values!Q96+Table_Values!$M$2)/Table_Values!L96))*360/256","v":26.996909340659339}]
[null,null,null,null,null,null,null,null,null,null,null,null,null,null,null,null,null,null,null,null,null,null,null,null,null,null,null,null,null,null,null,null,null,2604.166666666667,{"$f":"(Table_Values!$E$3-((Table_Values!J95+Table_Values!$F$2)/Table_Values!E95))*360/256","v":24},{"$f":"(Table_Values!$E$3-((Table_Values!Q95+Table_Values!$M$2)/Table_Values!L95))*360/256","v":27}]
[null,null,null,null,null,null,null,null,null,null,null,null,null,null,null,null,null,null,null,null,null,null,null,null,null,null,null,null,null,null,null,null,null,2633.4269662921347,{"$f":"(Table_Values!$E$3-((Table_Values!J94+Table_Values!$F$2)/Table_Values!E94))*360/256","v":24.001053370786515},{"$f":"(Table_Values!$E$3-((Table_Values!Q94+Table_Values!$M$2)/Table_Values!L94))*360/256","v":27.003160112359549}]
[null,null,null,null,null,null,null,null,null,null,null,null,null,null,null,null,null,null,null,null,null,null,null,null,null,null,null,null,null,null,null,null,null,2663.352272727273,{"$f":"(Table_Values!$E$3-((Table_Values!J93+Table_Values!$F$2)/Table_Values!E93))*360/256","v":24.002130681818183},{"$f":"(Table_Values!$E$3-((Table_Values!Q93+Table_Values!$M$2)/Table_Values!L93))*360/256","v":27.006392045454543}]
[null,null,null,null,null,null,null,null,null,null,null,null,null,null,null,null,null,null,null,null,null,null,null,null,null,null,null,null,null,null,null,null,null,2693.9655172413791,{"$f":"(Table_Values!$E$3-((Table_Values!J92+Table_Values!$F$2)/Table_Values!E92))*360/256","v":24.00323275862069},{"$f":"(Table_Values!$E$3-((Table_Values!Q92+Table_Values!$M$2)/Table_Values!L92))*360/256","v":26.993534482758619}]
[null,null,null,null,null,null,null,null,null,null,null,null,null,null,null,null,null,null,null,null,null,null,null,null,null,null,null,null,null,null,null,null,null,2725.2906976744184,{"$f":"(Table_Values!$E$3-((Table_Values!J91+Table_Values!$F$2)/Table_Values!E91))*360/256","v":24.004360465116278},{"$f":"(Table_Values!$E$3-((Table_Values!Q91+Table_Values!$M$2)/Table_Values!L91))*360/256","v":26.996729651162788}]
[null,null,null,null,null,null,null,null,null,null,null,null,null,null,null,null,null,null,null,null,null,null,null,null,null,null,null,null,null,null,null,null,null,2757.3529411764707,{"$f":"(Table_Values!$E$3-((Table_Values!J90+Table_Values!$F$2)/Table_Values!E90))*360/256","v":24.005514705882351},{"$f":"(Table_Values!$E$3-((Table_Values!Q90+Table_Values!$M$2)/Table_Values!L90))*360/256","v":27}]
[null,null,null,null,null,null,null,null,null,null,null,null,null,null,null,null,null,null,null,null,null,null,null,null,null,null,null,null,null,null,null,null,null,2790.1785714285711,{"$f":"(Table_Values!$E$3-((Table_Values!J89+Table_Values!$F$2)/Table_Values!E89))*360/256","v":24.006696428571427},{"$f":"(Table_Values!$E$3-((Table_Values!Q89+Table_Values!$M$2)/Table_Values!L89))*360/256","v":27.003348214285715}]
[null,null,null,null,null,null,null,null,null,null,null,null,null,null,null,null,null,null,null,null,null,null,null,null,null,null,null,null,null,null,null,null,null,2823.7951807228919,{"$f":"(Table_Values!$E$3-((Table_Values!J88+Table_Values!$F$2)/Table_Values!E88))*360/256","v":24.007906626506021},{"$f":"(Table_Values!$E$3-((Table_Values!Q88+Table_Values!$M$2)/Table_Values!L88))*360/256","v":27.006777108433734}]
[null,null,null,null,null,null,null,null,null,null,null,null,null,null,null,null,null,null,null,null,null,null,null,null,null,null,null,null,null,null,null,null,null,2858.2317073170734,{"$f":"(Table_Values!$E$3-((Table_Values!J87+Table_Values!$F$2)/Table_Values!E87))*360/256","v":23.991996951219512},{"$f":"(Table_Values!$E$3-((Table_Values!Q87+Table_Values!$M$2)/Table_Values!L87))*360/256","v":26.993140243902438}]
[null,null,null,null,null,null,null,null,null,null,null,null,null,null,null,null,null,null,null,null,null,null,null,null,null,null,null,null,null,null,null,null,null,2893.5185185185182,{"$f":"(Table_Values!$E$3-((Table_Values!J86+Table_Values!$F$2)/Table_Values!E86))*360/256","v":23.993055555555554},{"$f":"(Table_Values!$E$3-((Table_Values!Q86+Table_Values!$M$2)/Table_Values!L86))*360/256","v":26.996527777777779}]
[null,null,null,null,null,null,null,null,null,null,null,null,null,null,null,null,null,null,null,null,null,null,null,null,null,null,null,null,null,null,null,null,null,2929.6875,{"$f":"(Table_Values!$E$3-((Table_Values!J85+Table_Values!$F$2)/Table_Values!E85))*360/256","v":23.994140625},{"$f":"(Table_Values!$E$3-((Table_Values!Q85+Table_Values!$M$2)/Table_Values!L85))*360/256","v":27}]
[null,null,null,null,null,null,null,null,null,null,null,null,null,null,null,null,null,null,null,null,null,null,null,null,null,null,null,null,null,null,null,null,null,2966.7721518987341,{"$f":"(Table_Values!$E$3-((Table_Values!J84+Table_Values!$F$2)/Table_Values!E84))*360/256","v":23.99525316455696},{"$f":"(Table_Values!$E$3-((Table_Values!Q84+Table_Values!$M$2)/Table_Values!L84))*360/256","v":27.003560126582279}]
[null,null,null,null,null,null,null,null,null,null,null,null,null,null,null,null,null,null,null,null,null,null,null,null,null,null,null,null,null,null,null,null,null,3004.8076923076924,{"$f":"(Table_Values!$E$3-((Table_Values!J83+Table_Values!$F$2)/Table_Values!E83))*360/256","v":23.996394230769226},{"$f":"(Table_Values!$E$3-((Table_Values!Q83+Table_Values!$M$2)/Table_Values!L83))*360/256","v":27.007211538461537}]
[null,null,null,null,null,null,null,null,null,null,null,null,null,null,null,null,null,null,null,null,null,null,null,null,null,null,null,null,null,null,null,null,null,3043.8311688311692,{"$f":"(Table_Values!$E$3-((Table_Values!J82+Table_Values!$F$2)/Table_Values!E82))*360/256","v":23.997564935064933},{"$f":"(Table_Values!$E$3-((Table_Values!Q82+Table_Values!$M$2)/Table_Values!L82))*360/256","v":26.992694805194805}]
[null,null,null,null,null,null,null,null,null,null,null,null,null,null,null,null,null,null,null,null,null,null,null,null,null,null,null,null,null,null,null,null,null,3083.8815789473683,{"$f":"(Table_Values!$E$3-((Table_Values!J81+Table_Values!$F$2)/Table_Values!E81))*360/256","v":23.998766447368425},{"$f":"(Table_Values!$E$3-((Table_Values!Q81+Table_Values!$M$2)/Table_Values!L81))*360/256","v":26.99629934210526}]
[null,null,null,null,null,null,null,null,null,null,null,null,null,null,null,null,null,null,null,null,null,null,null,null,null,null,null,null,null,null,null,null,null,3125,{"$f":"(Table_Values!$E$3-((Table_Values!J80+Table_Values!$F$2)/Table_Values!E80))*360/256","v":24},{"$f":"(Table_Values!$E$3-((Table_Values!Q80+Table_Values!$M$2)/Table_Values!L80))*360/256","v":27}]
[null,null,null,null,null,null,null,null,null,null,null,null,null,null,null,null,null,null,null,null,null,null,null,null,null,null,null,null,null,null,null,null,null,3167.22972972973,{"$f":"(Table_Values!$E$3-((Table_Values!J79+Table_Values!$F$2)/Table_Values!E79))*360/256","v":24.001266891891895},{"$f":"(Table_Values!$E$3-((Table_Values!Q79+Table_Values!$M$2)/Table_Values!L79))*360/256","v":27.003800675675674}]
[null,null,null,null,null,null,null,null,null,null,null,null,null,null,null,null,null,null,null,null,null,null,null,null,null,null,null,null,null,null,null,null,null,3210.6164383561641,{"$f":"(Table_Values!$E$3-((Table_Values!J78+Table_Values!$F$2)/Table_Values!E78))*360/256","v":24.002568493150683},{"$f":"(Table_Values!$E$3-((Table_Values!Q78+Table_Values!$M$2)/Table_Values!L78))*360/256","v":27.007705479452056}]
[null,null,null,null,null,null,null,null,null,null,null,null,null,null,null,null,null,null,null,null,null,null,null,null,null,null,null,null,null,null,null,null,null,3255.208333333333,{"$f":"(Table_Values!$E$3-((Table_Values!J77+Table_Values!$F$2)/Table_Values!E77))*360/256","v":24.003906249999996},{"$f":"(Table_Values!$E$3-((Table_Values!Q77+Table_Values!$M$2)/Table_Values!L77))*360/256","v":26.992187499999996}]
[null,null,null,null,null,null,null,null,null,null,null,null,null,null,null,null,null,null,null,null,null,null,null,null,null,null,null,null,null,null,null,null,null,3301.0563380281692,{"$f":"(Table_Values!$E$3-((Table_Values!J76+Table_Values!$F$2)/Table_Values!E76))*360/256","v":24.005281690140844},{"$f":"(Table_Values!$E$3-((Table_Values!Q76+Table_Values!$M$2)/Table_Values!L76))*360/256","v":26.996038732394368}]
[null,null,null,null,null,null,null,null,null,null,null,null,null,null,null,null,null,null,null,null,null,null,null,null,null,null,null,null,null,null,null,null,null,3348.2142857142858,{"$f":"(Table_Values!$E$3-((Table_Values!J75+Table_Values!$F$2)/Table_Values!E75))*360/256","v":24.006696428571427},{"$f":"(Table_Values!$E$3-((Table_Values!Q75+Table_Values!$M$2)/Table_Values!L75))*360/256","v":27}]
[null,null,null,null,null,null,null,null,null,null,null,null,null,null,null,null,null,null,null,null,null,null,null,null,null,null,null,null,null,null,null,null,null,3396.7391304347825,{"$f":"(Table_Values!$E$3-((Table_Values!J74+Table_Values!$F$2)/Table_Values!E74))*360/256","v":24.008152173913043},{"$f":"(Table_Values!$E$3-((Table_Values!Q74+Table_Values!$M$2)/Table_Values!L74))*360/256","v":27.00407608695652}]
[null,null,null,null,null,null,null,null,null,null,null,null,null,null,null,null,null,null,null,null,null,null,null,null,null,null,null,null,null,null,null,null,null,3446.6911764705883,{"$f":"(Table_Values!$E$3-((Table_Values!J73+Table_Values!$F$2)/Table_Values!E73))*360/256","v":24.00965073529412},{"$f":"(Table_Values!$E$3-((Table_Values!Q73+Table_Values!$M$2)/Table_Values!L73))*360/256","v":27.008272058823525}]
[null,null,null,null,null,null,null,null,null,null,null,null,null,null,null,null,null,null,null,null,null,null,null,null,null,null,null,null,null,null,null,null,null,3498.1343283582087,{"$f":"(Table_Values!$E$3-((Table_Values!J72+Table_Values!$F$2)/Table_Values!E72))*360/256","v":23.990205223880597},{"$f":"(Table_Values!$E$3-((Table_Values!Q72+Table_Values!$M$2)/Table_Values!L72))*360/256","v":26.99160447761194}]
[null,null,null,null,null,null,null,null,null,null,null,null,null,null,null,null,null,null,null,null,null,null,null,null,null,null,null,null,null,null,null,null,null,3551.1363636363635,{"$f":"(Table_Values!$E$3-((Table_Values!J71+Table_Values!$F$2)/Table_Values!E71))*360/256","v":23.991477272727273},{"$f":"(Table_Values!$E$3-((Table_Values!Q71+Table_Values!$M$2)/Table_Values!L71))*360/256","v":26.995738636363633}]
[null,null,null,null,null,null,null,null,null,null,null,null,null,null,null,null,null,null,null,null,null,null,null,null,null,null,null,null,null,null,null,null,null,3605.7692307692309,{"$f":"(Table_Values!$E$3-((Table_Values!J70+Table_Values!$F$2)/Table_Values!E70))*360/256","v":23.99278846153846},{"$f":"(Table_Values!$E$3-((Table_Values!Q70+Table_Values!$M$2)/Table_Values!L70))*360/256","v":27}]
[null,null,null,null,null,null,null,null,null,null,null,null,null,null,null,null,null,null,null,null,null,null,null,null,null,null,null,null,null,null,null,null,null,3662.109375,{"$f":"(Table_Values!$E$3-((Table_Values!J69+Table_Values!$F$2)/Table_Values!E69))*360/256","v":23.994140625},{"$f":"(Table_Values!$E$3-((Table_Values!Q69+Table_Values!$M$2)/Table_Values!L69))*360/256","v":27.00439453125}]
[null,null,null,null,null,null,null,null,null,null,null,null,null,null,null,null,null,null,null,null,null,null,null,null,null,null,null,null,null,null,null,null,null,3720.238095238095,{"$f":"(Table_Values!$E$3-((Table_Values!J68+Table_Values!$F$2)/Table_Values!E68))*360/256","v":23.995535714285715},{"$f":"(Table_Values!$E$3-((Table_Values!Q68+Table_Values!$M$2)/Table_Values!L68))*360/256","v":27.008928571428569}]
[null,null,null,null,null,null,null,null,null,null,null,null,null,null,null,null,null,null,null,null,null,null,null,null,null,null,null,null,null,null,null,null,null,3780.2419354838707,{"$f":"(Table_Values!$E$3-((Table_Values!J67+Table_Values!$F$2)/Table_Values!E67))*360/256","v":23.996975806451609},{"$f":"(Table_Values!$E$3-((Table_Values!Q67+Table_Values!$M$2)/Table_Values!L67))*360/256","v":26.99092741935484}]
[null,null,null,null,null,null,null,null,null,null,null,null,null,null,null,null,null,null,null,null,null,null,null,null,null,null,null,null,null,null,null,null,null,3842.2131147540986,{"$f":"(Table_Values!$E$3-((Table_Values!J66+Table_Values!$F$2)/Table_Values!E66))*360/256","v":23.998463114754099},{"$f":"(Table_Values!$E$3-((Table_Values!Q66+Table_Values!$M$2)/Table_Values!L66))*360/256","v":26.995389344262293}]
[null,null,null,null,null,null,null,null,null,null,null,null,null,null,null,null,null,null,null,null,null,null,null,null,null,null,null,null,null,null,null,null,null,3906.25,{"$f":"(Table_Values!$E$3-((Table_Values!J65+Table_Values!$F$2)/Table_Values!E65))*360/256","v":24},{"$f":"(Table_Values!$E$3-((Table_Values!Q65+Table_Values!$M$2)/Table_Values!L65))*360/256","v":27}]
[null,null,null,null,null,null,null,null,null,null,null,null,null,null,null,null,null,null,null,null,null,null,null,null,null,null,null,null,null,null,null,null,null,3972.4576271186443,{"$f":"(Table_Values!$E$3-((Table_Values!J64+Table_Values!$F$2)/Table_Values!E64))*360/256","v":24.001588983050848},{"$f":"(Table_Values!$E$3-((Table_Values!Q64+Table_Values!$M$2)/Table_Values!L64))*360/256","v":27.004766949152543}]
[null,null,null,null,null,null,null,null,null,null,null,null,null,null,null,null,null,null,null,null,null,null,null,null,null,null,null,null,null,null,null,null,null,4040.9482758620688,{"$f":"(Table_Values!$E$3-((Table_Values!J63+Table_Values!$F$2)/Table_Values!E63))*360/256","v":24.00323275862069},{"$f":"(Table_Values!$E$3-((Table_Values!Q63+Table_Values!$M$2)/Table_Values!L63))*360/256","v":27.009698275862071}]
[null,null,null,null,null,null,null,null,null,null,null,null,null,null,null,null,null,null,null,null,null,null,null,null,null,null,null,null,null,null,null,null,null,4111.8421052631575,{"$f":"(Table_Values!$E$3-((Table_Values!J62+Table_Values!$F$2)/Table_Values!E62))*360/256","v":24.004934210526319},{"$f":"(Table_Values!$E$3-((Table_Values!Q62+Table_Values!$M$2)/Table_Values!L62))*360/256","v":26.990131578947366}]
[null,null,null,null,null,null,null,null,null,null,null,null,null,null,null,null,null,null,null,null,null,null,null,null,null,null,null,null,null,null,null,null,null,4185.2678571428569,{"$f":"(Table_Values!$E$3-((Table_Values!J61+Table_Values!$F$2)/Table_Values!E61))*360/256","v":24.006696428571427},{"$f":"(Table_Values!$E$3-((Table_Values!Q61+Table_Values!$M$2)/Table_Values!L61))*360/256","v":26.994977678571427}]
[null,null,null,null,null,null,null,null,null,null,null,null,null,null,null,null,null,null,null,null,null,null,null,null,null,null,null,null,null,null,null,null,null,4261.363636363636,{"$f":"(Table_Values!$E$3-((Table_Values!J60+Table_Values!$F$2)/Table_Values!E60))*360/256","v":24.008522727272723},{"$f":"(Table_Values!$E$3-((Table_Values!Q60+Table_Values!$M$2)/Table_Values!L60))*360/256","v":27}]
[null,null,null,null,null,null,null,null,null,null,null,null,null,null,null,null,null,null,null,null,null,null,null,null,null,null,null,null,null,null,null,null,null,4340.2777777777774,{"$f":"(Table_Values!$E$3-((Table_Values!J59+Table_Values!$F$2)/Table_Values!E59))*360/256","v":24.010416666666671},{"$f":"(Table_Values!$E$3-((Table_Values!Q59+Table_Values!$M$2)/Table_Values!L59))*360/256","v":27.005208333333332}]
[null,null,null,null,null,null,null,null,null,null,null,null,null,null,null,null,null,null,null,null,null,null,null,null,null,null,null,null,null,null,null,null,null,4422.1698113207549,{"$f":"(Table_Values!$E$3-((Table_Values!J58+Table_Values!$F$2)/Table_Values!E58))*360/256","v":24.012382075471699},{"$f":"(Table_Values!$E$3-((Table_Values!Q58+Table_Values!$M$2)/Table_Values!L58))*360/256","v":27.01061320754717}]
[null,null,null,null,null,null,null,null,null,null,null,null,null,null,null,null,null,null,null,null,null,null,null,null,null,null,null,null,null,null,null,null,null,4507.211538461539,{"$f":"(Table_Values!$E$3-((Table_Values!J57+Table_Values!$F$2)/Table_Values!E57))*360/256","v":23.987379807692307},{"$f":"(Table_Values!$E$3-((Table_Values!Q57+Table_Values!$M$2)/Table_Values!L57))*360/256","v":26.989182692307693}]
[null,null,null,null,null,null,null,null,null,null,null,null,null,null,null,null,null,null,null,null,null,null,null,null,null,null,null,null,null,null,null,null,null,4595.588235294118,{"$f":"(Table_Values!$E$3-((Table_Values!J56+Table_Values!$F$2)/Table_Values!E56))*360/256","v":23.988970588235293},{"$f":"(Table_Values!$E$3-((Table_Values!Q56+Table_Values!$M$2)/Table_Values!L56))*360/256","v":26.994485294117645}]
[null,null,null,null,null,null,null,null,null,null,null,null,null,null,null,null,null,null,null,null,null,null,null,null,null,null,null,null,null,null,null,null,null,4687.5,{"$f":"(Table_Values!$E$3-((Table_Values!J55+Table_Values!$F$2)/Table_Values!E55))*360/256","v":23.990625000000001},{"$f":"(Table_Values!$E$3-((Table_Values!Q55+Table_Values!$M$2)/Table_Values!L55))*360/256","v":27}]
[null,null,null,null,null,null,null,null,null,null,null,null,null,null,null,null,null,null,null,null,null,null,null,null,null,null,null,null,null,null,null,null,null,4783.1632653061224,{"$f":"(Table_Values!$E$3-((Table_Values!J54+Table_Values!$F$2)/Table_Values!E54))*360/256","v":23.992346938775512},{"$f":"(Table_Values!$E$3-((Table_Values!Q54+Table_Values!$M$2)/Table_Values!L54))*360/256","v":27.005739795918366}]
[null,null,null,null,null,null,null,null,null,null,null,null,null,null,null,null,null,null,null,null,null,null,null,null,null,null,null,null,null,null,null,null,null,4882.8125,{"$f":"(Table_Values!$E$3-((Table_Values!J53+Table_Values!$F$2)/Table_Values!E53))*360/256","v":23.994140625},{"$f":"(Table_Values!$E$3-((Table_Values!Q53+Table_Values!$M$2)/Table_Values!L53))*360/256","v":27.011718750000004}]
[null,null,null,null,null,null,null,null,null,null,null,null,null,null,null,null,null,null,null,null,null,null,null,null,null,null,null,null,null,null,null,null,null,4986.7021276595742,{"$f":"(Table_Values!$E$3-((Table_Values!J52+Table_Values!$F$2)/Table_Values!E52))*360/256","v":23.996010638297872},{"$f":"(Table_Values!$E$3-((Table_Values!Q52+Table_Values!$M$2)/Table_Values!L52))*360/256","v":26.988031914893618}]
[null,null,null,null,null,null,null,null,null,null,null,null,null,null,null,null,null,null,null,null,null,null,null,null,null,null,null,null,null,null,null,null,null,5095.108695652174,{"$f":"(Table_Values!$E$3-((Table_Values!J51+Table_Values!$F$2)/Table_Values!E51))*360/256","v":23.997961956521738},{"$f":"(Table_Values!$E$3-((Table_Values!Q51+Table_Values!$M$2)/Table_Values!L51))*360/256","v":26.993885869565215}]
[null,null,null,null,null,null,null,null,null,null,null,null,null,null,null,null,null,null,null,null,null,null,null,null,null,null,null,null,null,null,null,null,null,5208.3333333333339,{"$f":"(Table_Values!$E$3-((Table_Values!J50+Table_Values!$F$2)/Table_Values!E50))*360/256","v":24},{"$f":"(Table_Values!$E$3-((Table_Values!Q50+Table_Values!$M$2)/Table_Values!L50))*360/256","v":27}]
[null,null,null,null,null,null,null,null,null,null,null,null,null,null,null,null,null,null,null,null,null,null,null,null,null,null,null,null,null,null,null,null,null,5326.704545454546,{"$f":"(Table_Values!$E$3-((Table_Values!J49+Table_Values!$F$2)/Table_Values!E49))*360/256","v":24.002130681818183},{"$f":"(Table_Values!$E$3-((Table_Values!Q49+Table_Values!$M$2)/Table_Values!L49))*360/256","v":27.006392045454543}]
[null,null,null,null,null,null,null,null,null,null,null,null,null,null,null,null,null,null,null,null,null,null,null,null,null,null,null,null,null,null,null,null,null,5450.5813953488368,{"$f":"(Table_Values!$E$3-((Table_Values!J48+Table_Values!$F$2)/Table_Values!E48))*360/256","v":24.004360465116278},{"$f":"(Table_Values!$E$3-((Table_Values!Q48+Table_Values!$M$2)/Table_Values!L48))*360/256","v":27.013081395348841}]
[null,null,null,null,null,null,null,null,null,null,null,null,null,null,null,null,null,null,null,null,null,null,null,null,null,null,null,null,null,null,null,null,null,5580.3571428571422,{"$f":"(Table_Values!$E$3-((Table_Values!J47+Table_Values!$F$2)/Table_Values!E47))*360/256","v":24.006696428571427},{"$f":"(Table_Values!$E$3-((Table_Values!Q47+Table_Values!$M$2)/Table_Values!L47))*360/256","v":26.986607142857142}]
[null,null,null,null,null,null,null,null,null,null,null,null,null,null,null,null,null,null,null,null,null,null,null,null,null,null,null,null,null,null,null,null,null,5716.4634146341468,{"$f":"(Table_Values!$E$3-((Table_Values!J46+Table_Values!$F$2)/Table_Values!E46))*360/256","v":24.00914634146341},{"$f":"(Table_Values!$E$3-((Table_Values!Q46+Table_Values!$M$2)/Table_Values!L46))*360/256","v":26.993140243902438}]
[null,null,null,null,null,null,null,null,null,null,null,null,null,null,null,null,null,null,null,null,null,null,null,null,null,null,null,null,null,null,null,null,null,5859.375,{"$f":"(Table_Values!$E$3-((Table_Values!J45+Table_Values!$F$2)/Table_Values!E45))*360/256","v":24.01171875},{"$f":"(Table_Values!$E$3-((Table_Values!Q45+Table_Values!$M$2)/Table_Values!L45))*360/256","v":27}]
[null,null,null,null,null,null,null,null,null,null,null,null,null,null,null,null,null,null,null,null,null,null,null,null,null,null,null,null,null,null,null,null,null,6009.6153846153848,{"$f":"(Table_Values!$E$3-((Table_Values!J44+Table_Values!$F$2)/Table_Values!E44))*360/256","v":24.014423076923077},{"$f":"(Table_Values!$E$3-((Table_Values!Q44+Table_Values!$M$2)/Table_Values!L44))*360/256","v":27.007211538461537}]
[null,null,null,null,null,null,null,null,null,null,null,null,null,null,null,null,null,null,null,null,null,null,null,null,null,null,null,null,null,null,null,null,null,6167.7631578947367,{"$f":"(Table_Values!$E$3-((Table_Values!J43+Table_Values!$F$2)/Table_Values!E43))*360/256","v":24.01726973684211},{"$f":"(Table_Values!$E$3-((Table_Values!Q43+Table_Values!$M$2)/Table_Values!L43))*360/256","v":27.014802631578945}]
[null,null,null,null,null,null,null,null,null,null,null,null,null,null,null,null,null,null,null,null,null,null,null,null,null,null,null,null,null,null,null,null,null,6334.45945945946,{"$f":"(Table_Values!$E$3-((Table_Values!J42+Table_Values!$F$2)/Table_Values!E42))*360/256","v":23.982263513513516},{"$f":"(Table_Values!$E$3-((Table_Values!Q42+Table_Values!$M$2)/Table_Values!L42))*360/256","v":26.984797297297298}]
[null,null,null,null,null,null,null,null,null,null,null,null,null,null,null,null,null,null,null,null,null,null,null,null,null,null,null,null,null,null,null,null,null,6510.4166666666661,{"$f":"(Table_Values!$E$3-((Table_Values!J41+Table_Values!$F$2)/Table_Values!E41))*360/256","v":23.984375000000004},{"$f":"(Table_Values!$E$3-((Table_Values!Q41+Table_Values!$M$2)/Table_Values!L41))*360/256","v":26.992187499999996}]
[null,null,null,null,null,null,null,null,null,null,null,null,null,null,null,null,null,null,null,null,null,null,null,null,null,null,null,null,null,null,null,null,null,6696.4285714285716,{"$f":"(Table_Values!$E$3-((Table_Values!J40+Table_Values!$F$2)/Table_Values!E40))*360/256","v":23.986607142857142},{"$f":"(Table_Values!$E$3-((Table_Values!Q40+Table_Values!$M$2)/Table_Values!L40))*360/256","v":27}]
[null,null,null,null,null,null,null,null,null,null,null,null,null,null,null,null,null,null,null,null,null,null,null,null,null,null,null,null,null,null,null,null,null,6893.3823529411766,{"$f":"(Table_Values!$E$3-((Table_Values!J39+Table_Values!$F$2)/Table_Values!E39))*360/256","v":23.988970588235293},{"$f":"(Table_Values!$E$3-((Table_Values!Q39+Table_Values!$M$2)/Table_Values!L39))*360/256","v":27.008272058823525}]
[null,null,null,null,null,null,null,null,null,null,null,null,null,null,null,null,null,null,null,null,null,null,null,null,null,null,null,null,null,null,null,null,null,7102.272727272727,{"$f":"(Table_Values!$E$3-((Table_Values!J38+Table_Values!$F$2)/Table_Values!E38))*360/256","v":23.991477272727273},{"$f":"(Table_Values!$E$3-((Table_Values!Q38+Table_Values!$M$2)/Table_Values!L38))*360/256","v":27.017045454545453}]
[null,null,null,null,null,null,null,null,null,null,null,null,null,null,null,null,null,null,null,null,null,null,null,null,null,null,null,null,null,null,null,null,null,7324.21875,{"$f":"(Table_Values!$E$3-((Table_Values!J37+Table_Values!$F$2)/Table_Values!E37))*360/256","v":23.994140625},{"$f":"(Table_Values!$E$3-((Table_Values!Q37+Table_Values!$M$2)/Table_Values!L37))*360/256","v":26.982421875}]
[null,null,null,null,null,null,null,null,null,null,null,null,null,null,null,null,null,null,null,null,null,null,null,null,null,null,null,null,null,null,null,null,null,7560.4838709677415,{"$f":"(Table_Values!$E$3-((Table_Values!J36+Table_Values!$F$2)/Table_Values!E36))*360/256","v":23.996975806451609},{"$f":"(Table_Values!$E$3-((Table_Values!Q36+Table_Values!$M$2)/Table_Values!L36))*360/256","v":26.99092741935484}]
[null,null,null,null,null,null,null,null,null,null,null,null,null,null,null,null,null,null,null,null,null,null,null,null,null,null,null,null,null,null,null,null,null,7812.5,{"$f":"(Table_Values!$E$3-((Table_Values!J35+Table_Values!$F$2)/Table_Values!E35))*360/256","v":24},{"$f":"(Table_Values!$E$3-((Table_Values!Q35+Table_Values!$M$2)/Table_Values!L35))*360/256","v":27}]
[null,null,null,null,null,null,null,null,null,null,null,null,null,null,null,null,null,null,null,null,null,null,null,null,null,null,null,null,null,null,null,null,null,8081.8965517241377,{"$f":"(Table_Values!$E$3-((Table_Values!J34+Table_Values!$F$2)/Table_Values!E34))*360/256","v":24.00323275862069},{"$f":"(Table_Values!$E$3-((Table_Values!Q34+Table_Values!$M$2)/Table_Values!L34))*360/256","v":27.009698275862071}]
[null,null,null,null,null,null,null,null,null,null,null,null,null,null,null,null,null,null,null,null,null,null,null,null,null,null,null,null,null,null,null,null,null,8370.5357142857138,{"$f":"(Table_Values!$E$3-((Table_Values!J33+Table_Values!$F$2)/Table_Values!E33))*360/256","v":24.006696428571427},{"$f":"(Table_Values!$E$3-((Table_Values!Q33+Table_Values!$M$2)/Table_Values!L33))*360/256","v":27.020089285714288}]
[null,null,null,null,null,null,null,null,null,null,null,null,null,null,null,null,null,null,null,null,null,null,null,null,null,null,null,null,null,null,null,null,null,8680.5555555555547,{"$f":"(Table_Values!$E$3-((Table_Values!J32+Table_Values!$F$2)/Table_Values!E32))*360/256","v":24.010416666666671},{"$f":"(Table_Values!$E$3-((Table_Values!Q32+Table_Values!$M$2)/Table_Values!L32))*360/256","v":26.979166666666664}]
[null,null,null,null,null,null,null,null,null,null,null,null,null,null,null,null,null,null,null,null,null,null,null,null,null,null,null,null,null,null,null,null,null,9014.423076923078,{"$f":"(Table_Values!$E$3-((Table_Values!J31+Table_Values!$F$2)/Table_Values!E31))*360/256","v":24.014423076923077},{"$f":"(Table_Values!$E$3-((Table_Values!Q31+Table_Values!$M$2)/Table_Values!L31))*360/256","v":26.989182692307693}]
[null,null,null,null,null,null,null,null,null,null,null,null,null,null,null,null,null,null,null,null,null,null,null,null,null,null,null,null,null,null,null,null,null,9375,{"$f":"(Table_Values!$E$3-((Table_Values!J30+Table_Values!$F$2)/Table_Values!E30))*360/256","v":24.018749999999997},{"$f":"(Table_Values!$E$3-((Table_Values!Q30+Table_Values!$M$2)/Table_Values!L30))*360/256","v":27}]
[null,null,null,null,null,null,null,null,null,null,null,null,null,null,null,null,null,null,null,null,null,null,null,null,null,null,null,null,null,null,null,null,null,9765.625,{"$f":"(Table_Values!$E$3-((Table_Values!J29+Table_Values!$F$2)/Table_Values!E29))*360/256","v":24.023437500000004},{"$f":"(Table_Values!$E$3-((Table_Values!Q29+Table_Values!$M$2)/Table_Values!L29))*360/256","v":27.011718750000004}]
[null,null,null,null,null,null,null,null,null,null,null,null,null,null,null,null,null,null,null,null,null,null,null,null,null,null,null,null,null,null,null,null,null,10190.217391304348,{"$f":"(Table_Values!$E$3-((Table_Values!J28+Table_Values!$F$2)/Table_Values!E28))*360/256","v":24.028532608695656},{"$f":"(Table_Values!$E$3-((Table_Values!Q28+Table_Values!$M$2)/Table_Values!L28))*360/256","v":27.024456521739133}]
[null,null,null,null,null,null,null,null,null,null,null,null,null,null,null,null,null,null,null,null,null,null,null,null,null,null,null,null,null,null,null,null,null,10653.409090909092,{"$f":"(Table_Values!$E$3-((Table_Values!J27+Table_Values!$F$2)/Table_Values!E27))*360/256","v":23.970170454545457},{"$f":"(Table_Values!$E$3-((Table_Values!Q27+Table_Values!$M$2)/Table_Values!L27))*360/256","v":26.974431818181817}]
[null,null,null,null,null,null,null,null,null,null,null,null,null,null,null,null,null,null,null,null,null,null,null,null,null,null,null,null,null,null,null,null,null,11160.714285714284,{"$f":"(Table_Values!$E$3-((Table_Values!J26+Table_Values!$F$2)/Table_Values!E26))*360/256","v":23.973214285714285},{"$f":"(Table_Values!$E$3-((Table_Values!Q26+Table_Values!$M$2)/Table_Values!L26))*360/256","v":26.986607142857142}]
[null,null,null,null,null,null,null,null,null,null,null,null,null,null,null,null,null,null,null,null,null,null,null,null,null,null,null,null,null,null,null,null,null,11718.75,{"$f":"(Table_Values!$E$3-((Table_Values!J25+Table_Values!$F$2)/Table_Values!E25))*360/256","v":23.9765625},{"$f":"(Table_Values!$E$3-((Table_Values!Q25+Table_Values!$M$2)/Table_Values!L25))*360/256","v":27}]
[null,null,null,null,null,null,null,null,null,null,null,null,null,null,null,null,null,null,null,null,null,null,null,null,null,null,null,null,null,null,null,null,null,12335.526315789473,{"$f":"(Table_Values!$E$3-((Table_Values!J24+Table_Values!$F$2)/Table_Values!E24))*360/256","v":23.98026315789474},{"$f":"(Table_Values!$E$3-((Table_Values!Q24+Table_Values!$M$2)/Table_Values!L24))*360/256","v":27.014802631578945}]
[null,null,null,null,null,null,null,null,null,null,null,null,null,null,null,null,null,null,null,null,null,null,null,null,null,null,null,null,null,null,null,null,null,13020.833333333332,{"$f":"(Table_Values!$E$3-((Table_Values!J23+Table_Values!$F$2)/Table_Values!E23))*360/256","v":23.984375000000004},{"$f":"(Table_Values!$E$3-((Table_Values!Q23+Table_Values!$M$2)/Table_Values!L23))*360/256","v":27.03125}]
[null,null,null,null,null,null,null,null,null,null,null,null,null,null,null,null,null,null,null,null,null,null,null,null,null,null,null,null,null,null,null,null,null,13786.764705882353,{"$f":"(Table_Values!$E$3-((Table_Values!J22+Table_Values!$F$2)/Table_Values!E22))*360/256","v":23.988970588235293},{"$f":"(Table_Values!$E$3-((Table_Values!Q22+Table_Values!$M$2)/Table_Values!L22))*360/256","v":26.96691176470588}]
[null,null,null,null,null,null,null,null,null,null,null,null,null,null,null,null,null,null,null,null,null,null,null,null,null,null,null,null,null,null,null,null,null,14648.4375,{"$f":"(Table_Values!$E$3-((Table_Values!J21+Table_Values!$F$2)/Table_Values!E21))*360/256","v":23.994140625},{"$f":"(Table_Values!$E$3-((Table_Values!Q21+Table_Values!$M$2)/Table_Values!L21))*360/256","v":26.982421875}]
[null,null,null,null,null,null,null,null,null,null,null,null,null,null,null,null,null,null,null,null,null,null,null,null,null,null,null,null,null,null,null,null,null,15625,{"$f":"(Table_Values!$E$3-((Table_Values!J20+Table_Values!$F$2)/Table_Values!E20))*360/256","v":24},{"$f":"(Table_Values!$E$3-((Table_Values!Q20+Table_Values!$M$2)/Table_Values!L20))*360/256","v":27}]

{"sheet":"Saved_Curves","index":2,"n_rows":28,"n_cols":31,"rows_kept":28,"cut":false,"hidden":false,"merged":[[1,1,1,18],[10,5,10,13],[2,14,2,15],[22,14,22,15],[6,5,6,13],[18,14,18,15],[14,14,14,15],[10,14,10,15],[6,14,6,15],[22,5,22,13],[18,5,18,13],[14,5,14,13],[2,16,2,18],[10,16,10,18],[14,16,14,18],[18,16,18,18],[22,16,22,18],[2,5,2,13],[6,16,6,18],[3,2,3,3],[2,1,2,3],[4,2,4,3],[7,2,7,3],[8,2,8,3],[11,2,11,3],[12,2,12,3],[24,2,24,3],[6,1,6,3],[10,1,10,3],[14,1,14,3],[18,1,18,3],[22,1,22,3],[15,2,15,3],[16,2,16,3],[19,2,19,3],[20,2,20,3],[23,2,23,3]]}
[]
[null,"Saved Curves"]
[null,"Saved Curve 1",null,null,"Name:","test9-version 9.6 (John's Curve)",null,null,null,null,null,null,null,null,"Save Time:",null,"2012-10-06T23:04:40"]
[null,"RPM Data","0,500,1000,1400,2000,2500,3000,3500,4000,4500,5000,5500,6000,6500,7000,7500,8000,8500,9000,9500,10000,10500,11000,12000,13000,14000,15000,16000"]
[null,"Adv. Data","4,4,4,5,7.5,9.5,12,14,16,18,20,22,28,28,28,28,28,27,26,26,26,25,25,24,24,24,24,24"]
[]
[null,"Saved Curve 2",null,null,"Name:","test10-version 9.6 (John's Curve)",null,null,null,null,null,null,null,null,"Save Time:",null,"2012-10-06T23:05:26"]
[null,"RPM Data","0,500,1000,1400,2000,2500,3000,3500,4000,4500,5000,5500,6000,6500,7000,7500,8000,8500,9000,9500,10000,10500,11000,12000,13000,14000,15000,16000"]
[null,"Adv. Data","4,4,4,5,7.5,9.5,12,14,16,18,20,22,28,28,28,28,28,27,26,26,26,25,25,24,24,24,24,24"]
[]
[null,"Saved Curve 3",null,null,"Name:","Easy start, Newer model Homelite 25cc factory 24 deg. advance",null,null,null,null,null,null,null,null,"Save Time:",null,"2012-11-15T13:56:42"]
[null,"RPM Data","0,500,1000,1400,2000,2500,3000,3500,4000,4500,5000,5500,6000,6500,7000,7500,8000,8500,9000,9500,10000,10500,11000,12000,13000,14000,15000,16000"]
[null,"Adv. Data","5,10,24,24,24,24,24,24,24,24,24,24,24,24,24,24,24,24,24,24,24,24,24,24,24,24,24,24"]
[]
[null,"Saved Curve 4",null,null,"Name:","Easy start, Fixed 15 deg. advance",null,null,null,null,null,null,null,null,"Save Time:",null,"2012-10-21T16:29:40"]
[null,"RPM Data","0,500,1000,1400,2000,2500,3000,3500,4000,4500,5000,5500,6000,6500,7000,7500,8000,8500,9000,9500,10000,10500,11000,12000,13000,14000,15000,16000"]
[null,"Adv. Data","5,10,15,15,15,15,15,15,15,15,15,15,15,15,15,15,15,15,15,15,15,15,15,15,15,15,15,15"]
[]
[null,"Saved Curve 5",null,null,"Name:","Easy start, Fixed 20 deg. Advance",null,null,null,null,null,null,null,null,"Save Time:",null,"2012-10-21T16:30:06"]
[null,"RPM Data","0,500,1000,1400,2000,2500,3000,3500,4000,4500,5000,5500,6000,6500,7000,7500,8000,8500,9000,9500,10000,10500,11000,12000,13000,14000,15000,16000"]
[null,"Adv. Data","5,10,20,20,20,20,20,20,20,20,20,20,20,20,20,20,20,20,20,20,20,20,20,20,20,20,20,20"]
[]
[null,"Saved Curve 6",null,null,"Name:","Easy start, Fixed 25 deg. advance",null,null,null,null,null,null,null,null,"Save Time:",null,"2012-10-06T14:08:49"]
[null,"RPM Data","0,500,1000,1400,2000,2500,3000,3500,4000,4500,5000,5500,6000,6500,7000,7500,8000,8500,9000,9500,10000,10500,11000,12000,13000,14000,15000,16000"]
[null,"Adv. Data","5,12,25,25,25,25,25,25,25,25,25,25,25,25,25,25,25,25,25,25,25,25,25,25,25,25,25,25"]
[]
[null,null,"Preview",0,500,1000,1400,2000,2500,3000,3500,4000,4500,5000,5500,6000,6500,7000,7500,8000,8500,9000,9500,10000,10500,11000,12000,13000,14000,15000,16000]
[null,null,"Data",5,10,24,24,24,24,24,24,24,24,24,24,24,24,24,24,24,24,24,24,24,24,24,24,24,24,24,24]

{"sheet":"Table_Values","index":3,"n_rows":261,"n_cols":22,"rows_kept":261,"cut":false,"hidden":false,"merged":[[10,7,10,8],[11,7,11,8],[12,7,12,8],[5,14,5,15],[6,14,6,15],[7,14,7,15],[8,14,8,15],[9,14,9,15],[10,14,10,15],[11,14,11,15],[12,14,12,15],[5,7,5,8],[6,7,6,8],[7,7,7,8],[8,7,8,8],[9,7,9,8],[1,6,1,9],[1,13,1,16],[2,1,2,2],[2,20,2,21],[2,6,2,9],[2,13,2,16]]}
[]
[null,null,null,null,"Correction =",51,"Curve-1",null,null,null,null,"Correction =",51,"Curve-2"]
[null,"Curve-1 Values",null,null,{"$f":"Setup_Settings!$L$5","v":32},"Table  =","4203,45,25,48047,2,3,102,1,40,0,0,0,0,0,0,173,188,203,218,233,248,263,278,292,307,322,337,352,367,382,397,412,427,442,457,472,487,502,516,531,546,561,576,591,606,621,636,651,666,681,696,711,726,740,755,770,785,800,815,830,845,860,875,890,905,920,935,950,964,979,994,1009,1024,1039,1054,1069,1084,1099,1114,1129,1144,1159,1174,1188,1203,1218,1233,1248,1263,1278,1293,1308,1323,1338,1353,1368,1383,1398,1412,1427,1442,1457,1472,1487,1502,1517,1532,1547,1562,1577,1592,1607,1622,1636,1651,1666,1681,1696,1711,1726,1741,1756,1771,1786,1801,1816,1831,1846,1860,1875,1890,1905,1920,1935,1950,1965,1980,1995,2010,2025,2040,2055,2070,2084,2099,2114,2129,2144,2159,2174,2189,2204,2219,2234,2249,2264,2279,2294,2308,2323,2338,2353,2368,2383,2398,2413,2428,2443,2458,2473,2488,2503,2518,2532,2547,2562,2577,2592,2607,2622,2637,2652,2667,2682,2697,2712,2727,2742,2756,2771,2786,2801,2816,2831,2846,2861,2876,2891,2906,2921,2936,2951,2966,2980,2995,3010,3025,3040,3055,3070,3085,3100,3115,3130,3145,3160,3175,3190,3204,3219,3234,3249,3264,3279,3294,3309,3324,3339,3354,3369,3384,3399,3414,3428,3443,3471,3506,3540,3575,3610,3645,3680,3715,3750,3784,3819,3854,3889,3924,3959,3993,4028,4063,4098,4133,4168",null,null,null,null,{"$f":"Setup_Settings!$L$5","v":32},"Table  =","3749,50,25,53906,3,3,102,1,40,0,0,0,0,0,0,141,154,167,179,192,205,218,231,243,256,269,282,295,307,320,333,346,359,371,384,397,410,423,435,448,461,474,487,499,512,525,538,551,563,576,589,602,615,627,640,653,666,679,691,704,717,730,743,755,768,781,794,807,819,832,845,858,871,883,896,909,922,935,947,960,973,986,999,1011,1024,1037,1050,1063,1075,1088,1101,1114,1127,1139,1152,1165,1178,1191,1203,1216,1229,1242,1255,1267,1280,1293,1306,1319,1331,1344,1357,1370,1383,1395,1408,1421,1434,1447,1459,1472,1485,1498,1511,1523,1536,1549,1562,1575,1587,1600,1613,1626,1639,1651,1664,1677,1690,1703,1715,1728,1741,1754,1767,1779,1792,1805,1818,1831,1843,1856,1869,1882,1895,1907,1920,1933,1946,1959,1971,1984,1997,2010,2023,2035,2048,2061,2074,2087,2099,2112,2125,2138,2151,2163,2176,2189,2202,2215,2227,2240,2253,2266,2279,2291,2304,2317,2330,2343,2355,2368,2381,2394,2407,2419,2432,2445,2458,2471,2483,2496,2509,2522,2535,2547,2560,2573,2586,2599,2611,2624,2637,2650,2663,2675,2688,2701,2714,2727,2739,2752,2765,2778,2791,2803,2816,2829,2842,2855,2867,2880,2893,2906,2919,2931,2944,2972,3009,3046,3083,3120,3157,3194,3231,3268,3305,3342,3379,3416,3453,3490,3527,3564,3601,3638,3675,3712",null,null,null,null,null,null,"Curve-2 Values"]
[null,"RPM","Adv.°",null,"CurrentRev","RPM","Advance d°","Delay d°","Calc. Load","Timer1 Load",null,"CurrentRev","RPM","Advance d°","Delay d°","Calc. Load","Timer1 Load",null,null,null,"RPM","Adv.°"]
[null,{"$f":"Advance_Curves!$C$4","v":0},{"$f":"Advance_Curves!$C$5","v":5},null,"0 (256)",{"$f":"F261","v":915.52734375},{"$f":"G261","v":15.384722222222223},{"$f":"H261","v":16.615277777777777},{"$f":"I261","v":4202.5111111111109},{"$f":"J261","v":4203},null,"0 (256)",{"$f":"M261","v":915.52734375},{"$f":"N261","v":17.157638888888886},{"$f":"O261","v":14.842361111111114},{"$f":"P261","v":3748.6444444444451},{"$f":"Q261","v":3749},null,null,null,{"$f":"Advance_Curves!$C$33","v":0},{"$f":"Advance_Curves!$C$34","v":5}]
[null,{"$f":"Advance_Curves!$D$4","v":500},{"$f":"Advance_Curves!$D$5","v":10},null,1,{"$f":"(1/(E6*256))*Setup_Settings!$E$5*60000000","v":234375},"X","SensorDigiDeg",null,{"$f":"Setup_Settings!F11","v":45},null,1,{"$f":"(1/(L6*256))*Setup_Settings!$E$5*60000000","v":234375},"X","SensorDigiDeg",null,{"$f":"Setup_Settings!F21","v":50},null,null,null,{"$f":"Advance_Curves!$D$33","v":500},{"$f":"Advance_Curves!$D$34","v":10}]
[null,{"$f":"Advance_Curves!$E$4","v":1000},{"$f":"Advance_Curves!$E$5","v":24},null,2,{"$f":"(1/(E7*256))*Setup_Settings!$E$5*60000000","v":117187.5},"X","LowRPMAdvance",null,{"$f":"Setup_Settings!F12","v":25},null,2,{"$f":"(1/(L7*256))*Setup_Settings!$E$5*60000000","v":117187.5},"X","LowRPMAdvance",null,{"$f":"Setup_Settings!F22","v":25},null,null,null,{"$f":"Advance_Curves!$E$33","v":1000},{"$f":"Advance_Curves!$E$34","v":27}]
[null,{"$f":"Advance_Curves!$F$4","v":1400},{"$f":"Advance_Curves!$F$5","v":24},null,3,{"$f":"(1/(E8*256))*Setup_Settings!$E$5*60000000","v":78125},"X","StartDelay",null,{"$f":"Setup_Settings!F13","v":48047},null,3,{"$f":"(1/(L8*256))*Setup_Settings!$E$5*60000000","v":78125},"X","StartDelay",null,{"$f":"Setup_Settings!F23","v":53906},null,null,null,{"$f":"Advance_Curves!$F$33","v":1400},{"$f":"Advance_Curves!$F$34","v":27}]
[null,{"$f":"Advance_Curves!$G$4","v":2000},{"$f":"Advance_Curves!$G$5","v":24},null,4,{"$f":"(1/(E9*256))*Setup_Settings!$E$5*60000000","v":58593.75},"X","MSD_Start_Spark",null,{"$f":"Setup_Settings!F14","v":2},null,4,{"$f":"(1/(L9*256))*Setup_Settings!$E$5*60000000","v":58593.75},"X","MSD_Start_Spark",null,{"$f":"Setup_Settings!F24","v":3},null,null,null,{"$f":"Advance_Curves!$G$33","v":2000},{"$f":"Advance_Curves!$G$34","v":27}]
[null,{"$f":"Advance_Curves!$H$4","v":2500},{"$f":"Advance_Curves!$H$5","v":24},null,5,{"$f":"(1/(E10*256))*Setup_Settings!$E$5*60000000","v":46875},"X","MSD_Low_Spark",null,{"$f":"Setup_Settings!F15","v":3},null,5,{"$f":"(1/(L10*256))*Setup_Settings!$E$5*60000000","v":46875},"X","MSD_Low_Spark",null,{"$f":"Setup_Settings!F25","v":3},null,null,null,{"$f":"Advance_Curves!$H$33","v":2500},{"$f":"Advance_Curves!$H$34","v":27}]
[null,{"$f":"Advance_Curves!$I$4","v":3000},{"$f":"Advance_Curves!$I$5","v":24},null,6,{"$f":"(1/(E11*256))*Setup_Settings!$E$5*60000000","v":39062.5},"X","Max_MSD_Rev",null,{"$f":"Setup_Settings!F16","v":102},null,6,{"$f":"(1/(L11*256))*Setup_Settings!$E$5*60000000","v":39062.5},"X","Max_MSD_Rev",null,{"$f":"Setup_Settings!F26","v":102},null,null,null,{"$f":"Advance_Curves!$I$33","v":3000},{"$f":"Advance_Curves!$I$34","v":27}]
[null,{"$f":"Advance_Curves!$J$4","v":3500},{"$f":"Advance_Curves!$J$5","v":24},null,7,{"$f":"(1/(E12*256))*Setup_Settings!$E$5*60000000","v":33482.142857142855},"X","MSD_Spark",null,{"$f":"Setup_Settings!F17","v":1},null,7,{"$f":"(1/(L12*256))*Setup_Settings!$E$5*60000000","v":33482.142857142855},"X","MSD_Spark",null,{"$f":"Setup_Settings!F27","v":1},null,null,null,{"$f":"Advance_Curves!$J$33","v":3500},{"$f":"Advance_Curves!$J$34","v":27}]
[null,{"$f":"Advance_Curves!$K$4","v":4000},{"$f":"Advance_Curves!$K$5","v":24},null,8,{"$f":"(1/(E13*256))*Setup_Settings!$E$5*60000000","v":29296.875},"X","MSD_Delay",null,{"$f":"Setup_Settings!F18","v":40},null,8,{"$f":"(1/(L13*256))*Setup_Settings!$E$5*60000000","v":29296.875},"X","MSD_Delay",null,{"$f":"Setup_Settings!F28","v":40},null,null,null,{"$f":"Advance_Curves!$K$33","v":4000},{"$f":"Advance_Curves!$K$34","v":27}]
[null,{"$f":"Advance_Curves!$L$4","v":4500},{"$f":"Advance_Curves!$L$5","v":24},null,9,{"$f":"(1/(E14*256))*Setup_Settings!$E$5*60000000","v":26041.666666666664},"X","x","X",0,null,9,{"$f":"(1/(L14*256))*Setup_Settings!$E$5*60000000","v":26041.666666666664},"X","X","X",0,null,null,null,{"$f":"Advance_Curves!$L$33","v":4500},{"$f":"Advance_Curves!$L$34","v":27}]
[null,{"$f":"Advance_Curves!$M$4","v":5000},{"$f":"Advance_Curves!$M$5","v":24},null,10,{"$f":"(1/(E15*256))*Setup_Settings!$E$5*60000000","v":23437.5},"X","X","X",0,null,10,{"$f":"(1/(L15*256))*Setup_Settings!$E$5*60000000","v":23437.5},"X","X","X",0,null,null,null,{"$f":"Advance_Curves!$M$33","v":5000},{"$f":"Advance_Curves!$M$34","v":27}]
[null,{"$f":"Advance_Curves!$N$4","v":5500},{"$f":"Advance_Curves!$N$5","v":24},null,11,{"$f":"(1/(E16*256))*Setup_Settings!$E$5*60000000","v":21306.818181818184},"X","X","X",0,null,11,{"$f":"(1/(L16*256))*Setup_Settings!$E$5*60000000","v":21306.818181818184},"X","X","X",0,null,null,null,{"$f":"Advance_Curves!$N$33","v":5500},{"$f":"Advance_Curves!$N$34","v":27}]
[null,{"$f":"Advance_Curves!$O$4","v":6000},{"$f":"Advance_Curves!$O$5","v":24},null,12,{"$f":"(1/(E17*256))*Setup_Settings!$E$5*60000000","v":19531.25},"X","X","X",0,null,12,{"$f":"(1/(L17*256))*Setup_Settings!$E$5*60000000","v":19531.25},"X","X","X",0,null,null,null,{"$f":"Advance_Curves!$O$33","v":6000},{"$f":"Advance_Curves!$O$34","v":27}]
[null,{"$f":"Advance_Curves!$P$4","v":6500},{"$f":"Advance_Curves!$P$5","v":24},null,13,{"$f":"(1/(E18*256))*Setup_Settings!$E$5*60000000","v":18028.846153846156},"X","X","X",0,null,13,{"$f":"(1/(L18*256))*Setup_Settings!$E$5*60000000","v":18028.846153846156},"X","X","X",0,null,null,null,{"$f":"Advance_Curves!$P$33","v":6500},{"$f":"Advance_Curves!$P$34","v":27}]
[null,{"$f":"Advance_Curves!$Q$4","v":7000},{"$f":"Advance_Curves!$Q$5","v":24},null,14,{"$f":"(1/(E19*256))*Setup_Settings!$E$5*60000000","v":16741.071428571428},"X","X","X",0,null,14,{"$f":"(1/(L19*256))*Setup_Settings!$E$5*60000000","v":16741.071428571428},"X","X","X",0,null,null,null,{"$f":"Advance_Curves!$Q$33","v":7000},{"$f":"Advance_Curves!$Q$34","v":27}]
[null,{"$f":"Advance_Curves!$R$4","v":7500},{"$f":"Advance_Curves!$R$5","v":24},null,15,{"$f":"(1/(E20*256))*Setup_Settings!$E$5*60000000","v":15625},{"$f":"(TREND(INDEX($C$5:$C$32,MATCH(F20,$B$5:$B$32)):INDEX($C$5:$C$32,MATCH(F20,$B$5:$B$32)+1),INDEX($B$5:$B$32,MATCH(F20,$B$5:$B$32)):INDEX($B$5:$B$32,MATCH(F20,$B$5:$B$32)+1),F20))*256/360","v":17.066666666666666},{"$f":"$E$3-G20","v":14.933333333333334},{"$f":"(E20*H20)-$F$2","v":173},{"$f":"IF((ROUND(E20*H20,0)-$F$2)>0,(ROUND(E20*H20,0)-$F$2),1)","v":173},null,15,{"$f":"(1/(L20*256))*Setup_Settings!$E$5*60000000","v":15625},{"$f":"(TREND(INDEX($V$5:$V$32,MATCH(F20,$U$5:$U$32)):INDEX($V$5:$V$32,MATCH(F20,$U$5:$U$32)+1),INDEX($U$5:$U$32,MATCH(F20,$U$5:$U$32)):INDEX($U$5:$U$32,MATCH(F20,$U$5:$U$32)+1),F20))*256/360","v":19.2},{"$f":"$L$3-N20","v":12.8},{"$f":"(L20*O20)-$F$2","v":141},{"$f":"IF((ROUND(L20*O20,0)-$F$2)>1,(ROUND(L20*O20,0)-$M$2),1)","v":141},null,null,null,{"$f":"Advance_Curves!$R$33","v":7500},{"$f":"Advance_Curves!$R$34","v":27}]
[null,{"$f":"Advance_Curves!$S$4","v":8000},{"$f":"Advance_Curves!$S$5","v":24},null,16,{"$f":"(1/(E21*256))*Setup_Settings!$E$5*60000000","v":14648.4375},{"$f":"(TREND(INDEX($C$5:$C$32,MATCH(F21,$B$5:$B$32)):INDEX($C$5:$C$32,MATCH(F21,$B$5:$B$32)+1),INDEX($B$5:$B$32,MATCH(F21,$B$5:$B$32)):INDEX($B$5:$B$32,MATCH(F21,$B$5:$B$32)+1),F21))*256/360","v":17.066666666666666},{"$f":"$E$3-G21","v":14.933333333333334},{"$f":"(E21*H21)-$F$2","v":187.93333333333334},{"$f":"IF((ROUND(E21*H21,0)-$F$2)>0,(ROUND(E21*H21,0)-$F$2),1)","v":188},null,16,{"$f":"(1/(L21*256))*Setup_Settings!$E$5*60000000","v":14648.4375},{"$f":"(TREND(INDEX($V$5:$V$32,MATCH(F21,$U$5:$U$32)):INDEX($V$5:$V$32,MATCH(F21,$U$5:$U$32)+1),INDEX($U$5:$U$32,MATCH(F21,$U$5:$U$32)):INDEX($U$5:$U$32,MATCH(F21,$U$5:$U$32)+1),F21))*256/360","v":19.2},{"$f":"$L$3-N21","v":12.8},{"$f":"(L21*O21)-$F$2","v":153.80000000000001},{"$f":"IF((ROUND(L21*O21,0)-$F$2)>1,(ROUND(L21*O21,0)-$M$2),1)","v":154},null,null,null,{"$f":"Advance_Curves!$S$33","v":8000},{"$f":"Advance_Curves!$S$34","v":27}]
[null,{"$f":"Advance_Curves!$T$4","v":8500},{"$f":"Advance_Curves!$T$5","v":24},null,17,{"$f":"(1/(E22*256))*Setup_Settings!$E$5*60000000","v":13786.764705882353},{"$f":"(TREND(INDEX($C$5:$C$32,MATCH(F22,$B$5:$B$32)):INDEX($C$5:$C$32,MATCH(F22,$B$5:$B$32)+1),INDEX($B$5:$B$32,MATCH(F22,$B$5:$B$32)):INDEX($B$5:$B$32,MATCH(F22,$B$5:$B$32)+1),F22))*256/360","v":17.066666666666666},{"$f":"$E$3-G22","v":14.933333333333334},{"$f":"(E22*H22)-$F$2","v":202.86666666666667},{"$f":"IF((ROUND(E22*H22,0)-$F$2)>0,(ROUND(E22*H22,0)-$F$2),1)","v":203},null,17,{"$f":"(1/(L22*256))*Setup_Settings!$E$5*60000000","v":13786.764705882353},{"$f":"(TREND(INDEX($V$5:$V$32,MATCH(F22,$U$5:$U$32)):INDEX($V$5:$V$32,MATCH(F22,$U$5:$U$32)+1),INDEX($U$5:$U$32,MATCH(F22,$U$5:$U$32)):INDEX($U$5:$U$32,MATCH(F22,$U$5:$U$32)+1),F22))*256/360","v":19.2},{"$f":"$L$3-N22","v":12.8},{"$f":"(L22*O22)-$F$2","v":166.60000000000002},{"$f":"IF((ROUND(L22*O22,0)-$F$2)>1,(ROUND(L22*O22,0)-$M$2),1)","v":167},null,null,null,{"$f":"Advance_Curves!$T$33","v":8500},{"$f":"Advance_Curves!$T$34","v":27}]
[null,{"$f":"Advance_Curves!$U$4","v":9000},{"$f":"Advance_Curves!$U$5","v":24},null,18,{"$f":"(1/(E23*256))*Setup_Settings!$E$5*60000000","v":13020.833333333332},{"$f":"(TREND(INDEX($C$5:$C$32,MATCH(F23,$B$5:$B$32)):INDEX($C$5:$C$32,MATCH(F23,$B$5:$B$32)+1),INDEX($B$5:$B$32,MATCH(F23,$B$5:$B$32)):INDEX($B$5:$B$32,MATCH(F23,$B$5:$B$32)+1),F23))*256/360","v":17.066666666666666},14.933333333333334,217.8,218,null,18,{"$f":"(1/(L23*256))*Setup_Settings!$E$5*60000000","v":13020.833333333332},{"$f":"(TREND(INDEX($V$5:$V$32,MATCH(F23,$U$5:$U$32)):INDEX($V$5:$V$32,MATCH(F23,$U$5:$U$32)+1),INDEX($U$5:$U$32,MATCH(F23,$U$5:$U$32)):INDEX($U$5:$U$32,MATCH(F23,$U$5:$U$32)+1),F23))*256/360","v":19.2},12.8,{"$f":"(L23*O23)-$F$2","v":179.4},179,null,null,null,{"$f":"Advance_Curves!$U$33","v":9000},{"$f":"Advance_Curves!$U$34","v":27}]
[null,{"$f":"Advance_Curves!$V$4","v":9500},{"$f":"Advance_Curves!$V$5","v":24},null,19,{"$f":"(1/(E24*256))*Setup_Settings!$E$5*60000000","v":12335.526315789473},{"$f":"(TREND(INDEX($C$5:$C$32,MATCH(F24,$B$5:$B$32)):INDEX($C$5:$C$32,MATCH(F24,$B$5:$B$32)+1),INDEX($B$5:$B$32,MATCH(F24,$B$5:$B$32)):INDEX($B$5:$B$32,MATCH(F24,$B$5:$B$32)+1),F24))*256/360","v":17.066666666666666},{"$f":"$E$3-G24","v":14.933333333333334},232.73333333333335,233,null,19,{"$f":"(1/(L24*256))*Setup_Settings!$E$5*60000000","v":12335.526315789473},{"$f":"(TREND(INDEX($V$5:$V$32,MATCH(F24,$U$5:$U$32)):INDEX($V$5:$V$32,MATCH(F24,$U$5:$U$32)+1),INDEX($U$5:$U$32,MATCH(F24,$U$5:$U$32)):INDEX($U$5:$U$32,MATCH(F24,$U$5:$U$32)+1),F24))*256/360","v":19.2},12.8,192.20000000000002,192,null,null,null,{"$f":"Advance_Curves!$V$33","v":9500},{"$f":"Advance_Curves!$V$34","v":27}]
[null,{"$f":"Advance_Curves!$W$4","v":10000},{"$f":"Advance_Curves!$W$5","v":24},null,20,{"$f":"(1/(E25*256))*Setup_Settings!$E$5*60000000","v":11718.75},{"$f":"(TREND(INDEX($C$5:$C$32,MATCH(F25,$B$5:$B$32)):INDEX($C$5:$C$32,MATCH(F25,$B$5:$B$32)+1),INDEX($B$5:$B$32,MATCH(F25,$B$5:$B$32)):INDEX($B$5:$B$32,MATCH(F25,$B$5:$B$32)+1),F25))*256/360","v":17.066666666666666},14.933333333333334,247.66666666666669,248,null,20,{"$f":"(1/(L25*256))*Setup_Settings!$E$5*60000000","v":11718.75},{"$f":"(TREND(INDEX($V$5:$V$32,MATCH(F25,$U$5:$U$32)):INDEX($V$5:$V$32,MATCH(F25,$U$5:$U$32)+1),INDEX($U$5:$U$32,MATCH(F25,$U$5:$U$32)):INDEX($U$5:$U$32,MATCH(F25,$U$5:$U$32)+1),F25))*256/360","v":19.2},12.8,205,205,null,null,null,{"$f":"Advance_Curves!$W$33","v":10000},{"$f":"Advance_Curves!$W$34","v":27}]
[null,{"$f":"Advance_Curves!$X$4","v":10500},{"$f":"Advance_Curves!$X$5","v":24},null,21,{"$f":"(1/(E26*256))*Setup_Settings!$E$5*60000000","v":11160.714285714284},{"$f":"(TREND(INDEX($C$5:$C$32,MATCH(F26,$B$5:$B$32)):INDEX($C$5:$C$32,MATCH(F26,$B$5:$B$32)+1),INDEX($B$5:$B$32,MATCH(F26,$B$5:$B$32)):INDEX($B$5:$B$32,MATCH(F26,$B$5:$B$32)+1),F26))*256/360","v":17.066666666666666},14.933333333333334,{"$f":"(E26*H26)-$F$2","v":262.60000000000002},263,null,21,{"$f":"(1/(L26*256))*Setup_Settings!$E$5*60000000","v":11160.714285714284},{"$f":"(TREND(INDEX($V$5:$V$32,MATCH(F26,$U$5:$U$32)):INDEX($V$5:$V$32,MATCH(F26,$U$5:$U$32)+1),INDEX($U$5:$U$32,MATCH(F26,$U$5:$U$32)):INDEX($U$5:$U$32,MATCH(F26,$U$5:$U$32)+1),F26))*256/360","v":19.2},12.8,{"$f":"(L26*O26)-$F$2","v":217.8},218,null,null,null,{"$f":"Advance_Curves!$X$33","v":10500},{"$f":"Advance_Curves!$X$34","v":27}]
[null,{"$f":"Advance_Curves!$Y$4","v":11000},{"$f":"Advance_Curves!$Y$5","v":24},null,22,{"$f":"(1/(E27*256))*Setup_Settings!$E$5*60000000","v":10653.409090909092},{"$f":"(TREND(INDEX($C$5:$C$32,MATCH(F27,$B$5:$B$32)):INDEX($C$5:$C$32,MATCH(F27,$B$5:$B$32)+1),INDEX($B$5:$B$32,MATCH(F27,$B$5:$B$32)):INDEX($B$5:$B$32,MATCH(F27,$B$5:$B$32)+1),F27))*256/360","v":17.066666666666666},14.933333333333334,277.53333333333336,278,null,22,{"$f":"(1/(L27*256))*Setup_Settings!$E$5*60000000","v":10653.409090909092},{"$f":"(TREND(INDEX($V$5:$V$32,MATCH(F27,$U$5:$U$32)):INDEX($V$5:$V$32,MATCH(F27,$U$5:$U$32)+1),INDEX($U$5:$U$32,MATCH(F27,$U$5:$U$32)):INDEX($U$5:$U$32,MATCH(F27,$U$5:$U$32)+1),F27))*256/360","v":19.2},12.8,{"$f":"(L27*O27)-$F$2","v":230.60000000000002},231,null,null,null,{"$f":"Advance_Curves!$Y$33","v":11000},{"$f":"Advance_Curves!$Y$34","v":27}]
[null,{"$f":"Advance_Curves!$Z$4","v":12000},{"$f":"Advance_Curves!$Z$5","v":24},null,23,{"$f":"(1/(E28*256))*Setup_Settings!$E$5*60000000","v":10190.217391304348},{"$f":"(TREND(INDEX($C$5:$C$32,MATCH(F28,$B$5:$B$32)):INDEX($C$5:$C$32,MATCH(F28,$B$5:$B$32)+1),INDEX($B$5:$B$32,MATCH(F28,$B$5:$B$32)):INDEX($B$5:$B$32,MATCH(F28,$B$5:$B$32)+1),F28))*256/360","v":17.066666666666666},14.933333333333334,292.4666666666667,292,null,23,{"$f":"(1/(L28*256))*Setup_Settings!$E$5*60000000","v":10190.217391304348},{"$f":"(TREND(INDEX($V$5:$V$32,MATCH(F28,$U$5:$U$32)):INDEX($V$5:$V$32,MATCH(F28,$U$5:$U$32)+1),INDEX($U$5:$U$32,MATCH(F28,$U$5:$U$32)):INDEX($U$5:$U$32,MATCH(F28,$U$5:$U$32)+1),F28))*256/360","v":19.2},12.8,243.40000000000003,243,null,null,null,{"$f":"Advance_Curves!$Z$33","v":12000},{"$f":"Advance_Curves!$Z$34","v":27}]
[null,{"$f":"Advance_Curves!$AA$4","v":13000},{"$f":"Advance_Curves!$AA$5","v":24},null,24,{"$f":"(1/(E29*256))*Setup_Settings!$E$5*60000000","v":9765.625},{"$f":"(TREND(INDEX($C$5:$C$32,MATCH(F29,$B$5:$B$32)):INDEX($C$5:$C$32,MATCH(F29,$B$5:$B$32)+1),INDEX($B$5:$B$32,MATCH(F29,$B$5:$B$32)):INDEX($B$5:$B$32,MATCH(F29,$B$5:$B$32)+1),F29))*256/360","v":17.066666666666666},14.933333333333334,307.39999999999998,307,null,24,{"$f":"(1/(L29*256))*Setup_Settings!$E$5*60000000","v":9765.625},{"$f":"(TREND(INDEX($V$5:$V$32,MATCH(F29,$U$5:$U$32)):INDEX($V$5:$V$32,MATCH(F29,$U$5:$U$32)+1),INDEX($U$5:$U$32,MATCH(F29,$U$5:$U$32)):INDEX($U$5:$U$32,MATCH(F29,$U$5:$U$32)+1),F29))*256/360","v":19.2},12.8,256.20000000000005,256,null,null,null,{"$f":"Advance_Curves!$AA$33","v":13000},{"$f":"Advance_Curves!$AA$34","v":27}]
[null,{"$f":"Advance_Curves!$AB$4","v":14000},{"$f":"Advance_Curves!$AB$5","v":24},null,25,{"$f":"(1/(E30*256))*Setup_Settings!$E$5*60000000","v":9375},{"$f":"(TREND(INDEX($C$5:$C$32,MATCH(F30,$B$5:$B$32)):INDEX($C$5:$C$32,MATCH(F30,$B$5:$B$32)+1),INDEX($B$5:$B$32,MATCH(F30,$B$5:$B$32)):INDEX($B$5:$B$32,MATCH(F30,$B$5:$B$32)+1),F30))*256/360","v":17.066666666666666},14.933333333333334,322.33333333333331,322,null,25,{"$f":"(1/(L30*256))*Setup_Settings!$E$5*60000000","v":9375},{"$f":"(TREND(INDEX($V$5:$V$32,MATCH(F30,$U$5:$U$32)):INDEX($V$5:$V$32,MATCH(F30,$U$5:$U$32)+1),INDEX($U$5:$U$32,MATCH(F30,$U$5:$U$32)):INDEX($U$5:$U$32,MATCH(F30,$U$5:$U$32)+1),F30))*256/360","v":19.2},12.8,269,269,null,null,null,{"$f":"Advance_Curves!$AB$33","v":14000},{"$f":"Advance_Curves!$AB$34","v":27}]
[null,{"$f":"Advance_Curves!$AC$4","v":15000},{"$f":"Advance_Curves!$AC$5","v":24},null,26,{"$f":"(1/(E31*256))*Setup_Settings!$E$5*60000000","v":9014.423076923078},{"$f":"(TREND(INDEX($C$5:$C$32,MATCH(F31,$B$5:$B$32)):INDEX($C$5:$C$32,MATCH(F31,$B$5:$B$32)+1),INDEX($B$5:$B$32,MATCH(F31,$B$5:$B$32)):INDEX($B$5:$B$32,MATCH(F31,$B$5:$B$32)+1),F31))*256/360","v":17.066666666666666},14.933333333333334,337.26666666666665,337,null,26,{"$f":"(1/(L31*256))*Setup_Settings!$E$5*60000000","v":9014.423076923078},{"$f":"(TREND(INDEX($V$5:$V$32,MATCH(F31,$U$5:$U$32)):INDEX($V$5:$V$32,MATCH(F31,$U$5:$U$32)+1),INDEX($U$5:$U$32,MATCH(F31,$U$5:$U$32)):INDEX($U$5:$U$32,MATCH(F31,$U$5:$U$32)+1),F31))*256/360","v":19.2},12.8,281.8,282,null,null,null,{"$f":"Advance_Curves!$AC$33","v":15000},{"$f":"Advance_Curves!$AC$34","v":27}]
[null,{"$f":"Advance_Curves!$AD$4","v":16000},{"$f":"Advance_Curves!$AD$5","v":24},null,27,{"$f":"(1/(E32*256))*Setup_Settings!$E$5*60000000","v":8680.5555555555547},{"$f":"(TREND(INDEX($C$5:$C$32,MATCH(F32,$B$5:$B$32)):INDEX($C$5:$C$32,MATCH(F32,$B$5:$B$32)+1),INDEX($B$5:$B$32,MATCH(F32,$B$5:$B$32)):INDEX($B$5:$B$32,MATCH(F32,$B$5:$B$32)+1),F32))*256/360","v":17.066666666666666},14.933333333333334,352.2,352,null,27,{"$f":"(1/(L32*256))*Setup_Settings!$E$5*60000000","v":8680.5555555555547},{"$f":"(TREND(INDEX($V$5:$V$32,MATCH(F32,$U$5:$U$32)):INDEX($V$5:$V$32,MATCH(F32,$U$5:$U$32)+1),INDEX($U$5:$U$32,MATCH(F32,$U$5:$U$32)):INDEX($U$5:$U$32,MATCH(F32,$U$5:$U$32)+1),F32))*256/360","v":19.2},12.8,294.60000000000002,295,null,null,null,{"$f":"Advance_Curves!$AD$33","v":16000},{"$f":"Advance_Curves!$AD$34","v":27}]
[null,null,null,null,28,{"$f":"(1/(E33*256))*Setup_Settings!$E$5*60000000","v":8370.5357142857138},{"$f":"(TREND(INDEX($C$5:$C$32,MATCH(F33,$B$5:$B$32)):INDEX($C$5:$C$32,MATCH(F33,$B$5:$B$32)+1),INDEX($B$5:$B$32,MATCH(F33,$B$5:$B$32)):INDEX($B$5:$B$32,MATCH(F33,$B$5:$B$32)+1),F33))*256/360","v":17.066666666666666},14.933333333333334,367.13333333333333,367,null,28,{"$f":"(1/(L33*256))*Setup_Settings!$E$5*60000000","v":8370.5357142857138},{"$f":"(TREND(INDEX($V$5:$V$32,MATCH(F33,$U$5:$U$32)):INDEX($V$5:$V$32,MATCH(F33,$U$5:$U$32)+1),INDEX($U$5:$U$32,MATCH(F33,$U$5:$U$32)):INDEX($U$5:$U$32,MATCH(F33,$U$5:$U$32)+1),F33))*256/360","v":19.2},12.8,307.40000000000003,307]
[null,null,null,null,29,{"$f":"(1/(E34*256))*Setup_Settings!$E$5*60000000","v":8081.8965517241377},{"$f":"(TREND(INDEX($C$5:$C$32,MATCH(F34,$B$5:$B$32)):INDEX($C$5:$C$32,MATCH(F34,$B$5:$B$32)+1),INDEX($B$5:$B$32,MATCH(F34,$B$5:$B$32)):INDEX($B$5:$B$32,MATCH(F34,$B$5:$B$32)+1),F34))*256/360","v":17.066666666666666},14.933333333333334,382.06666666666666,382,null,29,{"$f":"(1/(L34*256))*Setup_Settings!$E$5*60000000","v":8081.8965517241377},{"$f":"(TREND(INDEX($V$5:$V$32,MATCH(F34,$U$5:$U$32)):INDEX($V$5:$V$32,MATCH(F34,$U$5:$U$32)+1),INDEX($U$5:$U$32,MATCH(F34,$U$5:$U$32)):INDEX($U$5:$U$32,MATCH(F34,$U$5:$U$32)+1),F34))*256/360","v":19.2},12.8,320.20000000000005,320]
[null,null,null,null,30,{"$f":"(1/(E35*256))*Setup_Settings!$E$5*60000000","v":7812.5},{"$f":"(TREND(INDEX($C$5:$C$32,MATCH(F35,$B$5:$B$32)):INDEX($C$5:$C$32,MATCH(F35,$B$5:$B$32)+1),INDEX($B$5:$B$32,MATCH(F35,$B$5:$B$32)):INDEX($B$5:$B$32,MATCH(F35,$B$5:$B$32)+1),F35))*256/360","v":17.066666666666666},14.933333333333334,397,397,null,30,{"$f":"(1/(L35*256))*Setup_Settings!$E$5*60000000","v":7812.5},{"$f":"(TREND(INDEX($V$5:$V$32,MATCH(F35,$U$5:$U$32)):INDEX($V$5:$V$32,MATCH(F35,$U$5:$U$32)+1),INDEX($U$5:$U$32,MATCH(F35,$U$5:$U$32)):INDEX($U$5:$U$32,MATCH(F35,$U$5:$U$32)+1),F35))*256/360","v":19.2},12.8,333,333]
[null,null,null,null,31,{"$f":"(1/(E36*256))*Setup_Settings!$E$5*60000000","v":7560.4838709677415},{"$f":"(TREND(INDEX($C$5:$C$32,MATCH(F36,$B$5:$B$32)):INDEX($C$5:$C$32,MATCH(F36,$B$5:$B$32)+1),INDEX($B$5:$B$32,MATCH(F36,$B$5:$B$32)):INDEX($B$5:$B$32,MATCH(F36,$B$5:$B$32)+1),F36))*256/360","v":17.066666666666666},14.933333333333334,411.93333333333334,412,null,31,{"$f":"(1/(L36*256))*Setup_Settings!$E$5*60000000","v":7560.4838709677415},{"$f":"(TREND(INDEX($V$5:$V$32,MATCH(F36,$U$5:$U$32)):INDEX($V$5:$V$32,MATCH(F36,$U$5:$U$32)+1),INDEX($U$5:$U$32,MATCH(F36,$U$5:$U$32)):INDEX($U$5:$U$32,MATCH(F36,$U$5:$U$32)+1),F36))*256/360","v":19.2},12.8,345.8,346]
[null,null,null,null,32,{"$f":"(1/(E37*256))*Setup_Settings!$E$5*60000000","v":7324.21875},{"$f":"(TREND(INDEX($C$5:$C$32,MATCH(F37,$B$5:$B$32)):INDEX($C$5:$C$32,MATCH(F37,$B$5:$B$32)+1),INDEX($B$5:$B$32,MATCH(F37,$B$5:$B$32)):INDEX($B$5:$B$32,MATCH(F37,$B$5:$B$32)+1),F37))*256/360","v":17.066666666666666},14.933333333333334,426.86666666666667,427,null,32,{"$f":"(1/(L37*256))*Setup_Settings!$E$5*60000000","v":7324.21875},{"$f":"(TREND(INDEX($V$5:$V$32,MATCH(F37,$U$5:$U$32)):INDEX($V$5:$V$32,MATCH(F37,$U$5:$U$32)+1),INDEX($U$5:$U$32,MATCH(F37,$U$5:$U$32)):INDEX($U$5:$U$32,MATCH(F37,$U$5:$U$32)+1),F37))*256/360","v":19.2},12.8,358.6,359]
[null,null,null,null,33,{"$f":"(1/(E38*256))*Setup_Settings!$E$5*60000000","v":7102.272727272727},{"$f":"(TREND(INDEX($C$5:$C$32,MATCH(F38,$B$5:$B$32)):INDEX($C$5:$C$32,MATCH(F38,$B$5:$B$32)+1),INDEX($B$5:$B$32,MATCH(F38,$B$5:$B$32)):INDEX($B$5:$B$32,MATCH(F38,$B$5:$B$32)+1),F38))*256/360","v":17.066666666666666},14.933333333333334,441.8,442,null,33,{"$f":"(1/(L38*256))*Setup_Settings!$E$5*60000000","v":7102.272727272727},{"$f":"(TREND(INDEX($V$5:$V$32,MATCH(F38,$U$5:$U$32)):INDEX($V$5:$V$32,MATCH(F38,$U$5:$U$32)+1),INDEX($U$5:$U$32,MATCH(F38,$U$5:$U$32)):INDEX($U$5:$U$32,MATCH(F38,$U$5:$U$32)+1),F38))*256/360","v":19.2},12.8,371.40000000000003,371]
[null,null,null,null,34,{"$f":"(1/(E39*256))*Setup_Settings!$E$5*60000000","v":6893.3823529411766},{"$f":"(TREND(INDEX($C$5:$C$32,MATCH(F39,$B$5:$B$32)):INDEX($C$5:$C$32,MATCH(F39,$B$5:$B$32)+1),INDEX($B$5:$B$32,MATCH(F39,$B$5:$B$32)):INDEX($B$5:$B$32,MATCH(F39,$B$5:$B$32)+1),F39))*256/360","v":17.066666666666666},14.933333333333334,456.73333333333335,457,null,34,{"$f":"(1/(L39*256))*Setup_Settings!$E$5*60000000","v":6893.3823529411766},{"$f":"(TREND(INDEX($V$5:$V$32,MATCH(F39,$U$5:$U$32)):INDEX($V$5:$V$32,MATCH(F39,$U$5:$U$32)+1),INDEX($U$5:$U$32,MATCH(F39,$U$5:$U$32)):INDEX($U$5:$U$32,MATCH(F39,$U$5:$U$32)+1),F39))*256/360","v":19.2},12.8,384.20000000000005,384]
[null,null,null,null,35,{"$f":"(1/(E40*256))*Setup_Settings!$E$5*60000000","v":6696.4285714285716},{"$f":"(TREND(INDEX($C$5:$C$32,MATCH(F40,$B$5:$B$32)):INDEX($C$5:$C$32,MATCH(F40,$B$5:$B$32)+1),INDEX($B$5:$B$32,MATCH(F40,$B$5:$B$32)):INDEX($B$5:$B$32,MATCH(F40,$B$5:$B$32)+1),F40))*256/360","v":17.066666666666666},14.933333333333334,471.66666666666663,472,null,35,{"$f":"(1/(L40*256))*Setup_Settings!$E$5*60000000","v":6696.4285714285716},{"$f":"(TREND(INDEX($V$5:$V$32,MATCH(F40,$U$5:$U$32)):INDEX($V$5:$V$32,MATCH(F40,$U$5:$U$32)+1),INDEX($U$5:$U$32,MATCH(F40,$U$5:$U$32)):INDEX($U$5:$U$32,MATCH(F40,$U$5:$U$32)+1),F40))*256/360","v":19.2},12.8,397,397]
[null,null,null,null,36,{"$f":"(1/(E41*256))*Setup_Settings!$E$5*60000000","v":6510.4166666666661},{"$f":"(TREND(INDEX($C$5:$C$32,MATCH(F41,$B$5:$B$32)):INDEX($C$5:$C$32,MATCH(F41,$B$5:$B$32)+1),INDEX($B$5:$B$32,MATCH(F41,$B$5:$B$32)):INDEX($B$5:$B$32,MATCH(F41,$B$5:$B$32)+1),F41))*256/360","v":17.066666666666666},14.933333333333334,486.6,487,null,36,{"$f":"(1/(L41*256))*Setup_Settings!$E$5*60000000","v":6510.4166666666661},{"$f":"(TREND(INDEX($V$5:$V$32,MATCH(F41,$U$5:$U$32)):INDEX($V$5:$V$32,MATCH(F41,$U$5:$U$32)+1),INDEX($U$5:$U$32,MATCH(F41,$U$5:$U$32)):INDEX($U$5:$U$32,MATCH(F41,$U$5:$U$32)+1),F41))*256/360","v":19.2},12.8,409.8,410]
[null,null,null,null,37,{"$f":"(1/(E42*256))*Setup_Settings!$E$5*60000000","v":6334.45945945946},{"$f":"(TREND(INDEX($C$5:$C$32,MATCH(F42,$B$5:$B$32)):INDEX($C$5:$C$32,MATCH(F42,$B$5:$B$32)+1),INDEX($B$5:$B$32,MATCH(F42,$B$5:$B$32)):INDEX($B$5:$B$32,MATCH(F42,$B$5:$B$32)+1),F42))*256/360","v":17.066666666666666},14.933333333333334,501.5333333333333,502,null,37,{"$f":"(1/(L42*256))*Setup_Settings!$E$5*60000000","v":6334.45945945946},{"$f":"(TREND(INDEX($V$5:$V$32,MATCH(F42,$U$5:$U$32)):INDEX($V$5:$V$32,MATCH(F42,$U$5:$U$32)+1),INDEX($U$5:$U$32,MATCH(F42,$U$5:$U$32)):INDEX($U$5:$U$32,MATCH(F42,$U$5:$U$32)+1),F42))*256/360","v":19.2},12.8,422.6,423]
[null,null,null,null,38,{"$f":"(1/(E43*256))*Setup_Settings!$E$5*60000000","v":6167.7631578947367},{"$f":"(TREND(INDEX($C$5:$C$32,MATCH(F43,$B$5:$B$32)):INDEX($C$5:$C$32,MATCH(F43,$B$5:$B$32)+1),INDEX($B$5:$B$32,MATCH(F43,$B$5:$B$32)):INDEX($B$5:$B$32,MATCH(F43,$B$5:$B$32)+1),F43))*256/360","v":17.066666666666666},14.933333333333334,516.4666666666667,516,null,38,{"$f":"(1/(L43*256))*Setup_Settings!$E$5*60000000","v":6167.7631578947367},{"$f":"(TREND(INDEX($V$5:$V$32,MATCH(F43,$U$5:$U$32)):INDEX($V$5:$V$32,MATCH(F43,$U$5:$U$32)+1),INDEX($U$5:$U$32,MATCH(F43,$U$5:$U$32)):INDEX($U$5:$U$32,MATCH(F43,$U$5:$U$32)+1),F43))*256/360","v":19.2},12.8,435.40000000000003,435]
[null,null,null,null,39,{"$f":"(1/(E44*256))*Setup_Settings!$E$5*60000000","v":6009.6153846153848},{"$f":"(TREND(INDEX($C$5:$C$32,MATCH(F44,$B$5:$B$32)):INDEX($C$5:$C$32,MATCH(F44,$B$5:$B$32)+1),INDEX($B$5:$B$32,MATCH(F44,$B$5:$B$32)):INDEX($B$5:$B$32,MATCH(F44,$B$5:$B$32)+1),F44))*256/360","v":17.066666666666666},14.933333333333334,531.4,531,null,39,{"$f":"(1/(L44*256))*Setup_Settings!$E$5*60000000","v":6009.6153846153848},{"$f":"(TREND(INDEX($V$5:$V$32,MATCH(F44,$U$5:$U$32)):INDEX($V$5:$V$32,MATCH(F44,$U$5:$U$32)+1),INDEX($U$5:$U$32,MATCH(F44,$U$5:$U$32)):INDEX($U$5:$U$32,MATCH(F44,$U$5:$U$32)+1),F44))*256/360","v":19.2},12.8,448.20000000000005,448]
[null,null,null,null,40,{"$f":"(1/(E45*256))*Setup_Settings!$E$5*60000000","v":5859.375},{"$f":"(TREND(INDEX($C$5:$C$32,MATCH(F45,$B$5:$B$32)):INDEX($C$5:$C$32,MATCH(F45,$B$5:$B$32)+1),INDEX($B$5:$B$32,MATCH(F45,$B$5:$B$32)):INDEX($B$5:$B$32,MATCH(F45,$B$5:$B$32)+1),F45))*256/360","v":17.066666666666666},14.933333333333334,546.33333333333337,546,null,40,{"$f":"(1/(L45*256))*Setup_Settings!$E$5*60000000","v":5859.375},{"$f":"(TREND(INDEX($V$5:$V$32,MATCH(F45,$U$5:$U$32)):INDEX($V$5:$V$32,MATCH(F45,$U$5:$U$32)+1),INDEX($U$5:$U$32,MATCH(F45,$U$5:$U$32)):INDEX($U$5:$U$32,MATCH(F45,$U$5:$U$32)+1),F45))*256/360","v":19.2},12.8,461,461]
[null,null,null,null,41,{"$f":"(1/(E46*256))*Setup_Settings!$E$5*60000000","v":5716.4634146341468},{"$f":"(TREND(INDEX($C$5:$C$32,MATCH(F46,$B$5:$B$32)):INDEX($C$5:$C$32,MATCH(F46,$B$5:$B$32)+1),INDEX($B$5:$B$32,MATCH(F46,$B$5:$B$32)):INDEX($B$5:$B$32,MATCH(F46,$B$5:$B$32)+1),F46))*256/360","v":17.066666666666666},14.933333333333334,561.26666666666665,561,null,41,{"$f":"(1/(L46*256))*Setup_Settings!$E$5*60000000","v":5716.4634146341468},{"$f":"(TREND(INDEX($V$5:$V$32,MATCH(F46,$U$5:$U$32)):INDEX($V$5:$V$32,MATCH(F46,$U$5:$U$32)+1),INDEX($U$5:$U$32,MATCH(F46,$U$5:$U$32)):INDEX($U$5:$U$32,MATCH(F46,$U$5:$U$32)+1),F46))*256/360","v":19.2},12.8,473.80000000000007,474]
[null,null,null,null,42,{"$f":"(1/(E47*256))*Setup_Settings!$E$5*60000000","v":5580.3571428571422},{"$f":"(TREND(INDEX($C$5:$C$32,MATCH(F47,$B$5:$B$32)):INDEX($C$5:$C$32,MATCH(F47,$B$5:$B$32)+1),INDEX($B$5:$B$32,MATCH(F47,$B$5:$B$32)):INDEX($B$5:$B$32,MATCH(F47,$B$5:$B$32)+1),F47))*256/360","v":17.066666666666666},14.933333333333334,576.20000000000005,576,null,42,{"$f":"(1/(L47*256))*Setup_Settings!$E$5*60000000","v":5580.3571428571422},{"$f":"(TREND(INDEX($V$5:$V$32,MATCH(F47,$U$5:$U$32)):INDEX($V$5:$V$32,MATCH(F47,$U$5:$U$32)+1),INDEX($U$5:$U$32,MATCH(F47,$U$5:$U$32)):INDEX($U$5:$U$32,MATCH(F47,$U$5:$U$32)+1),F47))*256/360","v":19.2},12.8,486.6,487]
[null,null,null,null,43,{"$f":"(1/(E48*256))*Setup_Settings!$E$5*60000000","v":5450.5813953488368},{"$f":"(TREND(INDEX($C$5:$C$32,MATCH(F48,$B$5:$B$32)):INDEX($C$5:$C$32,MATCH(F48,$B$5:$B$32)+1),INDEX($B$5:$B$32,MATCH(F48,$B$5:$B$32)):INDEX($B$5:$B$32,MATCH(F48,$B$5:$B$32)+1),F48))*256/360","v":17.066666666666666},14.933333333333334,591.13333333333333,591,null,43,{"$f":"(1/(L48*256))*Setup_Settings!$E$5*60000000","v":5450.5813953488368},{"$f":"(TREND(INDEX($V$5:$V$32,MATCH(F48,$U$5:$U$32)):INDEX($V$5:$V$32,MATCH(F48,$U$5:$U$32)+1),INDEX($U$5:$U$32,MATCH(F48,$U$5:$U$32)):INDEX($U$5:$U$32,MATCH(F48,$U$5:$U$32)+1),F48))*256/360","v":19.2},12.8,499.4,499]
[null,null,null,null,44,{"$f":"(1/(E49*256))*Setup_Settings!$E$5*60000000","v":5326.704545454546},{"$f":"(TREND(INDEX($C$5:$C$32,MATCH(F49,$B$5:$B$32)):INDEX($C$5:$C$32,MATCH(F49,$B$5:$B$32)+1),INDEX($B$5:$B$32,MATCH(F49,$B$5:$B$32)):INDEX($B$5:$B$32,MATCH(F49,$B$5:$B$32)+1),F49))*256/360","v":17.066666666666666},14.933333333333334,606.06666666666672,606,null,44,{"$f":"(1/(L49*256))*Setup_Settings!$E$5*60000000","v":5326.704545454546},{"$f":"(TREND(INDEX($V$5:$V$32,MATCH(F49,$U$5:$U$32)):INDEX($V$5:$V$32,MATCH(F49,$U$5:$U$32)+1),INDEX($U$5:$U$32,MATCH(F49,$U$5:$U$32)):INDEX($U$5:$U$32,MATCH(F49,$U$5:$U$32)+1),F49))*256/360","v":19.2},12.8,512.20000000000005,512]
[null,null,null,null,45,{"$f":"(1/(E50*256))*Setup_Settings!$E$5*60000000","v":5208.3333333333339},{"$f":"(TREND(INDEX($C$5:$C$32,MATCH(F50,$B$5:$B$32)):INDEX($C$5:$C$32,MATCH(F50,$B$5:$B$32)+1),INDEX($B$5:$B$32,MATCH(F50,$B$5:$B$32)):INDEX($B$5:$B$32,MATCH(F50,$B$5:$B$32)+1),F50))*256/360","v":17.066666666666666},14.933333333333334,621,621,null,45,{"$f":"(1/(L50*256))*Setup_Settings!$E$5*60000000","v":5208.3333333333339},{"$f":"(TREND(INDEX($V$5:$V$32,MATCH(F50,$U$5:$U$32)):INDEX($V$5:$V$32,MATCH(F50,$U$5:$U$32)+1),INDEX($U$5:$U$32,MATCH(F50,$U$5:$U$32)):INDEX($U$5:$U$32,MATCH(F50,$U$5:$U$32)+1),F50))*256/360","v":19.2},12.8,525,525]
[null,null,null,null,46,{"$f":"(1/(E51*256))*Setup_Settings!$E$5*60000000","v":5095.108695652174},{"$f":"(TREND(INDEX($C$5:$C$32,MATCH(F51,$B$5:$B$32)):INDEX($C$5:$C$32,MATCH(F51,$B$5:$B$32)+1),INDEX($B$5:$B$32,MATCH(F51,$B$5:$B$32)):INDEX($B$5:$B$32,MATCH(F51,$B$5:$B$32)+1),F51))*256/360","v":17.066666666666666},14.933333333333334,635.93333333333339,636,null,46,{"$f":"(1/(L51*256))*Setup_Settings!$E$5*60000000","v":5095.108695652174},{"$f":"(TREND(INDEX($V$5:$V$32,MATCH(F51,$U$5:$U$32)):INDEX($V$5:$V$32,MATCH(F51,$U$5:$U$32)+1),INDEX($U$5:$U$32,MATCH(F51,$U$5:$U$32)):INDEX($U$5:$U$32,MATCH(F51,$U$5:$U$32)+1),F51))*256/360","v":19.2},12.8,537.80000000000007,538]
[null,null,null,null,47,{"$f":"(1/(E52*256))*Setup_Settings!$E$5*60000000","v":4986.7021276595742},{"$f":"(TREND(INDEX($C$5:$C$32,MATCH(F52,$B$5:$B$32)):INDEX($C$5:$C$32,MATCH(F52,$B$5:$B$32)+1),INDEX($B$5:$B$32,MATCH(F52,$B$5:$B$32)):INDEX($B$5:$B$32,MATCH(F52,$B$5:$B$32)+1),F52))*256/360","v":17.066666666666666},14.933333333333334,650.86666666666667,651,null,47,{"$f":"(1/(L52*256))*Setup_Settings!$E$5*60000000","v":4986.7021276595742},{"$f":"(TREND(INDEX($V$5:$V$32,MATCH(F52,$U$5:$U$32)):INDEX($V$5:$V$32,MATCH(F52,$U$5:$U$32)+1),INDEX($U$5:$U$32,MATCH(F52,$U$5:$U$32)):INDEX($U$5:$U$32,MATCH(F52,$U$5:$U$32)+1),F52))*256/360","v":19.2},12.8,550.6,551]
[null,null,null,null,48,{"$f":"(1/(E53*256))*Setup_Settings!$E$5*60000000","v":4882.8125},{"$f":"(TREND(INDEX($C$5:$C$32,MATCH(F53,$B$5:$B$32)):INDEX($C$5:$C$32,MATCH(F53,$B$5:$B$32)+1),INDEX($B$5:$B$32,MATCH(F53,$B$5:$B$32)):INDEX($B$5:$B$32,MATCH(F53,$B$5:$B$32)+1),F53))*256/360","v":17.066666666666666},14.933333333333334,665.8,666,null,48,{"$f":"(1/(L53*256))*Setup_Settings!$E$5*60000000","v":4882.8125},{"$f":"(TREND(INDEX($V$5:$V$32,MATCH(F53,$U$5:$U$32)):INDEX($V$5:$V$32,MATCH(F53,$U$5:$U$32)+1),INDEX($U$5:$U$32,MATCH(F53,$U$5:$U$32)):INDEX($U$5:$U$32,MATCH(F53,$U$5:$U$32)+1),F53))*256/360","v":19.2},12.8,563.40000000000009,563]
[null,null,null,null,49,{"$f":"(1/(E54*256))*Setup_Settings!$E$5*60000000","v":4783.1632653061224},{"$f":"(TREND(INDEX($C$5:$C$32,MATCH(F54,$B$5:$B$32)):INDEX($C$5:$C$32,MATCH(F54,$B$5:$B$32)+1),INDEX($B$5:$B$32,MATCH(F54,$B$5:$B$32)):INDEX($B$5:$B$32,MATCH(F54,$B$5:$B$32)+1),F54))*256/360","v":17.066666666666666},14.933333333333334,680.73333333333335,681,null,49,{"$f":"(1/(L54*256))*Setup_Settings!$E$5*60000000","v":4783.1632653061224},{"$f":"(TREND(INDEX($V$5:$V$32,MATCH(F54,$U$5:$U$32)):INDEX($V$5:$V$32,MATCH(F54,$U$5:$U$32)+1),INDEX($U$5:$U$32,MATCH(F54,$U$5:$U$32)):INDEX($U$5:$U$32,MATCH(F54,$U$5:$U$32)+1),F54))*256/360","v":19.2},12.8,576.20000000000005,576]
[null,null,null,null,50,{"$f":"(1/(E55*256))*Setup_Settings!$E$5*60000000","v":4687.5},{"$f":"(TREND(INDEX($C$5:$C$32,MATCH(F55,$B$5:$B$32)):INDEX($C$5:$C$32,MATCH(F55,$B$5:$B$32)+1),INDEX($B$5:$B$32,MATCH(F55,$B$5:$B$32)):INDEX($B$5:$B$32,MATCH(F55,$B$5:$B$32)+1),F55))*256/360","v":17.066666666666666},14.933333333333334,695.66666666666663,696,null,50,{"$f":"(1/(L55*256))*Setup_Settings!$E$5*60000000","v":4687.5},{"$f":"(TREND(INDEX($V$5:$V$32,MATCH(F55,$U$5:$U$32)):INDEX($V$5:$V$32,MATCH(F55,$U$5:$U$32)+1),INDEX($U$5:$U$32,MATCH(F55,$U$5:$U$32)):INDEX($U$5:$U$32,MATCH(F55,$U$5:$U$32)+1),F55))*256/360","v":19.2},12.8,589,589]
[null,null,null,null,51,{"$f":"(1/(E56*256))*Setup_Settings!$E$5*60000000","v":4595.588235294118},{"$f":"(TREND(INDEX($C$5:$C$32,MATCH(F56,$B$5:$B$32)):INDEX($C$5:$C$32,MATCH(F56,$B$5:$B$32)+1),INDEX($B$5:$B$32,MATCH(F56,$B$5:$B$32)):INDEX($B$5:$B$32,MATCH(F56,$B$5:$B$32)+1),F56))*256/360","v":17.066666666666666},14.933333333333334,710.6,711,null,51,{"$f":"(1/(L56*256))*Setup_Settings!$E$5*60000000","v":4595.588235294118},{"$f":"(TREND(INDEX($V$5:$V$32,MATCH(F56,$U$5:$U$32)):INDEX($V$5:$V$32,MATCH(F56,$U$5:$U$32)+1),INDEX($U$5:$U$32,MATCH(F56,$U$5:$U$32)):INDEX($U$5:$U$32,MATCH(F56,$U$5:$U$32)+1),F56))*256/360","v":19.2},12.8,601.80000000000007,602]
[null,null,null,null,52,{"$f":"(1/(E57*256))*Setup_Settings!$E$5*60000000","v":4507.211538461539},{"$f":"(TREND(INDEX($C$5:$C$32,MATCH(F57,$B$5:$B$32)):INDEX($C$5:$C$32,MATCH(F57,$B$5:$B$32)+1),INDEX($B$5:$B$32,MATCH(F57,$B$5:$B$32)):INDEX($B$5:$B$32,MATCH(F57,$B$5:$B$32)+1),F57))*256/360","v":17.066666666666666},14.933333333333334,725.5333333333333,726,null,52,{"$f":"(1/(L57*256))*Setup_Settings!$E$5*60000000","v":4507.211538461539},{"$f":"(TREND(INDEX($V$5:$V$32,MATCH(F57,$U$5:$U$32)):INDEX($V$5:$V$32,MATCH(F57,$U$5:$U$32)+1),INDEX($U$5:$U$32,MATCH(F57,$U$5:$U$32)):INDEX($U$5:$U$32,MATCH(F57,$U$5:$U$32)+1),F57))*256/360","v":19.2},12.8,614.6,615]
[null,null,null,null,53,{"$f":"(1/(E58*256))*Setup_Settings!$E$5*60000000","v":4422.1698113207549},{"$f":"(TREND(INDEX($C$5:$C$32,MATCH(F58,$B$5:$B$32)):INDEX($C$5:$C$32,MATCH(F58,$B$5:$B$32)+1),INDEX($B$5:$B$32,MATCH(F58,$B$5:$B$32)):INDEX($B$5:$B$32,MATCH(F58,$B$5:$B$32)+1),F58))*256/360","v":17.066666666666666},14.933333333333334,740.4666666666667,740,null,53,{"$f":"(1/(L58*256))*Setup_Settings!$E$5*60000000","v":4422.1698113207549},{"$f":"(TREND(INDEX($V$5:$V$32,MATCH(F58,$U$5:$U$32)):INDEX($V$5:$V$32,MATCH(F58,$U$5:$U$32)+1),INDEX($U$5:$U$32,MATCH(F58,$U$5:$U$32)):INDEX($U$5:$U$32,MATCH(F58,$U$5:$U$32)+1),F58))*256/360","v":19.2},12.8,627.40000000000009,627]
[null,null,null,null,54,{"$f":"(1/(E59*256))*Setup_Settings!$E$5*60000000","v":4340.2777777777774},{"$f":"(TREND(INDEX($C$5:$C$32,MATCH(F59,$B$5:$B$32)):INDEX($C$5:$C$32,MATCH(F59,$B$5:$B$32)+1),INDEX($B$5:$B$32,MATCH(F59,$B$5:$B$32)):INDEX($B$5:$B$32,MATCH(F59,$B$5:$B$32)+1),F59))*256/360","v":17.066666666666666},14.933333333333334,755.4,755,null,54,{"$f":"(1/(L59*256))*Setup_Settings!$E$5*60000000","v":4340.2777777777774},{"$f":"(TREND(INDEX($V$5:$V$32,MATCH(F59,$U$5:$U$32)):INDEX($V$5:$V$32,MATCH(F59,$U$5:$U$32)+1),INDEX($U$5:$U$32,MATCH(F59,$U$5:$U$32)):INDEX($U$5:$U$32,MATCH(F59,$U$5:$U$32)+1),F59))*256/360","v":19.2},12.8,640.20000000000005,640]
[null,null,null,null,55,{"$f":"(1/(E60*256))*Setup_Settings!$E$5*60000000","v":4261.363636363636},{"$f":"(TREND(INDEX($C$5:$C$32,MATCH(F60,$B$5:$B$32)):INDEX($C$5:$C$32,MATCH(F60,$B$5:$B$32)+1),INDEX($B$5:$B$32,MATCH(F60,$B$5:$B$32)):INDEX($B$5:$B$32,MATCH(F60,$B$5:$B$32)+1),F60))*256/360","v":17.066666666666666},14.933333333333334,770.33333333333337,770,null,55,{"$f":"(1/(L60*256))*Setup_Settings!$E$5*60000000","v":4261.363636363636},{"$f":"(TREND(INDEX($V$5:$V$32,MATCH(F60,$U$5:$U$32)):INDEX($V$5:$V$32,MATCH(F60,$U$5:$U$32)+1),INDEX($U$5:$U$32,MATCH(F60,$U$5:$U$32)):INDEX($U$5:$U$32,MATCH(F60,$U$5:$U$32)+1),F60))*256/360","v":19.2},12.8,653,653]
[null,null,null,null,56,{"$f":"(1/(E61*256))*Setup_Settings!$E$5*60000000","v":4185.2678571428569},{"$f":"(TREND(INDEX($C$5:$C$32,MATCH(F61,$B$5:$B$32)):INDEX($C$5:$C$32,MATCH(F61,$B$5:$B$32)+1),INDEX($B$5:$B$32,MATCH(F61,$B$5:$B$32)):INDEX($B$5:$B$32,MATCH(F61,$B$5:$B$32)+1),F61))*256/360","v":17.066666666666666},14.933333333333334,785.26666666666665,785,null,56,{"$f":"(1/(L61*256))*Setup_Settings!$E$5*60000000","v":4185.2678571428569},{"$f":"(TREND(INDEX($V$5:$V$32,MATCH(F61,$U$5:$U$32)):INDEX($V$5:$V$32,MATCH(F61,$U$5:$U$32)+1),INDEX($U$5:$U$32,MATCH(F61,$U$5:$U$32)):INDEX($U$5:$U$32,MATCH(F61,$U$5:$U$32)+1),F61))*256/360","v":19.2},12.8,665.80000000000007,666]
[null,null,null,null,57,{"$f":"(1/(E62*256))*Setup_Settings!$E$5*60000000","v":4111.8421052631575},{"$f":"(TREND(INDEX($C$5:$C$32,MATCH(F62,$B$5:$B$32)):INDEX($C$5:$C$32,MATCH(F62,$B$5:$B$32)+1),INDEX($B$5:$B$32,MATCH(F62,$B$5:$B$32)):INDEX($B$5:$B$32,MATCH(F62,$B$5:$B$32)+1),F62))*256/360","v":17.066666666666666},14.933333333333334,800.2,800,null,57,{"$f":"(1/(L62*256))*Setup_Settings!$E$5*60000000","v":4111.8421052631575},{"$f":"(TREND(INDEX($V$5:$V$32,MATCH(F62,$U$5:$U$32)):INDEX($V$5:$V$32,MATCH(F62,$U$5:$U$32)+1),INDEX($U$5:$U$32,MATCH(F62,$U$5:$U$32)):INDEX($U$5:$U$32,MATCH(F62,$U$5:$U$32)+1),F62))*256/360","v":19.2},12.8,678.6,679]
[null,null,null,null,58,{"$f":"(1/(E63*256))*Setup_Settings!$E$5*60000000","v":4040.9482758620688},{"$f":"(TREND(INDEX($C$5:$C$32,MATCH(F63,$B$5:$B$32)):INDEX($C$5:$C$32,MATCH(F63,$B$5:$B$32)+1),INDEX($B$5:$B$32,MATCH(F63,$B$5:$B$32)):INDEX($B$5:$B$32,MATCH(F63,$B$5:$B$32)+1),F63))*256/360","v":17.066666666666666},14.933333333333334,815.13333333333333,815,null,58,{"$f":"(1/(L63*256))*Setup_Settings!$E$5*60000000","v":4040.9482758620688},{"$f":"(TREND(INDEX($V$5:$V$32,MATCH(F63,$U$5:$U$32)):INDEX($V$5:$V$32,MATCH(F63,$U$5:$U$32)+1),INDEX($U$5:$U$32,MATCH(F63,$U$5:$U$32)):INDEX($U$5:$U$32,MATCH(F63,$U$5:$U$32)+1),F63))*256/360","v":19.2},12.8,691.40000000000009,691]
[null,null,null,null,59,{"$f":"(1/(E64*256))*Setup_Settings!$E$5*60000000","v":3972.4576271186443},{"$f":"(TREND(INDEX($C$5:$C$32,MATCH(F64,$B$5:$B$32)):INDEX($C$5:$C$32,MATCH(F64,$B$5:$B$32)+1),INDEX($B$5:$B$32,MATCH(F64,$B$5:$B$32)):INDEX($B$5:$B$32,MATCH(F64,$B$5:$B$32)+1),F64))*256/360","v":17.066666666666666},14.933333333333334,830.06666666666672,830,null,59,{"$f":"(1/(L64*256))*Setup_Settings!$E$5*60000000","v":3972.4576271186443},{"$f":"(TREND(INDEX($V$5:$V$32,MATCH(F64,$U$5:$U$32)):INDEX($V$5:$V$32,MATCH(F64,$U$5:$U$32)+1),INDEX($U$5:$U$32,MATCH(F64,$U$5:$U$32)):INDEX($U$5:$U$32,MATCH(F64,$U$5:$U$32)+1),F64))*256/360","v":19.2},12.8,704.2,704]
[null,null,null,null,60,{"$f":"(1/(E65*256))*Setup_Settings!$E$5*60000000","v":3906.25},{"$f":"(TREND(INDEX($C$5:$C$32,MATCH(F65,$B$5:$B$32)):INDEX($C$5:$C$32,MATCH(F65,$B$5:$B$32)+1),INDEX($B$5:$B$32,MATCH(F65,$B$5:$B$32)):INDEX($B$5:$B$32,MATCH(F65,$B$5:$B$32)+1),F65))*256/360","v":17.066666666666666},14.933333333333334,845,845,null,60,{"$f":"(1/(L65*256))*Setup_Settings!$E$5*60000000","v":3906.25},{"$f":"(TREND(INDEX($V$5:$V$32,MATCH(F65,$U$5:$U$32)):INDEX($V$5:$V$32,MATCH(F65,$U$5:$U$32)+1),INDEX($U$5:$U$32,MATCH(F65,$U$5:$U$32)):INDEX($U$5:$U$32,MATCH(F65,$U$5:$U$32)+1),F65))*256/360","v":19.2},12.8,717,717]
[null,null,null,null,61,{"$f":"(1/(E66*256))*Setup_Settings!$E$5*60000000","v":3842.2131147540986},{"$f":"(TREND(INDEX($C$5:$C$32,MATCH(F66,$B$5:$B$32)):INDEX($C$5:$C$32,MATCH(F66,$B$5:$B$32)+1),INDEX($B$5:$B$32,MATCH(F66,$B$5:$B$32)):INDEX($B$5:$B$32,MATCH(F66,$B$5:$B$32)+1),F66))*256/360","v":17.066666666666666},14.933333333333334,859.93333333333339,860,null,61,{"$f":"(1/(L66*256))*Setup_Settings!$E$5*60000000","v":3842.2131147540986},{"$f":"(TREND(INDEX($V$5:$V$32,MATCH(F66,$U$5:$U$32)):INDEX($V$5:$V$32,MATCH(F66,$U$5:$U$32)+1),INDEX($U$5:$U$32,MATCH(F66,$U$5:$U$32)):INDEX($U$5:$U$32,MATCH(F66,$U$5:$U$32)+1),F66))*256/360","v":19.2},12.8,729.80000000000007,730]
[null,null,null,null,62,{"$f":"(1/(E67*256))*Setup_Settings!$E$5*60000000","v":3780.2419354838707},{"$f":"(TREND(INDEX($C$5:$C$32,MATCH(F67,$B$5:$B$32)):INDEX($C$5:$C$32,MATCH(F67,$B$5:$B$32)+1),INDEX($B$5:$B$32,MATCH(F67,$B$5:$B$32)):INDEX($B$5:$B$32,MATCH(F67,$B$5:$B$32)+1),F67))*256/360","v":17.066666666666666},14.933333333333334,874.86666666666667,875,null,62,{"$f":"(1/(L67*256))*Setup_Settings!$E$5*60000000","v":3780.2419354838707},{"$f":"(TREND(INDEX($V$5:$V$32,MATCH(F67,$U$5:$U$32)):INDEX($V$5:$V$32,MATCH(F67,$U$5:$U$32)+1),INDEX($U$5:$U$32,MATCH(F67,$U$5:$U$32)):INDEX($U$5:$U$32,MATCH(F67,$U$5:$U$32)+1),F67))*256/360","v":19.2},12.8,742.6,743]
[null,null,null,null,63,{"$f":"(1/(E68*256))*Setup_Settings!$E$5*60000000","v":3720.238095238095},{"$f":"(TREND(INDEX($C$5:$C$32,MATCH(F68,$B$5:$B$32)):INDEX($C$5:$C$32,MATCH(F68,$B$5:$B$32)+1),INDEX($B$5:$B$32,MATCH(F68,$B$5:$B$32)):INDEX($B$5:$B$32,MATCH(F68,$B$5:$B$32)+1),F68))*256/360","v":17.066666666666666},14.933333333333334,889.80000000000007,890,null,63,{"$f":"(1/(L68*256))*Setup_Settings!$E$5*60000000","v":3720.238095238095},{"$f":"(TREND(INDEX($V$5:$V$32,MATCH(F68,$U$5:$U$32)):INDEX($V$5:$V$32,MATCH(F68,$U$5:$U$32)+1),INDEX($U$5:$U$32,MATCH(F68,$U$5:$U$32)):INDEX($U$5:$U$32,MATCH(F68,$U$5:$U$32)+1),F68))*256/360","v":19.2},12.8,755.40000000000009,755]
[null,null,null,null,64,{"$f":"(1/(E69*256))*Setup_Settings!$E$5*60000000","v":3662.109375},{"$f":"(TREND(INDEX($C$5:$C$32,MATCH(F69,$B$5:$B$32)):INDEX($C$5:$C$32,MATCH(F69,$B$5:$B$32)+1),INDEX($B$5:$B$32,MATCH(F69,$B$5:$B$32)):INDEX($B$5:$B$32,MATCH(F69,$B$5:$B$32)+1),F69))*256/360","v":17.066666666666666},14.933333333333334,904.73333333333335,905,null,64,{"$f":"(1/(L69*256))*Setup_Settings!$E$5*60000000","v":3662.109375},{"$f":"(TREND(INDEX($V$5:$V$32,MATCH(F69,$U$5:$U$32)):INDEX($V$5:$V$32,MATCH(F69,$U$5:$U$32)+1),INDEX($U$5:$U$32,MATCH(F69,$U$5:$U$32)):INDEX($U$5:$U$32,MATCH(F69,$U$5:$U$32)+1),F69))*256/360","v":19.2},12.8,768.2,768]
[null,null,null,null,65,{"$f":"(1/(E70*256))*Setup_Settings!$E$5*60000000","v":3605.7692307692309},{"$f":"(TREND(INDEX($C$5:$C$32,MATCH(F70,$B$5:$B$32)):INDEX($C$5:$C$32,MATCH(F70,$B$5:$B$32)+1),INDEX($B$5:$B$32,MATCH(F70,$B$5:$B$32)):INDEX($B$5:$B$32,MATCH(F70,$B$5:$B$32)+1),F70))*256/360","v":17.066666666666666},14.933333333333334,919.66666666666663,920,null,65,{"$f":"(1/(L70*256))*Setup_Settings!$E$5*60000000","v":3605.7692307692309},{"$f":"(TREND(INDEX($V$5:$V$32,MATCH(F70,$U$5:$U$32)):INDEX($V$5:$V$32,MATCH(F70,$U$5:$U$32)+1),INDEX($U$5:$U$32,MATCH(F70,$U$5:$U$32)):INDEX($U$5:$U$32,MATCH(F70,$U$5:$U$32)+1),F70))*256/360","v":19.2},12.8,781,781]
[null,null,null,null,66,{"$f":"(1/(E71*256))*Setup_Settings!$E$5*60000000","v":3551.1363636363635},{"$f":"(TREND(INDEX($C$5:$C$32,MATCH(F71,$B$5:$B$32)):INDEX($C$5:$C$32,MATCH(F71,$B$5:$B$32)+1),INDEX($B$5:$B$32,MATCH(F71,$B$5:$B$32)):INDEX($B$5:$B$32,MATCH(F71,$B$5:$B$32)+1),F71))*256/360","v":17.066666666666666},14.933333333333334,934.6,935,null,66,{"$f":"(1/(L71*256))*Setup_Settings!$E$5*60000000","v":3551.1363636363635},{"$f":"(TREND(INDEX($V$5:$V$32,MATCH(F71,$U$5:$U$32)):INDEX($V$5:$V$32,MATCH(F71,$U$5:$U$32)+1),INDEX($U$5:$U$32,MATCH(F71,$U$5:$U$32)):INDEX($U$5:$U$32,MATCH(F71,$U$5:$U$32)+1),F71))*256/360","v":19.2},12.8,793.80000000000007,794]
[null,null,null,null,67,{"$f":"(1/(E72*256))*Setup_Settings!$E$5*60000000","v":3498.1343283582087},{"$f":"(TREND(INDEX($C$5:$C$32,MATCH(F72,$B$5:$B$32)):INDEX($C$5:$C$32,MATCH(F72,$B$5:$B$32)+1),INDEX($B$5:$B$32,MATCH(F72,$B$5:$B$32)):INDEX($B$5:$B$32,MATCH(F72,$B$5:$B$32)+1),F72))*256/360","v":17.066666666666666},14.933333333333334,949.5333333333333,950,null,67,{"$f":"(1/(L72*256))*Setup_Settings!$E$5*60000000","v":3498.1343283582087},{"$f":"(TREND(INDEX($V$5:$V$32,MATCH(F72,$U$5:$U$32)):INDEX($V$5:$V$32,MATCH(F72,$U$5:$U$32)+1),INDEX($U$5:$U$32,MATCH(F72,$U$5:$U$32)):INDEX($U$5:$U$32,MATCH(F72,$U$5:$U$32)+1),F72))*256/360","v":19.2},12.8,806.6,807]
[null,null,null,null,68,{"$f":"(1/(E73*256))*Setup_Settings!$E$5*60000000","v":3446.6911764705883},{"$f":"(TREND(INDEX($C$5:$C$32,MATCH(F73,$B$5:$B$32)):INDEX($C$5:$C$32,MATCH(F73,$B$5:$B$32)+1),INDEX($B$5:$B$32,MATCH(F73,$B$5:$B$32)):INDEX($B$5:$B$32,MATCH(F73,$B$5:$B$32)+1),F73))*256/360","v":17.066666666666666},14.933333333333334,964.4666666666667,964,null,68,{"$f":"(1/(L73*256))*Setup_Settings!$E$5*60000000","v":3446.6911764705883},{"$f":"(TREND(INDEX($V$5:$V$32,MATCH(F73,$U$5:$U$32)):INDEX($V$5:$V$32,MATCH(F73,$U$5:$U$32)+1),INDEX($U$5:$U$32,MATCH(F73,$U$5:$U$32)):INDEX($U$5:$U$32,MATCH(F73,$U$5:$U$32)+1),F73))*256/360","v":19.2},12.8,819.40000000000009,819]
[null,null,null,null,69,{"$f":"(1/(E74*256))*Setup_Settings!$E$5*60000000","v":3396.7391304347825},{"$f":"(TREND(INDEX($C$5:$C$32,MATCH(F74,$B$5:$B$32)):INDEX($C$5:$C$32,MATCH(F74,$B$5:$B$32)+1),INDEX($B$5:$B$32,MATCH(F74,$B$5:$B$32)):INDEX($B$5:$B$32,MATCH(F74,$B$5:$B$32)+1),F74))*256/360","v":17.066666666666666},14.933333333333334,979.40000000000009,979,null,69,{"$f":"(1/(L74*256))*Setup_Settings!$E$5*60000000","v":3396.7391304347825},{"$f":"(TREND(INDEX($V$5:$V$32,MATCH(F74,$U$5:$U$32)):INDEX($V$5:$V$32,MATCH(F74,$U$5:$U$32)+1),INDEX($U$5:$U$32,MATCH(F74,$U$5:$U$32)):INDEX($U$5:$U$32,MATCH(F74,$U$5:$U$32)+1),F74))*256/360","v":19.2},12.8,832.2,832]
[null,null,null,null,70,{"$f":"(1/(E75*256))*Setup_Settings!$E$5*60000000","v":3348.2142857142858},{"$f":"(TREND(INDEX($C$5:$C$32,MATCH(F75,$B$5:$B$32)):INDEX($C$5:$C$32,MATCH(F75,$B$5:$B$32)+1),INDEX($B$5:$B$32,MATCH(F75,$B$5:$B$32)):INDEX($B$5:$B$32,MATCH(F75,$B$5:$B$32)+1),F75))*256/360","v":17.066666666666666},14.933333333333334,994.33333333333326,994,null,70,{"$f":"(1/(L75*256))*Setup_Settings!$E$5*60000000","v":3348.2142857142858},{"$f":"(TREND(INDEX($V$5:$V$32,MATCH(F75,$U$5:$U$32)):INDEX($V$5:$V$32,MATCH(F75,$U$5:$U$32)+1),INDEX($U$5:$U$32,MATCH(F75,$U$5:$U$32)):INDEX($U$5:$U$32,MATCH(F75,$U$5:$U$32)+1),F75))*256/360","v":19.2},12.8,845,845]
[null,null,null,null,71,{"$f":"(1/(E76*256))*Setup_Settings!$E$5*60000000","v":3301.0563380281692},{"$f":"(TREND(INDEX($C$5:$C$32,MATCH(F76,$B$5:$B$32)):INDEX($C$5:$C$32,MATCH(F76,$B$5:$B$32)+1),INDEX($B$5:$B$32,MATCH(F76,$B$5:$B$32)):INDEX($B$5:$B$32,MATCH(F76,$B$5:$B$32)+1),F76))*256/360","v":17.066666666666666},14.933333333333334,1009.2666666666667,1009,null,71,{"$f":"(1/(L76*256))*Setup_Settings!$E$5*60000000","v":3301.0563380281692},{"$f":"(TREND(INDEX($V$5:$V$32,MATCH(F76,$U$5:$U$32)):INDEX($V$5:$V$32,MATCH(F76,$U$5:$U$32)+1),INDEX($U$5:$U$32,MATCH(F76,$U$5:$U$32)):INDEX($U$5:$U$32,MATCH(F76,$U$5:$U$32)+1),F76))*256/360","v":19.2},12.8,857.80000000000007,858]
[null,null,null,null,72,{"$f":"(1/(E77*256))*Setup_Settings!$E$5*60000000","v":3255.208333333333},{"$f":"(TREND(INDEX($C$5:$C$32,MATCH(F77,$B$5:$B$32)):INDEX($C$5:$C$32,MATCH(F77,$B$5:$B$32)+1),INDEX($B$5:$B$32,MATCH(F77,$B$5:$B$32)):INDEX($B$5:$B$32,MATCH(F77,$B$5:$B$32)+1),F77))*256/360","v":17.066666666666666},14.933333333333334,1024.2,1024,null,72,{"$f":"(1/(L77*256))*Setup_Settings!$E$5*60000000","v":3255.208333333333},{"$f":"(TREND(INDEX($V$5:$V$32,MATCH(F77,$U$5:$U$32)):INDEX($V$5:$V$32,MATCH(F77,$U$5:$U$32)+1),INDEX($U$5:$U$32,MATCH(F77,$U$5:$U$32)):INDEX($U$5:$U$32,MATCH(F77,$U$5:$U$32)+1),F77))*256/360","v":19.2},12.8,870.6,871]
[null,null,null,null,73,{"$f":"(1/(E78*256))*Setup_Settings!$E$5*60000000","v":3210.6164383561641},{"$f":"(TREND(INDEX($C$5:$C$32,MATCH(F78,$B$5:$B$32)):INDEX($C$5:$C$32,MATCH(F78,$B$5:$B$32)+1),INDEX($B$5:$B$32,MATCH(F78,$B$5:$B$32)):INDEX($B$5:$B$32,MATCH(F78,$B$5:$B$32)+1),F78))*256/360","v":17.066666666666666},14.933333333333334,1039.1333333333334,1039,null,73,{"$f":"(1/(L78*256))*Setup_Settings!$E$5*60000000","v":3210.6164383561641},{"$f":"(TREND(INDEX($V$5:$V$32,MATCH(F78,$U$5:$U$32)):INDEX($V$5:$V$32,MATCH(F78,$U$5:$U$32)+1),INDEX($U$5:$U$32,MATCH(F78,$U$5:$U$32)):INDEX($U$5:$U$32,MATCH(F78,$U$5:$U$32)+1),F78))*256/360","v":19.2},12.8,883.40000000000009,883]
[null,null,null,null,74,{"$f":"(1/(E79*256))*Setup_Settings!$E$5*60000000","v":3167.22972972973},{"$f":"(TREND(INDEX($C$5:$C$32,MATCH(F79,$B$5:$B$32)):INDEX($C$5:$C$32,MATCH(F79,$B$5:$B$32)+1),INDEX($B$5:$B$32,MATCH(F79,$B$5:$B$32)):INDEX($B$5:$B$32,MATCH(F79,$B$5:$B$32)+1),F79))*256/360","v":17.066666666666666},14.933333333333334,1054.0666666666666,1054,null,74,{"$f":"(1/(L79*256))*Setup_Settings!$E$5*60000000","v":3167.22972972973},{"$f":"(TREND(INDEX($V$5:$V$32,MATCH(F79,$U$5:$U$32)):INDEX($V$5:$V$32,MATCH(F79,$U$5:$U$32)+1),INDEX($U$5:$U$32,MATCH(F79,$U$5:$U$32)):INDEX($U$5:$U$32,MATCH(F79,$U$5:$U$32)+1),F79))*256/360","v":19.2},12.8,896.2,896]
[null,null,null,null,75,{"$f":"(1/(E80*256))*Setup_Settings!$E$5*60000000","v":3125},{"$f":"(TREND(INDEX($C$5:$C$32,MATCH(F80,$B$5:$B$32)):INDEX($C$5:$C$32,MATCH(F80,$B$5:$B$32)+1),INDEX($B$5:$B$32,MATCH(F80,$B$5:$B$32)):INDEX($B$5:$B$32,MATCH(F80,$B$5:$B$32)+1),F80))*256/360","v":17.066666666666666},14.933333333333334,1069,1069,null,75,{"$f":"(1/(L80*256))*Setup_Settings!$E$5*60000000","v":3125},{"$f":"(TREND(INDEX($V$5:$V$32,MATCH(F80,$U$5:$U$32)):INDEX($V$5:$V$32,MATCH(F80,$U$5:$U$32)+1),INDEX($U$5:$U$32,MATCH(F80,$U$5:$U$32)):INDEX($U$5:$U$32,MATCH(F80,$U$5:$U$32)+1),F80))*256/360","v":19.2},12.8,909,909]
[null,null,null,null,76,{"$f":"(1/(E81*256))*Setup_Settings!$E$5*60000000","v":3083.8815789473683},{"$f":"(TREND(INDEX($C$5:$C$32,MATCH(F81,$B$5:$B$32)):INDEX($C$5:$C$32,MATCH(F81,$B$5:$B$32)+1),INDEX($B$5:$B$32,MATCH(F81,$B$5:$B$32)):INDEX($B$5:$B$32,MATCH(F81,$B$5:$B$32)+1),F81))*256/360","v":17.066666666666666},14.933333333333334,1083.9333333333334,1084,null,76,{"$f":"(1/(L81*256))*Setup_Settings!$E$5*60000000","v":3083.8815789473683},{"$f":"(TREND(INDEX($V$5:$V$32,MATCH(F81,$U$5:$U$32)):INDEX($V$5:$V$32,MATCH(F81,$U$5:$U$32)+1),INDEX($U$5:$U$32,MATCH(F81,$U$5:$U$32)):INDEX($U$5:$U$32,MATCH(F81,$U$5:$U$32)+1),F81))*256/360","v":19.2},12.8,921.80000000000007,922]
[null,null,null,null,77,{"$f":"(1/(E82*256))*Setup_Settings!$E$5*60000000","v":3043.8311688311692},{"$f":"(TREND(INDEX($C$5:$C$32,MATCH(F82,$B$5:$B$32)):INDEX($C$5:$C$32,MATCH(F82,$B$5:$B$32)+1),INDEX($B$5:$B$32,MATCH(F82,$B$5:$B$32)):INDEX($B$5:$B$32,MATCH(F82,$B$5:$B$32)+1),F82))*256/360","v":17.066666666666666},14.933333333333334,1098.8666666666668,1099,null,77,{"$f":"(1/(L82*256))*Setup_Settings!$E$5*60000000","v":3043.8311688311692},{"$f":"(TREND(INDEX($V$5:$V$32,MATCH(F82,$U$5:$U$32)):INDEX($V$5:$V$32,MATCH(F82,$U$5:$U$32)+1),INDEX($U$5:$U$32,MATCH(F82,$U$5:$U$32)):INDEX($U$5:$U$32,MATCH(F82,$U$5:$U$32)+1),F82))*256/360","v":19.2},12.8,934.6,935]
[null,null,null,null,78,{"$f":"(1/(E83*256))*Setup_Settings!$E$5*60000000","v":3004.8076923076924},{"$f":"(TREND(INDEX($C$5:$C$32,MATCH(F83,$B$5:$B$32)):INDEX($C$5:$C$32,MATCH(F83,$B$5:$B$32)+1),INDEX($B$5:$B$32,MATCH(F83,$B$5:$B$32)):INDEX($B$5:$B$32,MATCH(F83,$B$5:$B$32)+1),F83))*256/360","v":17.066666666666666},14.933333333333334,1113.8,1114,null,78,{"$f":"(1/(L83*256))*Setup_Settings!$E$5*60000000","v":3004.8076923076924},{"$f":"(TREND(INDEX($V$5:$V$32,MATCH(F83,$U$5:$U$32)):INDEX($V$5:$V$32,MATCH(F83,$U$5:$U$32)+1),INDEX($U$5:$U$32,MATCH(F83,$U$5:$U$32)):INDEX($U$5:$U$32,MATCH(F83,$U$5:$U$32)+1),F83))*256/360","v":19.2},12.8,947.40000000000009,947]
[null,null,null,null,79,{"$f":"(1/(E84*256))*Setup_Settings!$E$5*60000000","v":2966.7721518987341},{"$f":"(TREND(INDEX($C$5:$C$32,MATCH(F84,$B$5:$B$32)):INDEX($C$5:$C$32,MATCH(F84,$B$5:$B$32)+1),INDEX($B$5:$B$32,MATCH(F84,$B$5:$B$32)):INDEX($B$5:$B$32,MATCH(F84,$B$5:$B$32)+1),F84))*256/360","v":17.066666666666666},14.933333333333334,1128.7333333333333,1129,null,79,{"$f":"(1/(L84*256))*Setup_Settings!$E$5*60000000","v":2966.7721518987341},{"$f":"(TREND(INDEX($V$5:$V$32,MATCH(F84,$U$5:$U$32)):INDEX($V$5:$V$32,MATCH(F84,$U$5:$U$32)+1),INDEX($U$5:$U$32,MATCH(F84,$U$5:$U$32)):INDEX($U$5:$U$32,MATCH(F84,$U$5:$U$32)+1),F84))*256/360","v":19.2},12.8,960.2,960]
[null,null,null,null,80,{"$f":"(1/(E85*256))*Setup_Settings!$E$5*60000000","v":2929.6875},{"$f":"(TREND(INDEX($C$5:$C$32,MATCH(F85,$B$5:$B$32)):INDEX($C$5:$C$32,MATCH(F85,$B$5:$B$32)+1),INDEX($B$5:$B$32,MATCH(F85,$B$5:$B$32)):INDEX($B$5:$B$32,MATCH(F85,$B$5:$B$32)+1),F85))*256/360","v":17.066666666666666},14.933333333333334,{"$f":"(E85*H85)-$F$2","v":1143.6666666666667},1144,null,80,{"$f":"(1/(L85*256))*Setup_Settings!$E$5*60000000","v":2929.6875},{"$f":"(TREND(INDEX($V$5:$V$32,MATCH(F85,$U$5:$U$32)):INDEX($V$5:$V$32,MATCH(F85,$U$5:$U$32)+1),INDEX($U$5:$U$32,MATCH(F85,$U$5:$U$32)):INDEX($U$5:$U$32,MATCH(F85,$U$5:$U$32)+1),F85))*256/360","v":19.2},{"$f":"$L$3-N85","v":12.8},973,973]
[null,null,null,null,81,{"$f":"(1/(E86*256))*Setup_Settings!$E$5*60000000","v":2893.5185185185182},{"$f":"(TREND(INDEX($C$5:$C$32,MATCH(F86,$B$5:$B$32)):INDEX($C$5:$C$32,MATCH(F86,$B$5:$B$32)+1),INDEX($B$5:$B$32,MATCH(F86,$B$5:$B$32)):INDEX($B$5:$B$32,MATCH(F86,$B$5:$B$32)+1),F86))*256/360","v":17.066666666666666},{"$f":"$E$3-G86","v":14.933333333333334},1158.5999999999999,{"$f":"IF((ROUND(E86*H86,0)-$F$2)>0,(ROUND(E86*H86,0)-$F$2),1)","v":1159},null,81,{"$f":"(1/(L86*256))*Setup_Settings!$E$5*60000000","v":2893.5185185185182},{"$f":"(TREND(INDEX($V$5:$V$32,MATCH(F86,$U$5:$U$32)):INDEX($V$5:$V$32,MATCH(F86,$U$5:$U$32)+1),INDEX($U$5:$U$32,MATCH(F86,$U$5:$U$32)):INDEX($U$5:$U$32,MATCH(F86,$U$5:$U$32)+1),F86))*256/360","v":19.2},12.8,985.8,{"$f":"IF((ROUND(L86*O86,0)-$F$2)>1,(ROUND(L86*O86,0)-$M$2),1)","v":986}]
[null,null,null,null,82,{"$f":"(1/(E87*256))*Setup_Settings!$E$5*60000000","v":2858.2317073170734},{"$f":"(TREND(INDEX($C$5:$C$32,MATCH(F87,$B$5:$B$32)):INDEX($C$5:$C$32,MATCH(F87,$B$5:$B$32)+1),INDEX($B$5:$B$32,MATCH(F87,$B$5:$B$32)):INDEX($B$5:$B$32,MATCH(F87,$B$5:$B$32)+1),F87))*256/360","v":17.066666666666666},14.933333333333334,1173.5333333333333,1174,null,82,{"$f":"(1/(L87*256))*Setup_Settings!$E$5*60000000","v":2858.2317073170734},{"$f":"(TREND(INDEX($V$5:$V$32,MATCH(F87,$U$5:$U$32)):INDEX($V$5:$V$32,MATCH(F87,$U$5:$U$32)+1),INDEX($U$5:$U$32,MATCH(F87,$U$5:$U$32)):INDEX($U$5:$U$32,MATCH(F87,$U$5:$U$32)+1),F87))*256/360","v":19.2},12.8,998.60000000000014,999]
[null,null,null,null,83,{"$f":"(1/(E88*256))*Setup_Settings!$E$5*60000000","v":2823.7951807228919},{"$f":"(TREND(INDEX($C$5:$C$32,MATCH(F88,$B$5:$B$32)):INDEX($C$5:$C$32,MATCH(F88,$B$5:$B$32)+1),INDEX($B$5:$B$32,MATCH(F88,$B$5:$B$32)):INDEX($B$5:$B$32,MATCH(F88,$B$5:$B$32)+1),F88))*256/360","v":17.066666666666666},14.933333333333334,1188.4666666666667,1188,null,83,{"$f":"(1/(L88*256))*Setup_Settings!$E$5*60000000","v":2823.7951807228919},{"$f":"(TREND(INDEX($V$5:$V$32,MATCH(F88,$U$5:$U$32)):INDEX($V$5:$V$32,MATCH(F88,$U$5:$U$32)+1),INDEX($U$5:$U$32,MATCH(F88,$U$5:$U$32)):INDEX($U$5:$U$32,MATCH(F88,$U$5:$U$32)+1),F88))*256/360","v":19.2},12.8,1011.4000000000001,1011]
[null,null,null,null,84,{"$f":"(1/(E89*256))*Setup_Settings!$E$5*60000000","v":2790.1785714285711},{"$f":"(TREND(INDEX($C$5:$C$32,MATCH(F89,$B$5:$B$32)):INDEX($C$5:$C$32,MATCH(F89,$B$5:$B$32)+1),INDEX($B$5:$B$32,MATCH(F89,$B$5:$B$32)):INDEX($B$5:$B$32,MATCH(F89,$B$5:$B$32)+1),F89))*256/360","v":17.066666666666666},14.933333333333334,1203.4000000000001,1203,null,84,{"$f":"(1/(L89*256))*Setup_Settings!$E$5*60000000","v":2790.1785714285711},{"$f":"(TREND(INDEX($V$5:$V$32,MATCH(F89,$U$5:$U$32)):INDEX($V$5:$V$32,MATCH(F89,$U$5:$U$32)+1),INDEX($U$5:$U$32,MATCH(F89,$U$5:$U$32)):INDEX($U$5:$U$32,MATCH(F89,$U$5:$U$32)+1),F89))*256/360","v":19.2},12.8,1024.2,1024]
[null,null,null,null,85,{"$f":"(1/(E90*256))*Setup_Settings!$E$5*60000000","v":2757.3529411764707},{"$f":"(TREND(INDEX($C$5:$C$32,MATCH(F90,$B$5:$B$32)):INDEX($C$5:$C$32,MATCH(F90,$B$5:$B$32)+1),INDEX($B$5:$B$32,MATCH(F90,$B$5:$B$32)):INDEX($B$5:$B$32,MATCH(F90,$B$5:$B$32)+1),F90))*256/360","v":17.066666666666666},14.933333333333334,1218.3333333333333,1218,null,85,{"$f":"(1/(L90*256))*Setup_Settings!$E$5*60000000","v":2757.3529411764707},{"$f":"(TREND(INDEX($V$5:$V$32,MATCH(F90,$U$5:$U$32)):INDEX($V$5:$V$32,MATCH(F90,$U$5:$U$32)+1),INDEX($U$5:$U$32,MATCH(F90,$U$5:$U$32)):INDEX($U$5:$U$32,MATCH(F90,$U$5:$U$32)+1),F90))*256/360","v":19.2},12.8,1037,1037]
[null,null,null,null,86,{"$f":"(1/(E91*256))*Setup_Settings!$E$5*60000000","v":2725.2906976744184},{"$f":"(TREND(INDEX($C$5:$C$32,MATCH(F91,$B$5:$B$32)):INDEX($C$5:$C$32,MATCH(F91,$B$5:$B$32)+1),INDEX($B$5:$B$32,MATCH(F91,$B$5:$B$32)):INDEX($B$5:$B$32,MATCH(F91,$B$5:$B$32)+1),F91))*256/360","v":17.066666666666666},14.933333333333334,1233.2666666666667,1233,null,86,{"$f":"(1/(L91*256))*Setup_Settings!$E$5*60000000","v":2725.2906976744184},{"$f":"(TREND(INDEX($V$5:$V$32,MATCH(F91,$U$5:$U$32)):INDEX($V$5:$V$32,MATCH(F91,$U$5:$U$32)+1),INDEX($U$5:$U$32,MATCH(F91,$U$5:$U$32)):INDEX($U$5:$U$32,MATCH(F91,$U$5:$U$32)+1),F91))*256/360","v":19.2},12.8,{"$f":"(L91*O91)-$F$2","v":1049.8},1050]
[null,null,null,null,87,{"$f":"(1/(E92*256))*Setup_Settings!$E$5*60000000","v":2693.9655172413791},{"$f":"(TREND(INDEX($C$5:$C$32,MATCH(F92,$B$5:$B$32)):INDEX($C$5:$C$32,MATCH(F92,$B$5:$B$32)+1),INDEX($B$5:$B$32,MATCH(F92,$B$5:$B$32)):INDEX($B$5:$B$32,MATCH(F92,$B$5:$B$32)+1),F92))*256/360","v":17.066666666666666},14.933333333333334,1248.2,1248,null,87,{"$f":"(1/(L92*256))*Setup_Settings!$E$5*60000000","v":2693.9655172413791},{"$f":"(TREND(INDEX($V$5:$V$32,MATCH(F92,$U$5:$U$32)):INDEX($V$5:$V$32,MATCH(F92,$U$5:$U$32)+1),INDEX($U$5:$U$32,MATCH(F92,$U$5:$U$32)):INDEX($U$5:$U$32,MATCH(F92,$U$5:$U$32)+1),F92))*256/360","v":19.2},12.8,1062.6000000000001,1063]
[null,null,null,null,88,{"$f":"(1/(E93*256))*Setup_Settings!$E$5*60000000","v":2663.352272727273},{"$f":"(TREND(INDEX($C$5:$C$32,MATCH(F93,$B$5:$B$32)):INDEX($C$5:$C$32,MATCH(F93,$B$5:$B$32)+1),INDEX($B$5:$B$32,MATCH(F93,$B$5:$B$32)):INDEX($B$5:$B$32,MATCH(F93,$B$5:$B$32)+1),F93))*256/360","v":17.066666666666666},14.933333333333334,1263.1333333333334,1263,null,88,{"$f":"(1/(L93*256))*Setup_Settings!$E$5*60000000","v":2663.352272727273},{"$f":"(TREND(INDEX($V$5:$V$32,MATCH(F93,$U$5:$U$32)):INDEX($V$5:$V$32,MATCH(F93,$U$5:$U$32)+1),INDEX($U$5:$U$32,MATCH(F93,$U$5:$U$32)):INDEX($U$5:$U$32,MATCH(F93,$U$5:$U$32)+1),F93))*256/360","v":19.2},12.8,1075.4000000000001,1075]
[null,null,null,null,89,{"$f":"(1/(E94*256))*Setup_Settings!$E$5*60000000","v":2633.4269662921347},{"$f":"(TREND(INDEX($C$5:$C$32,MATCH(F94,$B$5:$B$32)):INDEX($C$5:$C$32,MATCH(F94,$B$5:$B$32)+1),INDEX($B$5:$B$32,MATCH(F94,$B$5:$B$32)):INDEX($B$5:$B$32,MATCH(F94,$B$5:$B$32)+1),F94))*256/360","v":17.066666666666666},14.933333333333334,1278.0666666666666,1278,null,89,{"$f":"(1/(L94*256))*Setup_Settings!$E$5*60000000","v":2633.4269662921347},{"$f":"(TREND(INDEX($V$5:$V$32,MATCH(F94,$U$5:$U$32)):INDEX($V$5:$V$32,MATCH(F94,$U$5:$U$32)+1),INDEX($U$5:$U$32,MATCH(F94,$U$5:$U$32)):INDEX($U$5:$U$32,MATCH(F94,$U$5:$U$32)+1),F94))*256/360","v":19.2},12.8,1088.2,1088]
[null,null,null,null,90,{"$f":"(1/(E95*256))*Setup_Settings!$E$5*60000000","v":2604.166666666667},{"$f":"(TREND(INDEX($C$5:$C$32,MATCH(F95,$B$5:$B$32)):INDEX($C$5:$C$32,MATCH(F95,$B$5:$B$32)+1),INDEX($B$5:$B$32,MATCH(F95,$B$5:$B$32)):INDEX($B$5:$B$32,MATCH(F95,$B$5:$B$32)+1),F95))*256/360","v":17.066666666666666},14.933333333333334,1293,1293,null,90,{"$f":"(1/(L95*256))*Setup_Settings!$E$5*60000000","v":2604.166666666667},{"$f":"(TREND(INDEX($V$5:$V$32,MATCH(F95,$U$5:$U$32)):INDEX($V$5:$V$32,MATCH(F95,$U$5:$U$32)+1),INDEX($U$5:$U$32,MATCH(F95,$U$5:$U$32)):INDEX($U$5:$U$32,MATCH(F95,$U$5:$U$32)+1),F95))*256/360","v":19.2},12.8,1101,1101]
[null,null,null,null,91,{"$f":"(1/(E96*256))*Setup_Settings!$E$5*60000000","v":2575.5494505494507},{"$f":"(TREND(INDEX($C$5:$C$32,MATCH(F96,$B$5:$B$32)):INDEX($C$5:$C$32,MATCH(F96,$B$5:$B$32)+1),INDEX($B$5:$B$32,MATCH(F96,$B$5:$B$32)):INDEX($B$5:$B$32,MATCH(F96,$B$5:$B$32)+1),F96))*256/360","v":17.066666666666666},14.933333333333334,1307.9333333333334,1308,null,91,{"$f":"(1/(L96*256))*Setup_Settings!$E$5*60000000","v":2575.5494505494507},{"$f":"(TREND(INDEX($V$5:$V$32,MATCH(F96,$U$5:$U$32)):INDEX($V$5:$V$32,MATCH(F96,$U$5:$U$32)+1),INDEX($U$5:$U$32,MATCH(F96,$U$5:$U$32)):INDEX($U$5:$U$32,MATCH(F96,$U$5:$U$32)+1),F96))*256/360","v":19.2},12.8,1113.8,1114]
[null,null,null,null,92,{"$f":"(1/(E97*256))*Setup_Settings!$E$5*60000000","v":2547.554347826087},{"$f":"(TREND(INDEX($C$5:$C$32,MATCH(F97,$B$5:$B$32)):INDEX($C$5:$C$32,MATCH(F97,$B$5:$B$32)+1),INDEX($B$5:$B$32,MATCH(F97,$B$5:$B$32)):INDEX($B$5:$B$32,MATCH(F97,$B$5:$B$32)+1),F97))*256/360","v":17.066666666666666},14.933333333333334,1322.8666666666668,1323,null,92,{"$f":"(1/(L97*256))*Setup_Settings!$E$5*60000000","v":2547.554347826087},{"$f":"(TREND(INDEX($V$5:$V$32,MATCH(F97,$U$5:$U$32)):INDEX($V$5:$V$32,MATCH(F97,$U$5:$U$32)+1),INDEX($U$5:$U$32,MATCH(F97,$U$5:$U$32)):INDEX($U$5:$U$32,MATCH(F97,$U$5:$U$32)+1),F97))*256/360","v":19.2},12.8,1126.6000000000001,1127]
[null,null,null,null,93,{"$f":"(1/(E98*256))*Setup_Settings!$E$5*60000000","v":2520.161290322581},{"$f":"(TREND(INDEX($C$5:$C$32,MATCH(F98,$B$5:$B$32)):INDEX($C$5:$C$32,MATCH(F98,$B$5:$B$32)+1),INDEX($B$5:$B$32,MATCH(F98,$B$5:$B$32)):INDEX($B$5:$B$32,MATCH(F98,$B$5:$B$32)+1),F98))*256/360","v":17.066666666666666},14.933333333333334,1337.8,1338,null,93,{"$f":"(1/(L98*256))*Setup_Settings!$E$5*60000000","v":2520.161290322581},{"$f":"(TREND(INDEX($V$5:$V$32,MATCH(F98,$U$5:$U$32)):INDEX($V$5:$V$32,MATCH(F98,$U$5:$U$32)+1),INDEX($U$5:$U$32,MATCH(F98,$U$5:$U$32)):INDEX($U$5:$U$32,MATCH(F98,$U$5:$U$32)+1),F98))*256/360","v":19.2},12.8,1139.4000000000001,1139]
[null,null,null,null,94,{"$f":"(1/(E99*256))*Setup_Settings!$E$5*60000000","v":2493.3510638297871},{"$f":"(TREND(INDEX($C$5:$C$32,MATCH(F99,$B$5:$B$32)):INDEX($C$5:$C$32,MATCH(F99,$B$5:$B$32)+1),INDEX($B$5:$B$32,MATCH(F99,$B$5:$B$32)):INDEX($B$5:$B$32,MATCH(F99,$B$5:$B$32)+1),F99))*256/360","v":17.066666666666666},14.933333333333334,1352.7333333333333,1353,null,94,{"$f":"(1/(L99*256))*Setup_Settings!$E$5*60000000","v":2493.3510638297871},{"$f":"(TREND(INDEX($V$5:$V$32,MATCH(F99,$U$5:$U$32)):INDEX($V$5:$V$32,MATCH(F99,$U$5:$U$32)+1),INDEX($U$5:$U$32,MATCH(F99,$U$5:$U$32)):INDEX($U$5:$U$32,MATCH(F99,$U$5:$U$32)+1),F99))*256/360","v":19.2},12.8,1152.2,1152]
[null,null,null,null,95,{"$f":"(1/(E100*256))*Setup_Settings!$E$5*60000000","v":2467.1052631578946},{"$f":"(TREND(INDEX($C$5:$C$32,MATCH(F100,$B$5:$B$32)):INDEX($C$5:$C$32,MATCH(F100,$B$5:$B$32)+1),INDEX($B$5:$B$32,MATCH(F100,$B$5:$B$32)):INDEX($B$5:$B$32,MATCH(F100,$B$5:$B$32)+1),F100))*256/360","v":17.066666666666666},14.933333333333334,1367.6666666666667,1368,null,95,{"$f":"(1/(L100*256))*Setup_Settings!$E$5*60000000","v":2467.1052631578946},{"$f":"(TREND(INDEX($V$5:$V$32,MATCH(F100,$U$5:$U$32)):INDEX($V$5:$V$32,MATCH(F100,$U$5:$U$32)+1),INDEX($U$5:$U$32,MATCH(F100,$U$5:$U$32)):INDEX($U$5:$U$32,MATCH(F100,$U$5:$U$32)+1),F100))*256/360","v":19.2},12.8,1165,1165]
[null,null,null,null,96,{"$f":"(1/(E101*256))*Setup_Settings!$E$5*60000000","v":2441.40625},{"$f":"(TREND(INDEX($C$5:$C$32,MATCH(F101,$B$5:$B$32)):INDEX($C$5:$C$32,MATCH(F101,$B$5:$B$32)+1),INDEX($B$5:$B$32,MATCH(F101,$B$5:$B$32)):INDEX($B$5:$B$32,MATCH(F101,$B$5:$B$32)+1),F101))*256/360","v":17.066666666666666},14.933333333333334,1382.6,1383,null,96,{"$f":"(1/(L101*256))*Setup_Settings!$E$5*60000000","v":2441.40625},{"$f":"(TREND(INDEX($V$5:$V$32,MATCH(F101,$U$5:$U$32)):INDEX($V$5:$V$32,MATCH(F101,$U$5:$U$32)+1),INDEX($U$5:$U$32,MATCH(F101,$U$5:$U$32)):INDEX($U$5:$U$32,MATCH(F101,$U$5:$U$32)+1),F101))*256/360","v":19.2},12.8,1177.8000000000002,1178]
[null,null,null,null,97,{"$f":"(1/(E102*256))*Setup_Settings!$E$5*60000000","v":2416.2371134020618},{"$f":"(TREND(INDEX($C$5:$C$32,MATCH(F102,$B$5:$B$32)):INDEX($C$5:$C$32,MATCH(F102,$B$5:$B$32)+1),INDEX($B$5:$B$32,MATCH(F102,$B$5:$B$32)):INDEX($B$5:$B$32,MATCH(F102,$B$5:$B$32)+1),F102))*256/360","v":17.066666666666666},14.933333333333334,1397.5333333333333,1398,null,97,{"$f":"(1/(L102*256))*Setup_Settings!$E$5*60000000","v":2416.2371134020618},{"$f":"(TREND(INDEX($V$5:$V$32,MATCH(F102,$U$5:$U$32)):INDEX($V$5:$V$32,MATCH(F102,$U$5:$U$32)+1),INDEX($U$5:$U$32,MATCH(F102,$U$5:$U$32)):INDEX($U$5:$U$32,MATCH(F102,$U$5:$U$32)+1),F102))*256/360","v":19.2},12.8,1190.6000000000001,1191]
[null,null,null,null,98,{"$f":"(1/(E103*256))*Setup_Settings!$E$5*60000000","v":2391.5816326530612},{"$f":"(TREND(INDEX($C$5:$C$32,MATCH(F103,$B$5:$B$32)):INDEX($C$5:$C$32,MATCH(F103,$B$5:$B$32)+1),INDEX($B$5:$B$32,MATCH(F103,$B$5:$B$32)):INDEX($B$5:$B$32,MATCH(F103,$B$5:$B$32)+1),F103))*256/360","v":17.066666666666666},14.933333333333334,1412.4666666666667,1412,null,98,{"$f":"(1/(L103*256))*Setup_Settings!$E$5*60000000","v":2391.5816326530612},{"$f":"(TREND(INDEX($V$5:$V$32,MATCH(F103,$U$5:$U$32)):INDEX($V$5:$V$32,MATCH(F103,$U$5:$U$32)+1),INDEX($U$5:$U$32,MATCH(F103,$U$5:$U$32)):INDEX($U$5:$U$32,MATCH(F103,$U$5:$U$32)+1),F103))*256/360","v":19.2},12.8,1203.4000000000001,1203]
[null,null,null,null,99,{"$f":"(1/(E104*256))*Setup_Settings!$E$5*60000000","v":2367.4242424242425},{"$f":"(TREND(INDEX($C$5:$C$32,MATCH(F104,$B$5:$B$32)):INDEX($C$5:$C$32,MATCH(F104,$B$5:$B$32)+1),INDEX($B$5:$B$32,MATCH(F104,$B$5:$B$32)):INDEX($B$5:$B$32,MATCH(F104,$B$5:$B$32)+1),F104))*256/360","v":17.066666666666666},14.933333333333334,1427.4,1427,null,99,{"$f":"(1/(L104*256))*Setup_Settings!$E$5*60000000","v":2367.4242424242425},{"$f":"(TREND(INDEX($V$5:$V$32,MATCH(F104,$U$5:$U$32)):INDEX($V$5:$V$32,MATCH(F104,$U$5:$U$32)+1),INDEX($U$5:$U$32,MATCH(F104,$U$5:$U$32)):INDEX($U$5:$U$32,MATCH(F104,$U$5:$U$32)+1),F104))*256/360","v":19.2},12.8,1216.2,1216]
[null,null,null,null,100,{"$f":"(1/(E105*256))*Setup_Settings!$E$5*60000000","v":2343.75},{"$f":"(TREND(INDEX($C$5:$C$32,MATCH(F105,$B$5:$B$32)):INDEX($C$5:$C$32,MATCH(F105,$B$5:$B$32)+1),INDEX($B$5:$B$32,MATCH(F105,$B$5:$B$32)):INDEX($B$5:$B$32,MATCH(F105,$B$5:$B$32)+1),F105))*256/360","v":17.066666666666666},14.933333333333334,1442.3333333333333,1442,null,100,{"$f":"(1/(L105*256))*Setup_Settings!$E$5*60000000","v":2343.75},{"$f":"(TREND(INDEX($V$5:$V$32,MATCH(F105,$U$5:$U$32)):INDEX($V$5:$V$32,MATCH(F105,$U$5:$U$32)+1),INDEX($U$5:$U$32,MATCH(F105,$U$5:$U$32)):INDEX($U$5:$U$32,MATCH(F105,$U$5:$U$32)+1),F105))*256/360","v":19.2},12.8,1229,1229]
[null,null,null,null,101,{"$f":"(1/(E106*256))*Setup_Settings!$E$5*60000000","v":2320.5445544554455},{"$f":"(TREND(INDEX($C$5:$C$32,MATCH(F106,$B$5:$B$32)):INDEX($C$5:$C$32,MATCH(F106,$B$5:$B$32)+1),INDEX($B$5:$B$32,MATCH(F106,$B$5:$B$32)):INDEX($B$5:$B$32,MATCH(F106,$B$5:$B$32)+1),F106))*256/360","v":17.066666666666666},14.933333333333334,1457.2666666666667,1457,null,101,{"$f":"(1/(L106*256))*Setup_Settings!$E$5*60000000","v":2320.5445544554455},{"$f":"(TREND(INDEX($V$5:$V$32,MATCH(F106,$U$5:$U$32)):INDEX($V$5:$V$32,MATCH(F106,$U$5:$U$32)+1),INDEX($U$5:$U$32,MATCH(F106,$U$5:$U$32)):INDEX($U$5:$U$32,MATCH(F106,$U$5:$U$32)+1),F106))*256/360","v":19.2},12.8,1241.8000000000002,1242]
[null,null,null,null,102,{"$f":"(1/(E107*256))*Setup_Settings!$E$5*60000000","v":2297.794117647059},{"$f":"(TREND(INDEX($C$5:$C$32,MATCH(F107,$B$5:$B$32)):INDEX($C$5:$C$32,MATCH(F107,$B$5:$B$32)+1),INDEX($B$5:$B$32,MATCH(F107,$B$5:$B$32)):INDEX($B$5:$B$32,MATCH(F107,$B$5:$B$32)+1),F107))*256/360","v":17.066666666666666},14.933333333333334,1472.2,1472,null,102,{"$f":"(1/(L107*256))*Setup_Settings!$E$5*60000000","v":2297.794117647059},{"$f":"(TREND(INDEX($V$5:$V$32,MATCH(F107,$U$5:$U$32)):INDEX($V$5:$V$32,MATCH(F107,$U$5:$U$32)+1),INDEX($U$5:$U$32,MATCH(F107,$U$5:$U$32)):INDEX($U$5:$U$32,MATCH(F107,$U$5:$U$32)+1),F107))*256/360","v":19.2},12.8,1254.6000000000001,1255]
[null,null,null,null,103,{"$f":"(1/(E108*256))*Setup_Settings!$E$5*60000000","v":2275.4854368932038},{"$f":"(TREND(INDEX($C$5:$C$32,MATCH(F108,$B$5:$B$32)):INDEX($C$5:$C$32,MATCH(F108,$B$5:$B$32)+1),INDEX($B$5:$B$32,MATCH(F108,$B$5:$B$32)):INDEX($B$5:$B$32,MATCH(F108,$B$5:$B$32)+1),F108))*256/360","v":17.066666666666666},14.933333333333334,1487.1333333333334,1487,null,103,{"$f":"(1/(L108*256))*Setup_Settings!$E$5*60000000","v":2275.4854368932038},{"$f":"(TREND(INDEX($V$5:$V$32,MATCH(F108,$U$5:$U$32)):INDEX($V$5:$V$32,MATCH(F108,$U$5:$U$32)+1),INDEX($U$5:$U$32,MATCH(F108,$U$5:$U$32)):INDEX($U$5:$U$32,MATCH(F108,$U$5:$U$32)+1),F108))*256/360","v":19.2},12.8,1267.4000000000001,1267]
[null,null,null,null,104,{"$f":"(1/(E109*256))*Setup_Settings!$E$5*60000000","v":2253.6057692307695},{"$f":"(TREND(INDEX($C$5:$C$32,MATCH(F109,$B$5:$B$32)):INDEX($C$5:$C$32,MATCH(F109,$B$5:$B$32)+1),INDEX($B$5:$B$32,MATCH(F109,$B$5:$B$32)):INDEX($B$5:$B$32,MATCH(F109,$B$5:$B$32)+1),F109))*256/360","v":17.066666666666666},14.933333333333334,1502.0666666666666,1502,null,104,{"$f":"(1/(L109*256))*Setup_Settings!$E$5*60000000","v":2253.6057692307695},{"$f":"(TREND(INDEX($V$5:$V$32,MATCH(F109,$U$5:$U$32)):INDEX($V$5:$V$32,MATCH(F109,$U$5:$U$32)+1),INDEX($U$5:$U$32,MATCH(F109,$U$5:$U$32)):INDEX($U$5:$U$32,MATCH(F109,$U$5:$U$32)+1),F109))*256/360","v":19.2},12.8,1280.2,1280]
[null,null,null,null,105,{"$f":"(1/(E110*256))*Setup_Settings!$E$5*60000000","v":2232.1428571428573},{"$f":"(TREND(INDEX($C$5:$C$32,MATCH(F110,$B$5:$B$32)):INDEX($C$5:$C$32,MATCH(F110,$B$5:$B$32)+1),INDEX($B$5:$B$32,MATCH(F110,$B$5:$B$32)):INDEX($B$5:$B$32,MATCH(F110,$B$5:$B$32)+1),F110))*256/360","v":17.066666666666666},14.933333333333334,1517,1517,null,105,{"$f":"(1/(L110*256))*Setup_Settings!$E$5*60000000","v":2232.1428571428573},{"$f":"(TREND(INDEX($V$5:$V$32,MATCH(F110,$U$5:$U$32)):INDEX($V$5:$V$32,MATCH(F110,$U$5:$U$32)+1),INDEX($U$5:$U$32,MATCH(F110,$U$5:$U$32)):INDEX($U$5:$U$32,MATCH(F110,$U$5:$U$32)+1),F110))*256/360","v":19.2},12.8,1293,1293]
[null,null,null,null,106,{"$f":"(1/(E111*256))*Setup_Settings!$E$5*60000000","v":2211.0849056603774},{"$f":"(TREND(INDEX($C$5:$C$32,MATCH(F111,$B$5:$B$32)):INDEX($C$5:$C$32,MATCH(F111,$B$5:$B$32)+1),INDEX($B$5:$B$32,MATCH(F111,$B$5:$B$32)):INDEX($B$5:$B$32,MATCH(F111,$B$5:$B$32)+1),F111))*256/360","v":17.066666666666666},14.933333333333334,1531.9333333333334,1532,null,106,{"$f":"(1/(L111*256))*Setup_Settings!$E$5*60000000","v":2211.0849056603774},{"$f":"(TREND(INDEX($V$5:$V$32,MATCH(F111,$U$5:$U$32)):INDEX($V$5:$V$32,MATCH(F111,$U$5:$U$32)+1),INDEX($U$5:$U$32,MATCH(F111,$U$5:$U$32)):INDEX($U$5:$U$32,MATCH(F111,$U$5:$U$32)+1),F111))*256/360","v":19.2},12.8,1305.8000000000002,1306]
[null,null,null,null,107,{"$f":"(1/(E112*256))*Setup_Settings!$E$5*60000000","v":2190.4205607476633},{"$f":"(TREND(INDEX($C$5:$C$32,MATCH(F112,$B$5:$B$32)):INDEX($C$5:$C$32,MATCH(F112,$B$5:$B$32)+1),INDEX($B$5:$B$32,MATCH(F112,$B$5:$B$32)):INDEX($B$5:$B$32,MATCH(F112,$B$5:$B$32)+1),F112))*256/360","v":17.066666666666666},14.933333333333334,1546.8666666666668,1547,null,107,{"$f":"(1/(L112*256))*Setup_Settings!$E$5*60000000","v":2190.4205607476633},{"$f":"(TREND(INDEX($V$5:$V$32,MATCH(F112,$U$5:$U$32)):INDEX($V$5:$V$32,MATCH(F112,$U$5:$U$32)+1),INDEX($U$5:$U$32,MATCH(F112,$U$5:$U$32)):INDEX($U$5:$U$32,MATCH(F112,$U$5:$U$32)+1),F112))*256/360","v":19.2},12.8,1318.6000000000001,1319]
[null,null,null,null,108,{"$f":"(1/(E113*256))*Setup_Settings!$E$5*60000000","v":2170.1388888888887},{"$f":"(TREND(INDEX($C$5:$C$32,MATCH(F113,$B$5:$B$32)):INDEX($C$5:$C$32,MATCH(F113,$B$5:$B$32)+1),INDEX($B$5:$B$32,MATCH(F113,$B$5:$B$32)):INDEX($B$5:$B$32,MATCH(F113,$B$5:$B$32)+1),F113))*256/360","v":17.066666666666666},14.933333333333334,1561.8,1562,null,108,{"$f":"(1/(L113*256))*Setup_Settings!$E$5*60000000","v":2170.1388888888887},{"$f":"(TREND(INDEX($V$5:$V$32,MATCH(F113,$U$5:$U$32)):INDEX($V$5:$V$32,MATCH(F113,$U$5:$U$32)+1),INDEX($U$5:$U$32,MATCH(F113,$U$5:$U$32)):INDEX($U$5:$U$32,MATCH(F113,$U$5:$U$32)+1),F113))*256/360","v":19.2},12.8,1331.4,1331]
[null,null,null,null,109,{"$f":"(1/(E114*256))*Setup_Settings!$E$5*60000000","v":2150.2293577981654},{"$f":"(TREND(INDEX($C$5:$C$32,MATCH(F114,$B$5:$B$32)):INDEX($C$5:$C$32,MATCH(F114,$B$5:$B$32)+1),INDEX($B$5:$B$32,MATCH(F114,$B$5:$B$32)):INDEX($B$5:$B$32,MATCH(F114,$B$5:$B$32)+1),F114))*256/360","v":17.066666666666666},14.933333333333334,1576.7333333333333,1577,null,109,{"$f":"(1/(L114*256))*Setup_Settings!$E$5*60000000","v":2150.2293577981654},{"$f":"(TREND(INDEX($V$5:$V$32,MATCH(F114,$U$5:$U$32)):INDEX($V$5:$V$32,MATCH(F114,$U$5:$U$32)+1),INDEX($U$5:$U$32,MATCH(F114,$U$5:$U$32)):INDEX($U$5:$U$32,MATCH(F114,$U$5:$U$32)+1),F114))*256/360","v":19.2},12.8,1344.2,1344]
[null,null,null,null,110,{"$f":"(1/(E115*256))*Setup_Settings!$E$5*60000000","v":2130.681818181818},{"$f":"(TREND(INDEX($C$5:$C$32,MATCH(F115,$B$5:$B$32)):INDEX($C$5:$C$32,MATCH(F115,$B$5:$B$32)+1),INDEX($B$5:$B$32,MATCH(F115,$B$5:$B$32)):INDEX($B$5:$B$32,MATCH(F115,$B$5:$B$32)+1),F115))*256/360","v":17.066666666666666},14.933333333333334,1591.6666666666667,1592,null,110,{"$f":"(1/(L115*256))*Setup_Settings!$E$5*60000000","v":2130.681818181818},{"$f":"(TREND(INDEX($V$5:$V$32,MATCH(F115,$U$5:$U$32)):INDEX($V$5:$V$32,MATCH(F115,$U$5:$U$32)+1),INDEX($U$5:$U$32,MATCH(F115,$U$5:$U$32)):INDEX($U$5:$U$32,MATCH(F115,$U$5:$U$32)+1),F115))*256/360","v":19.2},12.8,1357,1357]
[null,null,null,null,111,{"$f":"(1/(E116*256))*Setup_Settings!$E$5*60000000","v":2111.4864864864867},{"$f":"(TREND(INDEX($C$5:$C$32,MATCH(F116,$B$5:$B$32)):INDEX($C$5:$C$32,MATCH(F116,$B$5:$B$32)+1),INDEX($B$5:$B$32,MATCH(F116,$B$5:$B$32)):INDEX($B$5:$B$32,MATCH(F116,$B$5:$B$32)+1),F116))*256/360","v":17.066666666666666},14.933333333333334,1606.6000000000001,1607,null,111,{"$f":"(1/(L116*256))*Setup_Settings!$E$5*60000000","v":2111.4864864864867},{"$f":"(TREND(INDEX($V$5:$V$32,MATCH(F116,$U$5:$U$32)):INDEX($V$5:$V$32,MATCH(F116,$U$5:$U$32)+1),INDEX($U$5:$U$32,MATCH(F116,$U$5:$U$32)):INDEX($U$5:$U$32,MATCH(F116,$U$5:$U$32)+1),F116))*256/360","v":19.2},12.8,1369.8000000000002,1370]
[null,null,null,null,112,{"$f":"(1/(E117*256))*Setup_Settings!$E$5*60000000","v":2092.6339285714284},{"$f":"(TREND(INDEX($C$5:$C$32,MATCH(F117,$B$5:$B$32)):INDEX($C$5:$C$32,MATCH(F117,$B$5:$B$32)+1),INDEX($B$5:$B$32,MATCH(F117,$B$5:$B$32)):INDEX($B$5:$B$32,MATCH(F117,$B$5:$B$32)+1),F117))*256/360","v":17.066666666666666},14.933333333333334,1621.5333333333333,1622,null,112,{"$f":"(1/(L117*256))*Setup_Settings!$E$5*60000000","v":2092.6339285714284},{"$f":"(TREND(INDEX($V$5:$V$32,MATCH(F117,$U$5:$U$32)):INDEX($V$5:$V$32,MATCH(F117,$U$5:$U$32)+1),INDEX($U$5:$U$32,MATCH(F117,$U$5:$U$32)):INDEX($U$5:$U$32,MATCH(F117,$U$5:$U$32)+1),F117))*256/360","v":19.2},12.8,1382.6000000000001,1383]
[null,null,null,null,113,{"$f":"(1/(E118*256))*Setup_Settings!$E$5*60000000","v":2074.1150442477874},{"$f":"(TREND(INDEX($C$5:$C$32,MATCH(F118,$B$5:$B$32)):INDEX($C$5:$C$32,MATCH(F118,$B$5:$B$32)+1),INDEX($B$5:$B$32,MATCH(F118,$B$5:$B$32)):INDEX($B$5:$B$32,MATCH(F118,$B$5:$B$32)+1),F118))*256/360","v":17.066666666666666},14.933333333333334,1636.4666666666667,1636,null,113,{"$f":"(1/(L118*256))*Setup_Settings!$E$5*60000000","v":2074.1150442477874},{"$f":"(TREND(INDEX($V$5:$V$32,MATCH(F118,$U$5:$U$32)):INDEX($V$5:$V$32,MATCH(F118,$U$5:$U$32)+1),INDEX($U$5:$U$32,MATCH(F118,$U$5:$U$32)):INDEX($U$5:$U$32,MATCH(F118,$U$5:$U$32)+1),F118))*256/360","v":19.2},12.8,1395.4,1395]
[null,null,null,null,114,{"$f":"(1/(E119*256))*Setup_Settings!$E$5*60000000","v":2055.9210526315787},{"$f":"(TREND(INDEX($C$5:$C$32,MATCH(F119,$B$5:$B$32)):INDEX($C$5:$C$32,MATCH(F119,$B$5:$B$32)+1),INDEX($B$5:$B$32,MATCH(F119,$B$5:$B$32)):INDEX($B$5:$B$32,MATCH(F119,$B$5:$B$32)+1),F119))*256/360","v":17.066666666666666},14.933333333333334,1651.4,1651,null,114,{"$f":"(1/(L119*256))*Setup_Settings!$E$5*60000000","v":2055.9210526315787},{"$f":"(TREND(INDEX($V$5:$V$32,MATCH(F119,$U$5:$U$32)):INDEX($V$5:$V$32,MATCH(F119,$U$5:$U$32)+1),INDEX($U$5:$U$32,MATCH(F119,$U$5:$U$32)):INDEX($U$5:$U$32,MATCH(F119,$U$5:$U$32)+1),F119))*256/360","v":19.2},12.8,1408.2,1408]
[null,null,null,null,115,{"$f":"(1/(E120*256))*Setup_Settings!$E$5*60000000","v":2038.0434782608695},{"$f":"(TREND(INDEX($C$5:$C$32,MATCH(F120,$B$5:$B$32)):INDEX($C$5:$C$32,MATCH(F120,$B$5:$B$32)+1),INDEX($B$5:$B$32,MATCH(F120,$B$5:$B$32)):INDEX($B$5:$B$32,MATCH(F120,$B$5:$B$32)+1),F120))*256/360","v":17.066666666666666},14.933333333333334,1666.3333333333333,1666,null,115,{"$f":"(1/(L120*256))*Setup_Settings!$E$5*60000000","v":2038.0434782608695},{"$f":"(TREND(INDEX($V$5:$V$32,MATCH(F120,$U$5:$U$32)):INDEX($V$5:$V$32,MATCH(F120,$U$5:$U$32)+1),INDEX($U$5:$U$32,MATCH(F120,$U$5:$U$32)):INDEX($U$5:$U$32,MATCH(F120,$U$5:$U$32)+1),F120))*256/360","v":19.2},12.8,1421,1421]
[null,null,null,null,116,{"$f":"(1/(E121*256))*Setup_Settings!$E$5*60000000","v":2020.4741379310344},{"$f":"(TREND(INDEX($C$5:$C$32,MATCH(F121,$B$5:$B$32)):INDEX($C$5:$C$32,MATCH(F121,$B$5:$B$32)+1),INDEX($B$5:$B$32,MATCH(F121,$B$5:$B$32)):INDEX($B$5:$B$32,MATCH(F121,$B$5:$B$32)+1),F121))*256/360","v":17.066666666666666},14.933333333333334,1681.2666666666667,1681,null,116,{"$f":"(1/(L121*256))*Setup_Settings!$E$5*60000000","v":2020.4741379310344},{"$f":"(TREND(INDEX($V$5:$V$32,MATCH(F121,$U$5:$U$32)):INDEX($V$5:$V$32,MATCH(F121,$U$5:$U$32)+1),INDEX($U$5:$U$32,MATCH(F121,$U$5:$U$32)):INDEX($U$5:$U$32,MATCH(F121,$U$5:$U$32)+1),F121))*256/360","v":19.2},12.8,1433.8000000000002,1434]
[null,null,null,null,117,{"$f":"(1/(E122*256))*Setup_Settings!$E$5*60000000","v":2003.2051282051284},{"$f":"(TREND(INDEX($C$5:$C$32,MATCH(F122,$B$5:$B$32)):INDEX($C$5:$C$32,MATCH(F122,$B$5:$B$32)+1),INDEX($B$5:$B$32,MATCH(F122,$B$5:$B$32)):INDEX($B$5:$B$32,MATCH(F122,$B$5:$B$32)+1),F122))*256/360","v":17.066666666666666},14.933333333333334,1696.2,1696,null,117,{"$f":"(1/(L122*256))*Setup_Settings!$E$5*60000000","v":2003.2051282051284},{"$f":"(TREND(INDEX($V$5:$V$32,MATCH(F122,$U$5:$U$32)):INDEX($V$5:$V$32,MATCH(F122,$U$5:$U$32)+1),INDEX($U$5:$U$32,MATCH(F122,$U$5:$U$32)):INDEX($U$5:$U$32,MATCH(F122,$U$5:$U$32)+1),F122))*256/360","v":19.2},12.8,1446.6000000000001,1447]
[null,null,null,null,118,{"$f":"(1/(E123*256))*Setup_Settings!$E$5*60000000","v":1986.2288135593221},{"$f":"(TREND(INDEX($C$5:$C$32,MATCH(F123,$B$5:$B$32)):INDEX($C$5:$C$32,MATCH(F123,$B$5:$B$32)+1),INDEX($B$5:$B$32,MATCH(F123,$B$5:$B$32)):INDEX($B$5:$B$32,MATCH(F123,$B$5:$B$32)+1),F123))*256/360","v":17.066666666666666},14.933333333333334,1711.1333333333334,1711,null,118,{"$f":"(1/(L123*256))*Setup_Settings!$E$5*60000000","v":1986.2288135593221},{"$f":"(TREND(INDEX($V$5:$V$32,MATCH(F123,$U$5:$U$32)):INDEX($V$5:$V$32,MATCH(F123,$U$5:$U$32)+1),INDEX($U$5:$U$32,MATCH(F123,$U$5:$U$32)):INDEX($U$5:$U$32,MATCH(F123,$U$5:$U$32)+1),F123))*256/360","v":19.2},12.8,1459.4,1459]
[null,null,null,null,119,{"$f":"(1/(E124*256))*Setup_Settings!$E$5*60000000","v":1969.5378151260504},{"$f":"(TREND(INDEX($C$5:$C$32,MATCH(F124,$B$5:$B$32)):INDEX($C$5:$C$32,MATCH(F124,$B$5:$B$32)+1),INDEX($B$5:$B$32,MATCH(F124,$B$5:$B$32)):INDEX($B$5:$B$32,MATCH(F124,$B$5:$B$32)+1),F124))*256/360","v":17.066666666666666},14.933333333333334,1726.0666666666666,1726,null,119,{"$f":"(1/(L124*256))*Setup_Settings!$E$5*60000000","v":1969.5378151260504},{"$f":"(TREND(INDEX($V$5:$V$32,MATCH(F124,$U$5:$U$32)):INDEX($V$5:$V$32,MATCH(F124,$U$5:$U$32)+1),INDEX($U$5:$U$32,MATCH(F124,$U$5:$U$32)):INDEX($U$5:$U$32,MATCH(F124,$U$5:$U$32)+1),F124))*256/360","v":19.2},12.8,1472.2,1472]
[null,null,null,null,120,{"$f":"(1/(E125*256))*Setup_Settings!$E$5*60000000","v":1953.125},{"$f":"(TREND(INDEX($C$5:$C$32,MATCH(F125,$B$5:$B$32)):INDEX($C$5:$C$32,MATCH(F125,$B$5:$B$32)+1),INDEX($B$5:$B$32,MATCH(F125,$B$5:$B$32)):INDEX($B$5:$B$32,MATCH(F125,$B$5:$B$32)+1),F125))*256/360","v":17.066666666666666},14.933333333333334,1741,1741,null,120,{"$f":"(1/(L125*256))*Setup_Settings!$E$5*60000000","v":1953.125},{"$f":"(TREND(INDEX($V$5:$V$32,MATCH(F125,$U$5:$U$32)):INDEX($V$5:$V$32,MATCH(F125,$U$5:$U$32)+1),INDEX($U$5:$U$32,MATCH(F125,$U$5:$U$32)):INDEX($U$5:$U$32,MATCH(F125,$U$5:$U$32)+1),F125))*256/360","v":19.2},12.8,1485,1485]
[null,null,null,null,121,{"$f":"(1/(E126*256))*Setup_Settings!$E$5*60000000","v":1936.9834710743803},{"$f":"(TREND(INDEX($C$5:$C$32,MATCH(F126,$B$5:$B$32)):INDEX($C$5:$C$32,MATCH(F126,$B$5:$B$32)+1),INDEX($B$5:$B$32,MATCH(F126,$B$5:$B$32)):INDEX($B$5:$B$32,MATCH(F126,$B$5:$B$32)+1),F126))*256/360","v":17.066666666666666},14.933333333333334,1755.9333333333334,1756,null,121,{"$f":"(1/(L126*256))*Setup_Settings!$E$5*60000000","v":1936.9834710743803},{"$f":"(TREND(INDEX($V$5:$V$32,MATCH(F126,$U$5:$U$32)):INDEX($V$5:$V$32,MATCH(F126,$U$5:$U$32)+1),INDEX($U$5:$U$32,MATCH(F126,$U$5:$U$32)):INDEX($U$5:$U$32,MATCH(F126,$U$5:$U$32)+1),F126))*256/360","v":19.2},12.8,1497.8000000000002,1498]
[null,null,null,null,122,{"$f":"(1/(E127*256))*Setup_Settings!$E$5*60000000","v":1921.1065573770493},{"$f":"(TREND(INDEX($C$5:$C$32,MATCH(F127,$B$5:$B$32)):INDEX($C$5:$C$32,MATCH(F127,$B$5:$B$32)+1),INDEX($B$5:$B$32,MATCH(F127,$B$5:$B$32)):INDEX($B$5:$B$32,MATCH(F127,$B$5:$B$32)+1),F127))*256/360","v":17.066666666666666},14.933333333333334,1770.8666666666668,1771,null,122,{"$f":"(1/(L127*256))*Setup_Settings!$E$5*60000000","v":1921.1065573770493},{"$f":"(TREND(INDEX($V$5:$V$32,MATCH(F127,$U$5:$U$32)):INDEX($V$5:$V$32,MATCH(F127,$U$5:$U$32)+1),INDEX($U$5:$U$32,MATCH(F127,$U$5:$U$32)):INDEX($U$5:$U$32,MATCH(F127,$U$5:$U$32)+1),F127))*256/360","v":19.2},12.8,1510.6000000000001,1511]
[null,null,null,null,123,{"$f":"(1/(E128*256))*Setup_Settings!$E$5*60000000","v":1905.487804878049},{"$f":"(TREND(INDEX($C$5:$C$32,MATCH(F128,$B$5:$B$32)):INDEX($C$5:$C$32,MATCH(F128,$B$5:$B$32)+1),INDEX($B$5:$B$32,MATCH(F128,$B$5:$B$32)):INDEX($B$5:$B$32,MATCH(F128,$B$5:$B$32)+1),F128))*256/360","v":17.066666666666666},14.933333333333334,1785.8,1786,null,123,{"$f":"(1/(L128*256))*Setup_Settings!$E$5*60000000","v":1905.487804878049},{"$f":"(TREND(INDEX($V$5:$V$32,MATCH(F128,$U$5:$U$32)):INDEX($V$5:$V$32,MATCH(F128,$U$5:$U$32)+1),INDEX($U$5:$U$32,MATCH(F128,$U$5:$U$32)):INDEX($U$5:$U$32,MATCH(F128,$U$5:$U$32)+1),F128))*256/360","v":19.2},12.8,1523.4,1523]
[null,null,null,null,124,{"$f":"(1/(E129*256))*Setup_Settings!$E$5*60000000","v":1890.1209677419354},{"$f":"(TREND(INDEX($C$5:$C$32,MATCH(F129,$B$5:$B$32)):INDEX($C$5:$C$32,MATCH(F129,$B$5:$B$32)+1),INDEX($B$5:$B$32,MATCH(F129,$B$5:$B$32)):INDEX($B$5:$B$32,MATCH(F129,$B$5:$B$32)+1),F129))*256/360","v":17.066666666666666},14.933333333333334,1800.7333333333333,1801,null,124,{"$f":"(1/(L129*256))*Setup_Settings!$E$5*60000000","v":1890.1209677419354},{"$f":"(TREND(INDEX($V$5:$V$32,MATCH(F129,$U$5:$U$32)):INDEX($V$5:$V$32,MATCH(F129,$U$5:$U$32)+1),INDEX($U$5:$U$32,MATCH(F129,$U$5:$U$32)):INDEX($U$5:$U$32,MATCH(F129,$U$5:$U$32)+1),F129))*256/360","v":19.2},12.8,1536.2,1536]
[null,null,null,null,125,{"$f":"(1/(E130*256))*Setup_Settings!$E$5*60000000","v":1875},{"$f":"(TREND(INDEX($C$5:$C$32,MATCH(F130,$B$5:$B$32)):INDEX($C$5:$C$32,MATCH(F130,$B$5:$B$32)+1),INDEX($B$5:$B$32,MATCH(F130,$B$5:$B$32)):INDEX($B$5:$B$32,MATCH(F130,$B$5:$B$32)+1),F130))*256/360","v":17.066666666666666},14.933333333333334,1815.6666666666667,1816,null,125,{"$f":"(1/(L130*256))*Setup_Settings!$E$5*60000000","v":1875},{"$f":"(TREND(INDEX($V$5:$V$32,MATCH(F130,$U$5:$U$32)):INDEX($V$5:$V$32,MATCH(F130,$U$5:$U$32)+1),INDEX($U$5:$U$32,MATCH(F130,$U$5:$U$32)):INDEX($U$5:$U$32,MATCH(F130,$U$5:$U$32)+1),F130))*256/360","v":19.2},12.8,1549,1549]
[null,null,null,null,126,{"$f":"(1/(E131*256))*Setup_Settings!$E$5*60000000","v":1860.1190476190475},{"$f":"(TREND(INDEX($C$5:$C$32,MATCH(F131,$B$5:$B$32)):INDEX($C$5:$C$32,MATCH(F131,$B$5:$B$32)+1),INDEX($B$5:$B$32,MATCH(F131,$B$5:$B$32)):INDEX($B$5:$B$32,MATCH(F131,$B$5:$B$32)+1),F131))*256/360","v":17.066666666666666},14.933333333333334,1830.6000000000001,1831,null,126,{"$f":"(1/(L131*256))*Setup_Settings!$E$5*60000000","v":1860.1190476190475},{"$f":"(TREND(INDEX($V$5:$V$32,MATCH(F131,$U$5:$U$32)):INDEX($V$5:$V$32,MATCH(F131,$U$5:$U$32)+1),INDEX($U$5:$U$32,MATCH(F131,$U$5:$U$32)):INDEX($U$5:$U$32,MATCH(F131,$U$5:$U$32)+1),F131))*256/360","v":19.2},12.8,1561.8000000000002,1562]
[null,null,null,null,127,{"$f":"(1/(E132*256))*Setup_Settings!$E$5*60000000","v":1845.4724409448818},{"$f":"(TREND(INDEX($C$5:$C$32,MATCH(F132,$B$5:$B$32)):INDEX($C$5:$C$32,MATCH(F132,$B$5:$B$32)+1),INDEX($B$5:$B$32,MATCH(F132,$B$5:$B$32)):INDEX($B$5:$B$32,MATCH(F132,$B$5:$B$32)+1),F132))*256/360","v":17.066666666666666},14.933333333333334,1845.5333333333333,1846,null,127,{"$f":"(1/(L132*256))*Setup_Settings!$E$5*60000000","v":1845.4724409448818},{"$f":"(TREND(INDEX($V$5:$V$32,MATCH(F132,$U$5:$U$32)):INDEX($V$5:$V$32,MATCH(F132,$U$5:$U$32)+1),INDEX($U$5:$U$32,MATCH(F132,$U$5:$U$32)):INDEX($U$5:$U$32,MATCH(F132,$U$5:$U$32)+1),F132))*256/360","v":19.2},12.8,1574.6000000000001,1575]
[null,null,null,null,128,{"$f":"(1/(E133*256))*Setup_Settings!$E$5*60000000","v":1831.0546875},{"$f":"(TREND(INDEX($C$5:$C$32,MATCH(F133,$B$5:$B$32)):INDEX($C$5:$C$32,MATCH(F133,$B$5:$B$32)+1),INDEX($B$5:$B$32,MATCH(F133,$B$5:$B$32)):INDEX($B$5:$B$32,MATCH(F133,$B$5:$B$32)+1),F133))*256/360","v":17.066666666666666},14.933333333333334,1860.4666666666667,1860,null,128,{"$f":"(1/(L133*256))*Setup_Settings!$E$5*60000000","v":1831.0546875},{"$f":"(TREND(INDEX($V$5:$V$32,MATCH(F133,$U$5:$U$32)):INDEX($V$5:$V$32,MATCH(F133,$U$5:$U$32)+1),INDEX($U$5:$U$32,MATCH(F133,$U$5:$U$32)):INDEX($U$5:$U$32,MATCH(F133,$U$5:$U$32)+1),F133))*256/360","v":19.2},12.8,1587.4,1587]
[null,null,null,null,129,{"$f":"(1/(E134*256))*Setup_Settings!$E$5*60000000","v":1816.8604651162791},{"$f":"(TREND(INDEX($C$5:$C$32,MATCH(F134,$B$5:$B$32)):INDEX($C$5:$C$32,MATCH(F134,$B$5:$B$32)+1),INDEX($B$5:$B$32,MATCH(F134,$B$5:$B$32)):INDEX($B$5:$B$32,MATCH(F134,$B$5:$B$32)+1),F134))*256/360","v":17.066666666666666},14.933333333333334,1875.4,1875,null,129,{"$f":"(1/(L134*256))*Setup_Settings!$E$5*60000000","v":1816.8604651162791},{"$f":"(TREND(INDEX($V$5:$V$32,MATCH(F134,$U$5:$U$32)):INDEX($V$5:$V$32,MATCH(F134,$U$5:$U$32)+1),INDEX($U$5:$U$32,MATCH(F134,$U$5:$U$32)):INDEX($U$5:$U$32,MATCH(F134,$U$5:$U$32)+1),F134))*256/360","v":19.2},12.8,1600.2,1600]
[null,null,null,null,130,{"$f":"(1/(E135*256))*Setup_Settings!$E$5*60000000","v":1802.8846153846155},{"$f":"(TREND(INDEX($C$5:$C$32,MATCH(F135,$B$5:$B$32)):INDEX($C$5:$C$32,MATCH(F135,$B$5:$B$32)+1),INDEX($B$5:$B$32,MATCH(F135,$B$5:$B$32)):INDEX($B$5:$B$32,MATCH(F135,$B$5:$B$32)+1),F135))*256/360","v":17.066666666666666},14.933333333333334,1890.3333333333333,1890,null,130,{"$f":"(1/(L135*256))*Setup_Settings!$E$5*60000000","v":1802.8846153846155},{"$f":"(TREND(INDEX($V$5:$V$32,MATCH(F135,$U$5:$U$32)):INDEX($V$5:$V$32,MATCH(F135,$U$5:$U$32)+1),INDEX($U$5:$U$32,MATCH(F135,$U$5:$U$32)):INDEX($U$5:$U$32,MATCH(F135,$U$5:$U$32)+1),F135))*256/360","v":19.2},12.8,1613,1613]
[null,null,null,null,131,{"$f":"(1/(E136*256))*Setup_Settings!$E$5*60000000","v":1789.1221374045801},{"$f":"(TREND(INDEX($C$5:$C$32,MATCH(F136,$B$5:$B$32)):INDEX($C$5:$C$32,MATCH(F136,$B$5:$B$32)+1),INDEX($B$5:$B$32,MATCH(F136,$B$5:$B$32)):INDEX($B$5:$B$32,MATCH(F136,$B$5:$B$32)+1),F136))*256/360","v":17.066666666666666},14.933333333333334,1905.2666666666667,1905,null,131,{"$f":"(1/(L136*256))*Setup_Settings!$E$5*60000000","v":1789.1221374045801},{"$f":"(TREND(INDEX($V$5:$V$32,MATCH(F136,$U$5:$U$32)):INDEX($V$5:$V$32,MATCH(F136,$U$5:$U$32)+1),INDEX($U$5:$U$32,MATCH(F136,$U$5:$U$32)):INDEX($U$5:$U$32,MATCH(F136,$U$5:$U$32)+1),F136))*256/360","v":19.2},12.8,1625.8000000000002,1626]
[null,null,null,null,132,{"$f":"(1/(E137*256))*Setup_Settings!$E$5*60000000","v":1775.5681818181818},{"$f":"(TREND(INDEX($C$5:$C$32,MATCH(F137,$B$5:$B$32)):INDEX($C$5:$C$32,MATCH(F137,$B$5:$B$32)+1),INDEX($B$5:$B$32,MATCH(F137,$B$5:$B$32)):INDEX($B$5:$B$32,MATCH(F137,$B$5:$B$32)+1),F137))*256/360","v":17.066666666666666},14.933333333333334,1920.2,1920,null,132,{"$f":"(1/(L137*256))*Setup_Settings!$E$5*60000000","v":1775.5681818181818},{"$f":"(TREND(INDEX($V$5:$V$32,MATCH(F137,$U$5:$U$32)):INDEX($V$5:$V$32,MATCH(F137,$U$5:$U$32)+1),INDEX($U$5:$U$32,MATCH(F137,$U$5:$U$32)):INDEX($U$5:$U$32,MATCH(F137,$U$5:$U$32)+1),F137))*256/360","v":19.2},12.8,1638.6000000000001,1639]
[null,null,null,null,133,{"$f":"(1/(E138*256))*Setup_Settings!$E$5*60000000","v":1762.218045112782},{"$f":"(TREND(INDEX($C$5:$C$32,MATCH(F138,$B$5:$B$32)):INDEX($C$5:$C$32,MATCH(F138,$B$5:$B$32)+1),INDEX($B$5:$B$32,MATCH(F138,$B$5:$B$32)):INDEX($B$5:$B$32,MATCH(F138,$B$5:$B$32)+1),F138))*256/360","v":17.066666666666666},14.933333333333334,1935.1333333333334,1935,null,133,{"$f":"(1/(L138*256))*Setup_Settings!$E$5*60000000","v":1762.218045112782},{"$f":"(TREND(INDEX($V$5:$V$32,MATCH(F138,$U$5:$U$32)):INDEX($V$5:$V$32,MATCH(F138,$U$5:$U$32)+1),INDEX($U$5:$U$32,MATCH(F138,$U$5:$U$32)):INDEX($U$5:$U$32,MATCH(F138,$U$5:$U$32)+1),F138))*256/360","v":19.2},12.8,1651.4,1651]
[null,null,null,null,134,{"$f":"(1/(E139*256))*Setup_Settings!$E$5*60000000","v":1749.0671641791043},{"$f":"(TREND(INDEX($C$5:$C$32,MATCH(F139,$B$5:$B$32)):INDEX($C$5:$C$32,MATCH(F139,$B$5:$B$32)+1),INDEX($B$5:$B$32,MATCH(F139,$B$5:$B$32)):INDEX($B$5:$B$32,MATCH(F139,$B$5:$B$32)+1),F139))*256/360","v":17.066666666666666},14.933333333333334,1950.0666666666666,1950,null,134,{"$f":"(1/(L139*256))*Setup_Settings!$E$5*60000000","v":1749.0671641791043},{"$f":"(TREND(INDEX($V$5:$V$32,MATCH(F139,$U$5:$U$32)):INDEX($V$5:$V$32,MATCH(F139,$U$5:$U$32)+1),INDEX($U$5:$U$32,MATCH(F139,$U$5:$U$32)):INDEX($U$5:$U$32,MATCH(F139,$U$5:$U$32)+1),F139))*256/360","v":19.2},12.8,1664.2,1664]
[null,null,null,null,135,{"$f":"(1/(E140*256))*Setup_Settings!$E$5*60000000","v":1736.1111111111111},{"$f":"(TREND(INDEX($C$5:$C$32,MATCH(F140,$B$5:$B$32)):INDEX($C$5:$C$32,MATCH(F140,$B$5:$B$32)+1),INDEX($B$5:$B$32,MATCH(F140,$B$5:$B$32)):INDEX($B$5:$B$32,MATCH(F140,$B$5:$B$32)+1),F140))*256/360","v":17.066666666666666},14.933333333333334,1965,1965,null,135,{"$f":"(1/(L140*256))*Setup_Settings!$E$5*60000000","v":1736.1111111111111},{"$f":"(TREND(INDEX($V$5:$V$32,MATCH(F140,$U$5:$U$32)):INDEX($V$5:$V$32,MATCH(F140,$U$5:$U$32)+1),INDEX($U$5:$U$32,MATCH(F140,$U$5:$U$32)):INDEX($U$5:$U$32,MATCH(F140,$U$5:$U$32)+1),F140))*256/360","v":19.2},12.8,1677,1677]
[null,null,null,null,136,{"$f":"(1/(E141*256))*Setup_Settings!$E$5*60000000","v":1723.3455882352941},{"$f":"(TREND(INDEX($C$5:$C$32,MATCH(F141,$B$5:$B$32)):INDEX($C$5:$C$32,MATCH(F141,$B$5:$B$32)+1),INDEX($B$5:$B$32,MATCH(F141,$B$5:$B$32)):INDEX($B$5:$B$32,MATCH(F141,$B$5:$B$32)+1),F141))*256/360","v":17.066666666666666},14.933333333333334,1979.9333333333334,1980,null,136,{"$f":"(1/(L141*256))*Setup_Settings!$E$5*60000000","v":1723.3455882352941},{"$f":"(TREND(INDEX($V$5:$V$32,MATCH(F141,$U$5:$U$32)):INDEX($V$5:$V$32,MATCH(F141,$U$5:$U$32)+1),INDEX($U$5:$U$32,MATCH(F141,$U$5:$U$32)):INDEX($U$5:$U$32,MATCH(F141,$U$5:$U$32)+1),F141))*256/360","v":19.2},12.8,1689.8000000000002,1690]
[null,null,null,null,137,{"$f":"(1/(E142*256))*Setup_Settings!$E$5*60000000","v":1710.7664233576643},{"$f":"(TREND(INDEX($C$5:$C$32,MATCH(F142,$B$5:$B$32)):INDEX($C$5:$C$32,MATCH(F142,$B$5:$B$32)+1),INDEX($B$5:$B$32,MATCH(F142,$B$5:$B$32)):INDEX($B$5:$B$32,MATCH(F142,$B$5:$B$32)+1),F142))*256/360","v":17.066666666666666},14.933333333333334,1994.8666666666668,1995,null,137,{"$f":"(1/(L142*256))*Setup_Settings!$E$5*60000000","v":1710.7664233576643},{"$f":"(TREND(INDEX($V$5:$V$32,MATCH(F142,$U$5:$U$32)):INDEX($V$5:$V$32,MATCH(F142,$U$5:$U$32)+1),INDEX($U$5:$U$32,MATCH(F142,$U$5:$U$32)):INDEX($U$5:$U$32,MATCH(F142,$U$5:$U$32)+1),F142))*256/360","v":19.2},12.8,1702.6000000000001,1703]
[null,null,null,null,138,{"$f":"(1/(E143*256))*Setup_Settings!$E$5*60000000","v":1698.3695652173913},{"$f":"(TREND(INDEX($C$5:$C$32,MATCH(F143,$B$5:$B$32)):INDEX($C$5:$C$32,MATCH(F143,$B$5:$B$32)+1),INDEX($B$5:$B$32,MATCH(F143,$B$5:$B$32)):INDEX($B$5:$B$32,MATCH(F143,$B$5:$B$32)+1),F143))*256/360","v":17.066666666666666},14.933333333333334,2009.8000000000002,2010,null,138,{"$f":"(1/(L143*256))*Setup_Settings!$E$5*60000000","v":1698.3695652173913},{"$f":"(TREND(INDEX($V$5:$V$32,MATCH(F143,$U$5:$U$32)):INDEX($V$5:$V$32,MATCH(F143,$U$5:$U$32)+1),INDEX($U$5:$U$32,MATCH(F143,$U$5:$U$32)):INDEX($U$5:$U$32,MATCH(F143,$U$5:$U$32)+1),F143))*256/360","v":19.2},12.8,1715.4,1715]
[null,null,null,null,139,{"$f":"(1/(E144*256))*Setup_Settings!$E$5*60000000","v":1686.1510791366907},{"$f":"(TREND(INDEX($C$5:$C$32,MATCH(F144,$B$5:$B$32)):INDEX($C$5:$C$32,MATCH(F144,$B$5:$B$32)+1),INDEX($B$5:$B$32,MATCH(F144,$B$5:$B$32)):INDEX($B$5:$B$32,MATCH(F144,$B$5:$B$32)+1),F144))*256/360","v":17.066666666666666},14.933333333333334,2024.7333333333336,2025,null,139,{"$f":"(1/(L144*256))*Setup_Settings!$E$5*60000000","v":1686.1510791366907},{"$f":"(TREND(INDEX($V$5:$V$32,MATCH(F144,$U$5:$U$32)):INDEX($V$5:$V$32,MATCH(F144,$U$5:$U$32)+1),INDEX($U$5:$U$32,MATCH(F144,$U$5:$U$32)):INDEX($U$5:$U$32,MATCH(F144,$U$5:$U$32)+1),F144))*256/360","v":19.2},12.8,1728.2,1728]
[null,null,null,null,140,{"$f":"(1/(E145*256))*Setup_Settings!$E$5*60000000","v":1674.1071428571429},{"$f":"(TREND(INDEX($C$5:$C$32,MATCH(F145,$B$5:$B$32)):INDEX($C$5:$C$32,MATCH(F145,$B$5:$B$32)+1),INDEX($B$5:$B$32,MATCH(F145,$B$5:$B$32)):INDEX($B$5:$B$32,MATCH(F145,$B$5:$B$32)+1),F145))*256/360","v":17.066666666666666},14.933333333333334,2039.6666666666665,2040,null,140,{"$f":"(1/(L145*256))*Setup_Settings!$E$5*60000000","v":1674.1071428571429},{"$f":"(TREND(INDEX($V$5:$V$32,MATCH(F145,$U$5:$U$32)):INDEX($V$5:$V$32,MATCH(F145,$U$5:$U$32)+1),INDEX($U$5:$U$32,MATCH(F145,$U$5:$U$32)):INDEX($U$5:$U$32,MATCH(F145,$U$5:$U$32)+1),F145))*256/360","v":19.2},12.8,1741,1741]
[null,null,null,null,141,{"$f":"(1/(E146*256))*Setup_Settings!$E$5*60000000","v":1662.2340425531916},{"$f":"(TREND(INDEX($C$5:$C$32,MATCH(F146,$B$5:$B$32)):INDEX($C$5:$C$32,MATCH(F146,$B$5:$B$32)+1),INDEX($B$5:$B$32,MATCH(F146,$B$5:$B$32)):INDEX($B$5:$B$32,MATCH(F146,$B$5:$B$32)+1),F146))*256/360","v":17.066666666666666},14.933333333333334,2054.6,2055,null,141,{"$f":"(1/(L146*256))*Setup_Settings!$E$5*60000000","v":1662.2340425531916},{"$f":"(TREND(INDEX($V$5:$V$32,MATCH(F146,$U$5:$U$32)):INDEX($V$5:$V$32,MATCH(F146,$U$5:$U$32)+1),INDEX($U$5:$U$32,MATCH(F146,$U$5:$U$32)):INDEX($U$5:$U$32,MATCH(F146,$U$5:$U$32)+1),F146))*256/360","v":19.2},12.8,1753.8000000000002,1754]
[null,null,null,null,142,{"$f":"(1/(E147*256))*Setup_Settings!$E$5*60000000","v":1650.5281690140846},{"$f":"(TREND(INDEX($C$5:$C$32,MATCH(F147,$B$5:$B$32)):INDEX($C$5:$C$32,MATCH(F147,$B$5:$B$32)+1),INDEX($B$5:$B$32,MATCH(F147,$B$5:$B$32)):INDEX($B$5:$B$32,MATCH(F147,$B$5:$B$32)+1),F147))*256/360","v":17.066666666666666},14.933333333333334,2069.5333333333333,2070,null,142,{"$f":"(1/(L147*256))*Setup_Settings!$E$5*60000000","v":1650.5281690140846},{"$f":"(TREND(INDEX($V$5:$V$32,MATCH(F147,$U$5:$U$32)):INDEX($V$5:$V$32,MATCH(F147,$U$5:$U$32)+1),INDEX($U$5:$U$32,MATCH(F147,$U$5:$U$32)):INDEX($U$5:$U$32,MATCH(F147,$U$5:$U$32)+1),F147))*256/360","v":19.2},12.8,1766.6000000000001,1767]
[null,null,null,null,143,{"$f":"(1/(E148*256))*Setup_Settings!$E$5*60000000","v":1638.9860139860141},{"$f":"(TREND(INDEX($C$5:$C$32,MATCH(F148,$B$5:$B$32)):INDEX($C$5:$C$32,MATCH(F148,$B$5:$B$32)+1),INDEX($B$5:$B$32,MATCH(F148,$B$5:$B$32)):INDEX($B$5:$B$32,MATCH(F148,$B$5:$B$32)+1),F148))*256/360","v":17.066666666666666},14.933333333333334,2084.4666666666667,2084,null,143,{"$f":"(1/(L148*256))*Setup_Settings!$E$5*60000000","v":1638.9860139860141},{"$f":"(TREND(INDEX($V$5:$V$32,MATCH(F148,$U$5:$U$32)):INDEX($V$5:$V$32,MATCH(F148,$U$5:$U$32)+1),INDEX($U$5:$U$32,MATCH(F148,$U$5:$U$32)):INDEX($U$5:$U$32,MATCH(F148,$U$5:$U$32)+1),F148))*256/360","v":19.2},12.8,1779.4,1779]
[null,null,null,null,144,{"$f":"(1/(E149*256))*Setup_Settings!$E$5*60000000","v":1627.6041666666665},{"$f":"(TREND(INDEX($C$5:$C$32,MATCH(F149,$B$5:$B$32)):INDEX($C$5:$C$32,MATCH(F149,$B$5:$B$32)+1),INDEX($B$5:$B$32,MATCH(F149,$B$5:$B$32)):INDEX($B$5:$B$32,MATCH(F149,$B$5:$B$32)+1),F149))*256/360","v":17.066666666666666},14.933333333333334,{"$f":"(E149*H149)-$F$2","v":2099.4},2099,null,144,{"$f":"(1/(L149*256))*Setup_Settings!$E$5*60000000","v":1627.6041666666665},{"$f":"(TREND(INDEX($V$5:$V$32,MATCH(F149,$U$5:$U$32)):INDEX($V$5:$V$32,MATCH(F149,$U$5:$U$32)+1),INDEX($U$5:$U$32,MATCH(F149,$U$5:$U$32)):INDEX($U$5:$U$32,MATCH(F149,$U$5:$U$32)+1),F149))*256/360","v":19.2},{"$f":"$L$3-N149","v":12.8},1792.2,1792]
[null,null,null,null,145,{"$f":"(1/(E150*256))*Setup_Settings!$E$5*60000000","v":1616.3793103448277},{"$f":"(TREND(INDEX($C$5:$C$32,MATCH(F150,$B$5:$B$32)):INDEX($C$5:$C$32,MATCH(F150,$B$5:$B$32)+1),INDEX($B$5:$B$32,MATCH(F150,$B$5:$B$32)):INDEX($B$5:$B$32,MATCH(F150,$B$5:$B$32)+1),F150))*256/360","v":17.066666666666666},{"$f":"$E$3-G150","v":14.933333333333334},2114.3333333333335,{"$f":"IF((ROUND(E150*H150,0)-$F$2)>0,(ROUND(E150*H150,0)-$F$2),1)","v":2114},null,145,{"$f":"(1/(L150*256))*Setup_Settings!$E$5*60000000","v":1616.3793103448277},{"$f":"(TREND(INDEX($V$5:$V$32,MATCH(F150,$U$5:$U$32)):INDEX($V$5:$V$32,MATCH(F150,$U$5:$U$32)+1),INDEX($U$5:$U$32,MATCH(F150,$U$5:$U$32)):INDEX($U$5:$U$32,MATCH(F150,$U$5:$U$32)+1),F150))*256/360","v":19.2},12.8,1805,{"$f":"IF((ROUND(L150*O150,0)-$F$2)>1,(ROUND(L150*O150,0)-$M$2),1)","v":1805}]
[null,null,null,null,146,{"$f":"(1/(E151*256))*Setup_Settings!$E$5*60000000","v":1605.308219178082},{"$f":"(TREND(INDEX($C$5:$C$32,MATCH(F151,$B$5:$B$32)):INDEX($C$5:$C$32,MATCH(F151,$B$5:$B$32)+1),INDEX($B$5:$B$32,MATCH(F151,$B$5:$B$32)):INDEX($B$5:$B$32,MATCH(F151,$B$5:$B$32)+1),F151))*256/360","v":17.066666666666666},14.933333333333334,2129.2666666666669,2129,null,146,{"$f":"(1/(L151*256))*Setup_Settings!$E$5*60000000","v":1605.308219178082},{"$f":"(TREND(INDEX($V$5:$V$32,MATCH(F151,$U$5:$U$32)):INDEX($V$5:$V$32,MATCH(F151,$U$5:$U$32)+1),INDEX($U$5:$U$32,MATCH(F151,$U$5:$U$32)):INDEX($U$5:$U$32,MATCH(F151,$U$5:$U$32)+1),F151))*256/360","v":19.2},12.8,1817.8000000000002,1818]
[null,null,null,null,147,{"$f":"(1/(E152*256))*Setup_Settings!$E$5*60000000","v":1594.3877551020407},{"$f":"(TREND(INDEX($C$5:$C$32,MATCH(F152,$B$5:$B$32)):INDEX($C$5:$C$32,MATCH(F152,$B$5:$B$32)+1),INDEX($B$5:$B$32,MATCH(F152,$B$5:$B$32)):INDEX($B$5:$B$32,MATCH(F152,$B$5:$B$32)+1),F152))*256/360","v":17.066666666666666},14.933333333333334,2144.1999999999998,2144,null,147,{"$f":"(1/(L152*256))*Setup_Settings!$E$5*60000000","v":1594.3877551020407},{"$f":"(TREND(INDEX($V$5:$V$32,MATCH(F152,$U$5:$U$32)):INDEX($V$5:$V$32,MATCH(F152,$U$5:$U$32)+1),INDEX($U$5:$U$32,MATCH(F152,$U$5:$U$32)):INDEX($U$5:$U$32,MATCH(F152,$U$5:$U$32)+1),F152))*256/360","v":19.2},12.8,1830.6000000000001,1831]
[null,null,null,null,148,{"$f":"(1/(E153*256))*Setup_Settings!$E$5*60000000","v":1583.614864864865},{"$f":"(TREND(INDEX($C$5:$C$32,MATCH(F153,$B$5:$B$32)):INDEX($C$5:$C$32,MATCH(F153,$B$5:$B$32)+1),INDEX($B$5:$B$32,MATCH(F153,$B$5:$B$32)):INDEX($B$5:$B$32,MATCH(F153,$B$5:$B$32)+1),F153))*256/360","v":17.066666666666666},14.933333333333334,2159.1333333333332,2159,null,148,{"$f":"(1/(L153*256))*Setup_Settings!$E$5*60000000","v":1583.614864864865},{"$f":"(TREND(INDEX($V$5:$V$32,MATCH(F153,$U$5:$U$32)):INDEX($V$5:$V$32,MATCH(F153,$U$5:$U$32)+1),INDEX($U$5:$U$32,MATCH(F153,$U$5:$U$32)):INDEX($U$5:$U$32,MATCH(F153,$U$5:$U$32)+1),F153))*256/360","v":19.2},12.8,1843.4,1843]
[null,null,null,null,149,{"$f":"(1/(E154*256))*Setup_Settings!$E$5*60000000","v":1572.9865771812081},{"$f":"(TREND(INDEX($C$5:$C$32,MATCH(F154,$B$5:$B$32)):INDEX($C$5:$C$32,MATCH(F154,$B$5:$B$32)+1),INDEX($B$5:$B$32,MATCH(F154,$B$5:$B$32)):INDEX($B$5:$B$32,MATCH(F154,$B$5:$B$32)+1),F154))*256/360","v":17.066666666666666},14.933333333333334,2174.0666666666666,2174,null,149,{"$f":"(1/(L154*256))*Setup_Settings!$E$5*60000000","v":1572.9865771812081},{"$f":"(TREND(INDEX($V$5:$V$32,MATCH(F154,$U$5:$U$32)):INDEX($V$5:$V$32,MATCH(F154,$U$5:$U$32)+1),INDEX($U$5:$U$32,MATCH(F154,$U$5:$U$32)):INDEX($U$5:$U$32,MATCH(F154,$U$5:$U$32)+1),F154))*256/360","v":19.2},12.8,1856.2,1856]
[null,null,null,null,150,{"$f":"(1/(E155*256))*Setup_Settings!$E$5*60000000","v":1562.5},{"$f":"(TREND(INDEX($C$5:$C$32,MATCH(F155,$B$5:$B$32)):INDEX($C$5:$C$32,MATCH(F155,$B$5:$B$32)+1),INDEX($B$5:$B$32,MATCH(F155,$B$5:$B$32)):INDEX($B$5:$B$32,MATCH(F155,$B$5:$B$32)+1),F155))*256/360","v":17.066666666666666},14.933333333333334,2189,2189,null,150,{"$f":"(1/(L155*256))*Setup_Settings!$E$5*60000000","v":1562.5},{"$f":"(TREND(INDEX($V$5:$V$32,MATCH(F155,$U$5:$U$32)):INDEX($V$5:$V$32,MATCH(F155,$U$5:$U$32)+1),INDEX($U$5:$U$32,MATCH(F155,$U$5:$U$32)):INDEX($U$5:$U$32,MATCH(F155,$U$5:$U$32)+1),F155))*256/360","v":19.2},12.8,{"$f":"(L155*O155)-$F$2","v":1869},1869]
[null,null,null,null,151,{"$f":"(1/(E156*256))*Setup_Settings!$E$5*60000000","v":1552.1523178807947},{"$f":"(TREND(INDEX($C$5:$C$32,MATCH(F156,$B$5:$B$32)):INDEX($C$5:$C$32,MATCH(F156,$B$5:$B$32)+1),INDEX($B$5:$B$32,MATCH(F156,$B$5:$B$32)):INDEX($B$5:$B$32,MATCH(F156,$B$5:$B$32)+1),F156))*256/360","v":17.066666666666666},14.933333333333334,2203.9333333333334,2204,null,151,{"$f":"(1/(L156*256))*Setup_Settings!$E$5*60000000","v":1552.1523178807947},{"$f":"(TREND(INDEX($V$5:$V$32,MATCH(F156,$U$5:$U$32)):INDEX($V$5:$V$32,MATCH(F156,$U$5:$U$32)+1),INDEX($U$5:$U$32,MATCH(F156,$U$5:$U$32)):INDEX($U$5:$U$32,MATCH(F156,$U$5:$U$32)+1),F156))*256/360","v":19.2},12.8,1881.8000000000002,1882]
[null,null,null,null,152,{"$f":"(1/(E157*256))*Setup_Settings!$E$5*60000000","v":1541.9407894736842},{"$f":"(TREND(INDEX($C$5:$C$32,MATCH(F157,$B$5:$B$32)):INDEX($C$5:$C$32,MATCH(F157,$B$5:$B$32)+1),INDEX($B$5:$B$32,MATCH(F157,$B$5:$B$32)):INDEX($B$5:$B$32,MATCH(F157,$B$5:$B$32)+1),F157))*256/360","v":17.066666666666666},14.933333333333334,2218.8666666666668,2219,null,152,{"$f":"(1/(L157*256))*Setup_Settings!$E$5*60000000","v":1541.9407894736842},{"$f":"(TREND(INDEX($V$5:$V$32,MATCH(F157,$U$5:$U$32)):INDEX($V$5:$V$32,MATCH(F157,$U$5:$U$32)+1),INDEX($U$5:$U$32,MATCH(F157,$U$5:$U$32)):INDEX($U$5:$U$32,MATCH(F157,$U$5:$U$32)+1),F157))*256/360","v":19.2},12.8,1894.6000000000001,1895]
[null,null,null,null,153,{"$f":"(1/(E158*256))*Setup_Settings!$E$5*60000000","v":1531.8627450980393},{"$f":"(TREND(INDEX($C$5:$C$32,MATCH(F158,$B$5:$B$32)):INDEX($C$5:$C$32,MATCH(F158,$B$5:$B$32)+1),INDEX($B$5:$B$32,MATCH(F158,$B$5:$B$32)):INDEX($B$5:$B$32,MATCH(F158,$B$5:$B$32)+1),F158))*256/360","v":17.066666666666666},14.933333333333334,2233.8000000000002,2234,null,153,{"$f":"(1/(L158*256))*Setup_Settings!$E$5*60000000","v":1531.8627450980393},{"$f":"(TREND(INDEX($V$5:$V$32,MATCH(F158,$U$5:$U$32)):INDEX($V$5:$V$32,MATCH(F158,$U$5:$U$32)+1),INDEX($U$5:$U$32,MATCH(F158,$U$5:$U$32)):INDEX($U$5:$U$32,MATCH(F158,$U$5:$U$32)+1),F158))*256/360","v":19.2},12.8,1907.4,1907]
[null,null,null,null,154,{"$f":"(1/(E159*256))*Setup_Settings!$E$5*60000000","v":1521.9155844155846},{"$f":"(TREND(INDEX($C$5:$C$32,MATCH(F159,$B$5:$B$32)):INDEX($C$5:$C$32,MATCH(F159,$B$5:$B$32)+1),INDEX($B$5:$B$32,MATCH(F159,$B$5:$B$32)):INDEX($B$5:$B$32,MATCH(F159,$B$5:$B$32)+1),F159))*256/360","v":17.066666666666666},14.933333333333334,2248.7333333333336,2249,null,154,{"$f":"(1/(L159*256))*Setup_Settings!$E$5*60000000","v":1521.9155844155846},{"$f":"(TREND(INDEX($V$5:$V$32,MATCH(F159,$U$5:$U$32)):INDEX($V$5:$V$32,MATCH(F159,$U$5:$U$32)+1),INDEX($U$5:$U$32,MATCH(F159,$U$5:$U$32)):INDEX($U$5:$U$32,MATCH(F159,$U$5:$U$32)+1),F159))*256/360","v":19.2},12.8,1920.2,1920]
[null,null,null,null,155,{"$f":"(1/(E160*256))*Setup_Settings!$E$5*60000000","v":1512.0967741935483},{"$f":"(TREND(INDEX($C$5:$C$32,MATCH(F160,$B$5:$B$32)):INDEX($C$5:$C$32,MATCH(F160,$B$5:$B$32)+1),INDEX($B$5:$B$32,MATCH(F160,$B$5:$B$32)):INDEX($B$5:$B$32,MATCH(F160,$B$5:$B$32)+1),F160))*256/360","v":17.066666666666666},14.933333333333334,2263.6666666666665,2264,null,155,{"$f":"(1/(L160*256))*Setup_Settings!$E$5*60000000","v":1512.0967741935483},{"$f":"(TREND(INDEX($V$5:$V$32,MATCH(F160,$U$5:$U$32)):INDEX($V$5:$V$32,MATCH(F160,$U$5:$U$32)+1),INDEX($U$5:$U$32,MATCH(F160,$U$5:$U$32)):INDEX($U$5:$U$32,MATCH(F160,$U$5:$U$32)+1),F160))*256/360","v":19.2},12.8,1933,1933]
[null,null,null,null,156,{"$f":"(1/(E161*256))*Setup_Settings!$E$5*60000000","v":1502.4038461538462},{"$f":"(TREND(INDEX($C$5:$C$32,MATCH(F161,$B$5:$B$32)):INDEX($C$5:$C$32,MATCH(F161,$B$5:$B$32)+1),INDEX($B$5:$B$32,MATCH(F161,$B$5:$B$32)):INDEX($B$5:$B$32,MATCH(F161,$B$5:$B$32)+1),F161))*256/360","v":17.066666666666666},14.933333333333334,2278.6,2279,null,156,{"$f":"(1/(L161*256))*Setup_Settings!$E$5*60000000","v":1502.4038461538462},{"$f":"(TREND(INDEX($V$5:$V$32,MATCH(F161,$U$5:$U$32)):INDEX($V$5:$V$32,MATCH(F161,$U$5:$U$32)+1),INDEX($U$5:$U$32,MATCH(F161,$U$5:$U$32)):INDEX($U$5:$U$32,MATCH(F161,$U$5:$U$32)+1),F161))*256/360","v":19.2},12.8,1945.8000000000002,1946]
[null,null,null,null,157,{"$f":"(1/(E162*256))*Setup_Settings!$E$5*60000000","v":1492.8343949044586},{"$f":"(TREND(INDEX($C$5:$C$32,MATCH(F162,$B$5:$B$32)):INDEX($C$5:$C$32,MATCH(F162,$B$5:$B$32)+1),INDEX($B$5:$B$32,MATCH(F162,$B$5:$B$32)):INDEX($B$5:$B$32,MATCH(F162,$B$5:$B$32)+1),F162))*256/360","v":17.066666666666666},14.933333333333334,2293.5333333333333,2294,null,157,{"$f":"(1/(L162*256))*Setup_Settings!$E$5*60000000","v":1492.8343949044586},{"$f":"(TREND(INDEX($V$5:$V$32,MATCH(F162,$U$5:$U$32)):INDEX($V$5:$V$32,MATCH(F162,$U$5:$U$32)+1),INDEX($U$5:$U$32,MATCH(F162,$U$5:$U$32)):INDEX($U$5:$U$32,MATCH(F162,$U$5:$U$32)+1),F162))*256/360","v":19.2},12.8,1958.6000000000001,1959]
[null,null,null,null,158,{"$f":"(1/(E163*256))*Setup_Settings!$E$5*60000000","v":1483.3860759493671},{"$f":"(TREND(INDEX($C$5:$C$32,MATCH(F163,$B$5:$B$32)):INDEX($C$5:$C$32,MATCH(F163,$B$5:$B$32)+1),INDEX($B$5:$B$32,MATCH(F163,$B$5:$B$32)):INDEX($B$5:$B$32,MATCH(F163,$B$5:$B$32)+1),F163))*256/360","v":17.066666666666666},14.933333333333334,2308.4666666666667,2308,null,158,{"$f":"(1/(L163*256))*Setup_Settings!$E$5*60000000","v":1483.3860759493671},{"$f":"(TREND(INDEX($V$5:$V$32,MATCH(F163,$U$5:$U$32)):INDEX($V$5:$V$32,MATCH(F163,$U$5:$U$32)+1),INDEX($U$5:$U$32,MATCH(F163,$U$5:$U$32)):INDEX($U$5:$U$32,MATCH(F163,$U$5:$U$32)+1),F163))*256/360","v":19.2},12.8,1971.4,1971]
[null,null,null,null,159,{"$f":"(1/(E164*256))*Setup_Settings!$E$5*60000000","v":1474.056603773585},{"$f":"(TREND(INDEX($C$5:$C$32,MATCH(F164,$B$5:$B$32)):INDEX($C$5:$C$32,MATCH(F164,$B$5:$B$32)+1),INDEX($B$5:$B$32,MATCH(F164,$B$5:$B$32)):INDEX($B$5:$B$32,MATCH(F164,$B$5:$B$32)+1),F164))*256/360","v":17.066666666666666},14.933333333333334,2323.4,2323,null,159,{"$f":"(1/(L164*256))*Setup_Settings!$E$5*60000000","v":1474.056603773585},{"$f":"(TREND(INDEX($V$5:$V$32,MATCH(F164,$U$5:$U$32)):INDEX($V$5:$V$32,MATCH(F164,$U$5:$U$32)+1),INDEX($U$5:$U$32,MATCH(F164,$U$5:$U$32)):INDEX($U$5:$U$32,MATCH(F164,$U$5:$U$32)+1),F164))*256/360","v":19.2},12.8,1984.2,1984]
[null,null,null,null,160,{"$f":"(1/(E165*256))*Setup_Settings!$E$5*60000000","v":1464.84375},{"$f":"(TREND(INDEX($C$5:$C$32,MATCH(F165,$B$5:$B$32)):INDEX($C$5:$C$32,MATCH(F165,$B$5:$B$32)+1),INDEX($B$5:$B$32,MATCH(F165,$B$5:$B$32)):INDEX($B$5:$B$32,MATCH(F165,$B$5:$B$32)+1),F165))*256/360","v":17.066666666666666},14.933333333333334,2338.3333333333335,2338,null,160,{"$f":"(1/(L165*256))*Setup_Settings!$E$5*60000000","v":1464.84375},{"$f":"(TREND(INDEX($V$5:$V$32,MATCH(F165,$U$5:$U$32)):INDEX($V$5:$V$32,MATCH(F165,$U$5:$U$32)+1),INDEX($U$5:$U$32,MATCH(F165,$U$5:$U$32)):INDEX($U$5:$U$32,MATCH(F165,$U$5:$U$32)+1),F165))*256/360","v":19.2},12.8,1997,1997]
[null,null,null,null,161,{"$f":"(1/(E166*256))*Setup_Settings!$E$5*60000000","v":1455.7453416149067},{"$f":"(TREND(INDEX($C$5:$C$32,MATCH(F166,$B$5:$B$32)):INDEX($C$5:$C$32,MATCH(F166,$B$5:$B$32)+1),INDEX($B$5:$B$32,MATCH(F166,$B$5:$B$32)):INDEX($B$5:$B$32,MATCH(F166,$B$5:$B$32)+1),F166))*256/360","v":17.066666666666666},14.933333333333334,2353.2666666666669,2353,null,161,{"$f":"(1/(L166*256))*Setup_Settings!$E$5*60000000","v":1455.7453416149067},{"$f":"(TREND(INDEX($V$5:$V$32,MATCH(F166,$U$5:$U$32)):INDEX($V$5:$V$32,MATCH(F166,$U$5:$U$32)+1),INDEX($U$5:$U$32,MATCH(F166,$U$5:$U$32)):INDEX($U$5:$U$32,MATCH(F166,$U$5:$U$32)+1),F166))*256/360","v":19.2},12.8,2009.8000000000002,2010]
[null,null,null,null,162,{"$f":"(1/(E167*256))*Setup_Settings!$E$5*60000000","v":1446.7592592592591},{"$f":"(TREND(INDEX($C$5:$C$32,MATCH(F167,$B$5:$B$32)):INDEX($C$5:$C$32,MATCH(F167,$B$5:$B$32)+1),INDEX($B$5:$B$32,MATCH(F167,$B$5:$B$32)):INDEX($B$5:$B$32,MATCH(F167,$B$5:$B$32)+1),F167))*256/360","v":17.066666666666666},14.933333333333334,2368.1999999999998,2368,null,162,{"$f":"(1/(L167*256))*Setup_Settings!$E$5*60000000","v":1446.7592592592591},{"$f":"(TREND(INDEX($V$5:$V$32,MATCH(F167,$U$5:$U$32)):INDEX($V$5:$V$32,MATCH(F167,$U$5:$U$32)+1),INDEX($U$5:$U$32,MATCH(F167,$U$5:$U$32)):INDEX($U$5:$U$32,MATCH(F167,$U$5:$U$32)+1),F167))*256/360","v":19.2},12.8,2022.6,2023]
[null,null,null,null,163,{"$f":"(1/(E168*256))*Setup_Settings!$E$5*60000000","v":1437.8834355828221},{"$f":"(TREND(INDEX($C$5:$C$32,MATCH(F168,$B$5:$B$32)):INDEX($C$5:$C$32,MATCH(F168,$B$5:$B$32)+1),INDEX($B$5:$B$32,MATCH(F168,$B$5:$B$32)):INDEX($B$5:$B$32,MATCH(F168,$B$5:$B$32)+1),F168))*256/360","v":17.066666666666666},14.933333333333334,2383.1333333333332,2383,null,163,{"$f":"(1/(L168*256))*Setup_Settings!$E$5*60000000","v":1437.8834355828221},{"$f":"(TREND(INDEX($V$5:$V$32,MATCH(F168,$U$5:$U$32)):INDEX($V$5:$V$32,MATCH(F168,$U$5:$U$32)+1),INDEX($U$5:$U$32,MATCH(F168,$U$5:$U$32)):INDEX($U$5:$U$32,MATCH(F168,$U$5:$U$32)+1),F168))*256/360","v":19.2},12.8,2035.4,2035]
[null,null,null,null,164,{"$f":"(1/(E169*256))*Setup_Settings!$E$5*60000000","v":1429.1158536585367},{"$f":"(TREND(INDEX($C$5:$C$32,MATCH(F169,$B$5:$B$32)):INDEX($C$5:$C$32,MATCH(F169,$B$5:$B$32)+1),INDEX($B$5:$B$32,MATCH(F169,$B$5:$B$32)):INDEX($B$5:$B$32,MATCH(F169,$B$5:$B$32)+1),F169))*256/360","v":17.066666666666666},14.933333333333334,2398.0666666666666,2398,null,164,{"$f":"(1/(L169*256))*Setup_Settings!$E$5*60000000","v":1429.1158536585367},{"$f":"(TREND(INDEX($V$5:$V$32,MATCH(F169,$U$5:$U$32)):INDEX($V$5:$V$32,MATCH(F169,$U$5:$U$32)+1),INDEX($U$5:$U$32,MATCH(F169,$U$5:$U$32)):INDEX($U$5:$U$32,MATCH(F169,$U$5:$U$32)+1),F169))*256/360","v":19.2},12.8,2048.2000000000003,2048]
[null,null,null,null,165,{"$f":"(1/(E170*256))*Setup_Settings!$E$5*60000000","v":1420.4545454545455},{"$f":"(TREND(INDEX($C$5:$C$32,MATCH(F170,$B$5:$B$32)):INDEX($C$5:$C$32,MATCH(F170,$B$5:$B$32)+1),INDEX($B$5:$B$32,MATCH(F170,$B$5:$B$32)):INDEX($B$5:$B$32,MATCH(F170,$B$5:$B$32)+1),F170))*256/360","v":17.066666666666666},14.933333333333334,2413,2413,null,165,{"$f":"(1/(L170*256))*Setup_Settings!$E$5*60000000","v":1420.4545454545455},{"$f":"(TREND(INDEX($V$5:$V$32,MATCH(F170,$U$5:$U$32)):INDEX($V$5:$V$32,MATCH(F170,$U$5:$U$32)+1),INDEX($U$5:$U$32,MATCH(F170,$U$5:$U$32)):INDEX($U$5:$U$32,MATCH(F170,$U$5:$U$32)+1),F170))*256/360","v":19.2},12.8,2061,2061]
[null,null,null,null,166,{"$f":"(1/(E171*256))*Setup_Settings!$E$5*60000000","v":1411.897590361446},{"$f":"(TREND(INDEX($C$5:$C$32,MATCH(F171,$B$5:$B$32)):INDEX($C$5:$C$32,MATCH(F171,$B$5:$B$32)+1),INDEX($B$5:$B$32,MATCH(F171,$B$5:$B$32)):INDEX($B$5:$B$32,MATCH(F171,$B$5:$B$32)+1),F171))*256/360","v":17.066666666666666},14.933333333333334,2427.9333333333334,2428,null,166,{"$f":"(1/(L171*256))*Setup_Settings!$E$5*60000000","v":1411.897590361446},{"$f":"(TREND(INDEX($V$5:$V$32,MATCH(F171,$U$5:$U$32)):INDEX($V$5:$V$32,MATCH(F171,$U$5:$U$32)+1),INDEX($U$5:$U$32,MATCH(F171,$U$5:$U$32)):INDEX($U$5:$U$32,MATCH(F171,$U$5:$U$32)+1),F171))*256/360","v":19.2},12.8,2073.8000000000002,2074]
[null,null,null,null,167,{"$f":"(1/(E172*256))*Setup_Settings!$E$5*60000000","v":1403.4431137724553},{"$f":"(TREND(INDEX($C$5:$C$32,MATCH(F172,$B$5:$B$32)):INDEX($C$5:$C$32,MATCH(F172,$B$5:$B$32)+1),INDEX($B$5:$B$32,MATCH(F172,$B$5:$B$32)):INDEX($B$5:$B$32,MATCH(F172,$B$5:$B$32)+1),F172))*256/360","v":17.066666666666666},14.933333333333334,2442.8666666666668,2443,null,167,{"$f":"(1/(L172*256))*Setup_Settings!$E$5*60000000","v":1403.4431137724553},{"$f":"(TREND(INDEX($V$5:$V$32,MATCH(F172,$U$5:$U$32)):INDEX($V$5:$V$32,MATCH(F172,$U$5:$U$32)+1),INDEX($U$5:$U$32,MATCH(F172,$U$5:$U$32)):INDEX($U$5:$U$32,MATCH(F172,$U$5:$U$32)+1),F172))*256/360","v":19.2},12.8,2086.6,2087]
[null,null,null,null,168,{"$f":"(1/(E173*256))*Setup_Settings!$E$5*60000000","v":1395.0892857142856},{"$f":"(TREND(INDEX($C$5:$C$32,MATCH(F173,$B$5:$B$32)):INDEX($C$5:$C$32,MATCH(F173,$B$5:$B$32)+1),INDEX($B$5:$B$32,MATCH(F173,$B$5:$B$32)):INDEX($B$5:$B$32,MATCH(F173,$B$5:$B$32)+1),F173))*256/360","v":17.066666666666666},14.933333333333334,2457.8000000000002,2458,null,168,{"$f":"(1/(L173*256))*Setup_Settings!$E$5*60000000","v":1395.0892857142856},{"$f":"(TREND(INDEX($V$5:$V$32,MATCH(F173,$U$5:$U$32)):INDEX($V$5:$V$32,MATCH(F173,$U$5:$U$32)+1),INDEX($U$5:$U$32,MATCH(F173,$U$5:$U$32)):INDEX($U$5:$U$32,MATCH(F173,$U$5:$U$32)+1),F173))*256/360","v":19.2},12.8,2099.4,2099]
[null,null,null,null,169,{"$f":"(1/(E174*256))*Setup_Settings!$E$5*60000000","v":1386.8343195266273},{"$f":"(TREND(INDEX($C$5:$C$32,MATCH(F174,$B$5:$B$32)):INDEX($C$5:$C$32,MATCH(F174,$B$5:$B$32)+1),INDEX($B$5:$B$32,MATCH(F174,$B$5:$B$32)):INDEX($B$5:$B$32,MATCH(F174,$B$5:$B$32)+1),F174))*256/360","v":17.066666666666666},14.933333333333334,2472.7333333333336,2473,null,169,{"$f":"(1/(L174*256))*Setup_Settings!$E$5*60000000","v":1386.8343195266273},{"$f":"(TREND(INDEX($V$5:$V$32,MATCH(F174,$U$5:$U$32)):INDEX($V$5:$V$32,MATCH(F174,$U$5:$U$32)+1),INDEX($U$5:$U$32,MATCH(F174,$U$5:$U$32)):INDEX($U$5:$U$32,MATCH(F174,$U$5:$U$32)+1),F174))*256/360","v":19.2},12.8,2112.2000000000003,2112]
[null,null,null,null,170,{"$f":"(1/(E175*256))*Setup_Settings!$E$5*60000000","v":1378.6764705882354},{"$f":"(TREND(INDEX($C$5:$C$32,MATCH(F175,$B$5:$B$32)):INDEX($C$5:$C$32,MATCH(F175,$B$5:$B$32)+1),INDEX($B$5:$B$32,MATCH(F175,$B$5:$B$32)):INDEX($B$5:$B$32,MATCH(F175,$B$5:$B$32)+1),F175))*256/360","v":17.066666666666666},14.933333333333334,2487.6666666666665,2488,null,170,{"$f":"(1/(L175*256))*Setup_Settings!$E$5*60000000","v":1378.6764705882354},{"$f":"(TREND(INDEX($V$5:$V$32,MATCH(F175,$U$5:$U$32)):INDEX($V$5:$V$32,MATCH(F175,$U$5:$U$32)+1),INDEX($U$5:$U$32,MATCH(F175,$U$5:$U$32)):INDEX($U$5:$U$32,MATCH(F175,$U$5:$U$32)+1),F175))*256/360","v":19.2},12.8,2125,2125]
[null,null,null,null,171,{"$f":"(1/(E176*256))*Setup_Settings!$E$5*60000000","v":1370.6140350877192},{"$f":"(TREND(INDEX($C$5:$C$32,MATCH(F176,$B$5:$B$32)):INDEX($C$5:$C$32,MATCH(F176,$B$5:$B$32)+1),INDEX($B$5:$B$32,MATCH(F176,$B$5:$B$32)):INDEX($B$5:$B$32,MATCH(F176,$B$5:$B$32)+1),F176))*256/360","v":17.066666666666666},14.933333333333334,2502.6,2503,null,171,{"$f":"(1/(L176*256))*Setup_Settings!$E$5*60000000","v":1370.6140350877192},{"$f":"(TREND(INDEX($V$5:$V$32,MATCH(F176,$U$5:$U$32)):INDEX($V$5:$V$32,MATCH(F176,$U$5:$U$32)+1),INDEX($U$5:$U$32,MATCH(F176,$U$5:$U$32)):INDEX($U$5:$U$32,MATCH(F176,$U$5:$U$32)+1),F176))*256/360","v":19.2},12.8,2137.8000000000002,2138]
[null,null,null,null,172,{"$f":"(1/(E177*256))*Setup_Settings!$E$5*60000000","v":1362.6453488372092},{"$f":"(TREND(INDEX($C$5:$C$32,MATCH(F177,$B$5:$B$32)):INDEX($C$5:$C$32,MATCH(F177,$B$5:$B$32)+1),INDEX($B$5:$B$32,MATCH(F177,$B$5:$B$32)):INDEX($B$5:$B$32,MATCH(F177,$B$5:$B$32)+1),F177))*256/360","v":17.066666666666666},14.933333333333334,2517.5333333333333,2518,null,172,{"$f":"(1/(L177*256))*Setup_Settings!$E$5*60000000","v":1362.6453488372092},{"$f":"(TREND(INDEX($V$5:$V$32,MATCH(F177,$U$5:$U$32)):INDEX($V$5:$V$32,MATCH(F177,$U$5:$U$32)+1),INDEX($U$5:$U$32,MATCH(F177,$U$5:$U$32)):INDEX($U$5:$U$32,MATCH(F177,$U$5:$U$32)+1),F177))*256/360","v":19.2},12.8,2150.6,2151]
[null,null,null,null,173,{"$f":"(1/(E178*256))*Setup_Settings!$E$5*60000000","v":1354.7687861271675},{"$f":"(TREND(INDEX($C$5:$C$32,MATCH(F178,$B$5:$B$32)):INDEX($C$5:$C$32,MATCH(F178,$B$5:$B$32)+1),INDEX($B$5:$B$32,MATCH(F178,$B$5:$B$32)):INDEX($B$5:$B$32,MATCH(F178,$B$5:$B$32)+1),F178))*256/360","v":17.066666666666666},14.933333333333334,2532.4666666666667,2532,null,173,{"$f":"(1/(L178*256))*Setup_Settings!$E$5*60000000","v":1354.7687861271675},{"$f":"(TREND(INDEX($V$5:$V$32,MATCH(F178,$U$5:$U$32)):INDEX($V$5:$V$32,MATCH(F178,$U$5:$U$32)+1),INDEX($U$5:$U$32,MATCH(F178,$U$5:$U$32)):INDEX($U$5:$U$32,MATCH(F178,$U$5:$U$32)+1),F178))*256/360","v":19.2},12.8,2163.4,2163]
[null,null,null,null,174,{"$f":"(1/(E179*256))*Setup_Settings!$E$5*60000000","v":1346.9827586206895},{"$f":"(TREND(INDEX($C$5:$C$32,MATCH(F179,$B$5:$B$32)):INDEX($C$5:$C$32,MATCH(F179,$B$5:$B$32)+1),INDEX($B$5:$B$32,MATCH(F179,$B$5:$B$32)):INDEX($B$5:$B$32,MATCH(F179,$B$5:$B$32)+1),F179))*256/360","v":17.066666666666666},14.933333333333334,2547.4,2547,null,174,{"$f":"(1/(L179*256))*Setup_Settings!$E$5*60000000","v":1346.9827586206895},{"$f":"(TREND(INDEX($V$5:$V$32,MATCH(F179,$U$5:$U$32)):INDEX($V$5:$V$32,MATCH(F179,$U$5:$U$32)+1),INDEX($U$5:$U$32,MATCH(F179,$U$5:$U$32)):INDEX($U$5:$U$32,MATCH(F179,$U$5:$U$32)+1),F179))*256/360","v":19.2},12.8,2176.2000000000003,2176]
[null,null,null,null,175,{"$f":"(1/(E180*256))*Setup_Settings!$E$5*60000000","v":1339.2857142857142},{"$f":"(TREND(INDEX($C$5:$C$32,MATCH(F180,$B$5:$B$32)):INDEX($C$5:$C$32,MATCH(F180,$B$5:$B$32)+1),INDEX($B$5:$B$32,MATCH(F180,$B$5:$B$32)):INDEX($B$5:$B$32,MATCH(F180,$B$5:$B$32)+1),F180))*256/360","v":17.066666666666666},14.933333333333334,2562.3333333333335,2562,null,175,{"$f":"(1/(L180*256))*Setup_Settings!$E$5*60000000","v":1339.2857142857142},{"$f":"(TREND(INDEX($V$5:$V$32,MATCH(F180,$U$5:$U$32)):INDEX($V$5:$V$32,MATCH(F180,$U$5:$U$32)+1),INDEX($U$5:$U$32,MATCH(F180,$U$5:$U$32)):INDEX($U$5:$U$32,MATCH(F180,$U$5:$U$32)+1),F180))*256/360","v":19.2},12.8,2189,2189]
[null,null,null,null,176,{"$f":"(1/(E181*256))*Setup_Settings!$E$5*60000000","v":1331.6761363636365},{"$f":"(TREND(INDEX($C$5:$C$32,MATCH(F181,$B$5:$B$32)):INDEX($C$5:$C$32,MATCH(F181,$B$5:$B$32)+1),INDEX($B$5:$B$32,MATCH(F181,$B$5:$B$32)):INDEX($B$5:$B$32,MATCH(F181,$B$5:$B$32)+1),F181))*256/360","v":17.066666666666666},14.933333333333334,2577.2666666666669,2577,null,176,{"$f":"(1/(L181*256))*Setup_Settings!$E$5*60000000","v":1331.6761363636365},{"$f":"(TREND(INDEX($V$5:$V$32,MATCH(F181,$U$5:$U$32)):INDEX($V$5:$V$32,MATCH(F181,$U$5:$U$32)+1),INDEX($U$5:$U$32,MATCH(F181,$U$5:$U$32)):INDEX($U$5:$U$32,MATCH(F181,$U$5:$U$32)+1),F181))*256/360","v":19.2},12.8,2201.8000000000002,2202]
[null,null,null,null,177,{"$f":"(1/(E182*256))*Setup_Settings!$E$5*60000000","v":1324.1525423728813},{"$f":"(TREND(INDEX($C$5:$C$32,MATCH(F182,$B$5:$B$32)):INDEX($C$5:$C$32,MATCH(F182,$B$5:$B$32)+1),INDEX($B$5:$B$32,MATCH(F182,$B$5:$B$32)):INDEX($B$5:$B$32,MATCH(F182,$B$5:$B$32)+1),F182))*256/360","v":17.066666666666666},14.933333333333334,2592.1999999999998,2592,null,177,{"$f":"(1/(L182*256))*Setup_Settings!$E$5*60000000","v":1324.1525423728813},{"$f":"(TREND(INDEX($V$5:$V$32,MATCH(F182,$U$5:$U$32)):INDEX($V$5:$V$32,MATCH(F182,$U$5:$U$32)+1),INDEX($U$5:$U$32,MATCH(F182,$U$5:$U$32)):INDEX($U$5:$U$32,MATCH(F182,$U$5:$U$32)+1),F182))*256/360","v":19.2},12.8,2214.6,2215]
[null,null,null,null,178,{"$f":"(1/(E183*256))*Setup_Settings!$E$5*60000000","v":1316.7134831460673},{"$f":"(TREND(INDEX($C$5:$C$32,MATCH(F183,$B$5:$B$32)):INDEX($C$5:$C$32,MATCH(F183,$B$5:$B$32)+1),INDEX($B$5:$B$32,MATCH(F183,$B$5:$B$32)):INDEX($B$5:$B$32,MATCH(F183,$B$5:$B$32)+1),F183))*256/360","v":17.066666666666666},14.933333333333334,2607.1333333333332,2607,null,178,{"$f":"(1/(L183*256))*Setup_Settings!$E$5*60000000","v":1316.7134831460673},{"$f":"(TREND(INDEX($V$5:$V$32,MATCH(F183,$U$5:$U$32)):INDEX($V$5:$V$32,MATCH(F183,$U$5:$U$32)+1),INDEX($U$5:$U$32,MATCH(F183,$U$5:$U$32)):INDEX($U$5:$U$32,MATCH(F183,$U$5:$U$32)+1),F183))*256/360","v":19.2},12.8,2227.4,2227]
[null,null,null,null,179,{"$f":"(1/(E184*256))*Setup_Settings!$E$5*60000000","v":1309.3575418994415},{"$f":"(TREND(INDEX($C$5:$C$32,MATCH(F184,$B$5:$B$32)):INDEX($C$5:$C$32,MATCH(F184,$B$5:$B$32)+1),INDEX($B$5:$B$32,MATCH(F184,$B$5:$B$32)):INDEX($B$5:$B$32,MATCH(F184,$B$5:$B$32)+1),F184))*256/360","v":17.066666666666666},14.933333333333334,2622.0666666666666,2622,null,179,{"$f":"(1/(L184*256))*Setup_Settings!$E$5*60000000","v":1309.3575418994415},{"$f":"(TREND(INDEX($V$5:$V$32,MATCH(F184,$U$5:$U$32)):INDEX($V$5:$V$32,MATCH(F184,$U$5:$U$32)+1),INDEX($U$5:$U$32,MATCH(F184,$U$5:$U$32)):INDEX($U$5:$U$32,MATCH(F184,$U$5:$U$32)+1),F184))*256/360","v":19.2},12.8,2240.2000000000003,2240]
[null,null,null,null,180,{"$f":"(1/(E185*256))*Setup_Settings!$E$5*60000000","v":1302.0833333333335},{"$f":"(TREND(INDEX($C$5:$C$32,MATCH(F185,$B$5:$B$32)):INDEX($C$5:$C$32,MATCH(F185,$B$5:$B$32)+1),INDEX($B$5:$B$32,MATCH(F185,$B$5:$B$32)):INDEX($B$5:$B$32,MATCH(F185,$B$5:$B$32)+1),F185))*256/360","v":17.066666666666666},14.933333333333334,2637,2637,null,180,{"$f":"(1/(L185*256))*Setup_Settings!$E$5*60000000","v":1302.0833333333335},{"$f":"(TREND(INDEX($V$5:$V$32,MATCH(F185,$U$5:$U$32)):INDEX($V$5:$V$32,MATCH(F185,$U$5:$U$32)+1),INDEX($U$5:$U$32,MATCH(F185,$U$5:$U$32)):INDEX($U$5:$U$32,MATCH(F185,$U$5:$U$32)+1),F185))*256/360","v":19.2},12.8,2253,2253]
[null,null,null,null,181,{"$f":"(1/(E186*256))*Setup_Settings!$E$5*60000000","v":1294.889502762431},{"$f":"(TREND(INDEX($C$5:$C$32,MATCH(F186,$B$5:$B$32)):INDEX($C$5:$C$32,MATCH(F186,$B$5:$B$32)+1),INDEX($B$5:$B$32,MATCH(F186,$B$5:$B$32)):INDEX($B$5:$B$32,MATCH(F186,$B$5:$B$32)+1),F186))*256/360","v":17.066666666666666},14.933333333333334,2651.9333333333334,2652,null,181,{"$f":"(1/(L186*256))*Setup_Settings!$E$5*60000000","v":1294.889502762431},{"$f":"(TREND(INDEX($V$5:$V$32,MATCH(F186,$U$5:$U$32)):INDEX($V$5:$V$32,MATCH(F186,$U$5:$U$32)+1),INDEX($U$5:$U$32,MATCH(F186,$U$5:$U$32)):INDEX($U$5:$U$32,MATCH(F186,$U$5:$U$32)+1),F186))*256/360","v":19.2},12.8,2265.8000000000002,2266]
[null,null,null,null,182,{"$f":"(1/(E187*256))*Setup_Settings!$E$5*60000000","v":1287.7747252747254},{"$f":"(TREND(INDEX($C$5:$C$32,MATCH(F187,$B$5:$B$32)):INDEX($C$5:$C$32,MATCH(F187,$B$5:$B$32)+1),INDEX($B$5:$B$32,MATCH(F187,$B$5:$B$32)):INDEX($B$5:$B$32,MATCH(F187,$B$5:$B$32)+1),F187))*256/360","v":17.066666666666666},14.933333333333334,2666.8666666666668,2667,null,182,{"$f":"(1/(L187*256))*Setup_Settings!$E$5*60000000","v":1287.7747252747254},{"$f":"(TREND(INDEX($V$5:$V$32,MATCH(F187,$U$5:$U$32)):INDEX($V$5:$V$32,MATCH(F187,$U$5:$U$32)+1),INDEX($U$5:$U$32,MATCH(F187,$U$5:$U$32)):INDEX($U$5:$U$32,MATCH(F187,$U$5:$U$32)+1),F187))*256/360","v":19.2},12.8,2278.6,2279]
[null,null,null,null,183,{"$f":"(1/(E188*256))*Setup_Settings!$E$5*60000000","v":1280.7377049180327},{"$f":"(TREND(INDEX($C$5:$C$32,MATCH(F188,$B$5:$B$32)):INDEX($C$5:$C$32,MATCH(F188,$B$5:$B$32)+1),INDEX($B$5:$B$32,MATCH(F188,$B$5:$B$32)):INDEX($B$5:$B$32,MATCH(F188,$B$5:$B$32)+1),F188))*256/360","v":17.066666666666666},14.933333333333334,2681.8,2682,null,183,{"$f":"(1/(L188*256))*Setup_Settings!$E$5*60000000","v":1280.7377049180327},{"$f":"(TREND(INDEX($V$5:$V$32,MATCH(F188,$U$5:$U$32)):INDEX($V$5:$V$32,MATCH(F188,$U$5:$U$32)+1),INDEX($U$5:$U$32,MATCH(F188,$U$5:$U$32)):INDEX($U$5:$U$32,MATCH(F188,$U$5:$U$32)+1),F188))*256/360","v":19.2},12.8,2291.4,2291]
[null,null,null,null,184,{"$f":"(1/(E189*256))*Setup_Settings!$E$5*60000000","v":1273.7771739130435},{"$f":"(TREND(INDEX($C$5:$C$32,MATCH(F189,$B$5:$B$32)):INDEX($C$5:$C$32,MATCH(F189,$B$5:$B$32)+1),INDEX($B$5:$B$32,MATCH(F189,$B$5:$B$32)):INDEX($B$5:$B$32,MATCH(F189,$B$5:$B$32)+1),F189))*256/360","v":17.066666666666666},14.933333333333334,2696.7333333333336,2697,null,184,{"$f":"(1/(L189*256))*Setup_Settings!$E$5*60000000","v":1273.7771739130435},{"$f":"(TREND(INDEX($V$5:$V$32,MATCH(F189,$U$5:$U$32)):INDEX($V$5:$V$32,MATCH(F189,$U$5:$U$32)+1),INDEX($U$5:$U$32,MATCH(F189,$U$5:$U$32)):INDEX($U$5:$U$32,MATCH(F189,$U$5:$U$32)+1),F189))*256/360","v":19.2},12.8,2304.2000000000003,2304]
[null,null,null,null,185,{"$f":"(1/(E190*256))*Setup_Settings!$E$5*60000000","v":1266.8918918918919},{"$f":"(TREND(INDEX($C$5:$C$32,MATCH(F190,$B$5:$B$32)):INDEX($C$5:$C$32,MATCH(F190,$B$5:$B$32)+1),INDEX($B$5:$B$32,MATCH(F190,$B$5:$B$32)):INDEX($B$5:$B$32,MATCH(F190,$B$5:$B$32)+1),F190))*256/360","v":17.066666666666666},14.933333333333334,2711.6666666666665,2712,null,185,{"$f":"(1/(L190*256))*Setup_Settings!$E$5*60000000","v":1266.8918918918919},{"$f":"(TREND(INDEX($V$5:$V$32,MATCH(F190,$U$5:$U$32)):INDEX($V$5:$V$32,MATCH(F190,$U$5:$U$32)+1),INDEX($U$5:$U$32,MATCH(F190,$U$5:$U$32)):INDEX($U$5:$U$32,MATCH(F190,$U$5:$U$32)+1),F190))*256/360","v":19.2},12.8,2317,2317]
[null,null,null,null,186,{"$f":"(1/(E191*256))*Setup_Settings!$E$5*60000000","v":1260.0806451612905},{"$f":"(TREND(INDEX($C$5:$C$32,MATCH(F191,$B$5:$B$32)):INDEX($C$5:$C$32,MATCH(F191,$B$5:$B$32)+1),INDEX($B$5:$B$32,MATCH(F191,$B$5:$B$32)):INDEX($B$5:$B$32,MATCH(F191,$B$5:$B$32)+1),F191))*256/360","v":17.066666666666666},14.933333333333334,2726.6,2727,null,186,{"$f":"(1/(L191*256))*Setup_Settings!$E$5*60000000","v":1260.0806451612905},{"$f":"(TREND(INDEX($V$5:$V$32,MATCH(F191,$U$5:$U$32)):INDEX($V$5:$V$32,MATCH(F191,$U$5:$U$32)+1),INDEX($U$5:$U$32,MATCH(F191,$U$5:$U$32)):INDEX($U$5:$U$32,MATCH(F191,$U$5:$U$32)+1),F191))*256/360","v":19.2},12.8,2329.8000000000002,2330]
[null,null,null,null,187,{"$f":"(1/(E192*256))*Setup_Settings!$E$5*60000000","v":1253.3422459893047},{"$f":"(TREND(INDEX($C$5:$C$32,MATCH(F192,$B$5:$B$32)):INDEX($C$5:$C$32,MATCH(F192,$B$5:$B$32)+1),INDEX($B$5:$B$32,MATCH(F192,$B$5:$B$32)):INDEX($B$5:$B$32,MATCH(F192,$B$5:$B$32)+1),F192))*256/360","v":17.066666666666666},14.933333333333334,2741.5333333333333,2742,null,187,{"$f":"(1/(L192*256))*Setup_Settings!$E$5*60000000","v":1253.3422459893047},{"$f":"(TREND(INDEX($V$5:$V$32,MATCH(F192,$U$5:$U$32)):INDEX($V$5:$V$32,MATCH(F192,$U$5:$U$32)+1),INDEX($U$5:$U$32,MATCH(F192,$U$5:$U$32)):INDEX($U$5:$U$32,MATCH(F192,$U$5:$U$32)+1),F192))*256/360","v":19.2},12.8,2342.6,2343]
[null,null,null,null,188,{"$f":"(1/(E193*256))*Setup_Settings!$E$5*60000000","v":1246.6755319148936},{"$f":"(TREND(INDEX($C$5:$C$32,MATCH(F193,$B$5:$B$32)):INDEX($C$5:$C$32,MATCH(F193,$B$5:$B$32)+1),INDEX($B$5:$B$32,MATCH(F193,$B$5:$B$32)):INDEX($B$5:$B$32,MATCH(F193,$B$5:$B$32)+1),F193))*256/360","v":17.066666666666666},14.933333333333334,2756.4666666666667,2756,null,188,{"$f":"(1/(L193*256))*Setup_Settings!$E$5*60000000","v":1246.6755319148936},{"$f":"(TREND(INDEX($V$5:$V$32,MATCH(F193,$U$5:$U$32)):INDEX($V$5:$V$32,MATCH(F193,$U$5:$U$32)+1),INDEX($U$5:$U$32,MATCH(F193,$U$5:$U$32)):INDEX($U$5:$U$32,MATCH(F193,$U$5:$U$32)+1),F193))*256/360","v":19.2},12.8,2355.4,2355]
[null,null,null,null,189,{"$f":"(1/(E194*256))*Setup_Settings!$E$5*60000000","v":1240.0793650793651},{"$f":"(TREND(INDEX($C$5:$C$32,MATCH(F194,$B$5:$B$32)):INDEX($C$5:$C$32,MATCH(F194,$B$5:$B$32)+1),INDEX($B$5:$B$32,MATCH(F194,$B$5:$B$32)):INDEX($B$5:$B$32,MATCH(F194,$B$5:$B$32)+1),F194))*256/360","v":17.066666666666666},14.933333333333334,2771.4,2771,null,189,{"$f":"(1/(L194*256))*Setup_Settings!$E$5*60000000","v":1240.0793650793651},{"$f":"(TREND(INDEX($V$5:$V$32,MATCH(F194,$U$5:$U$32)):INDEX($V$5:$V$32,MATCH(F194,$U$5:$U$32)+1),INDEX($U$5:$U$32,MATCH(F194,$U$5:$U$32)):INDEX($U$5:$U$32,MATCH(F194,$U$5:$U$32)+1),F194))*256/360","v":19.2},12.8,2368.2000000000003,2368]
[null,null,null,null,190,{"$f":"(1/(E195*256))*Setup_Settings!$E$5*60000000","v":1233.5526315789473},{"$f":"(TREND(INDEX($C$5:$C$32,MATCH(F195,$B$5:$B$32)):INDEX($C$5:$C$32,MATCH(F195,$B$5:$B$32)+1),INDEX($B$5:$B$32,MATCH(F195,$B$5:$B$32)):INDEX($B$5:$B$32,MATCH(F195,$B$5:$B$32)+1),F195))*256/360","v":17.066666666666666},14.933333333333334,2786.3333333333335,2786,null,190,{"$f":"(1/(L195*256))*Setup_Settings!$E$5*60000000","v":1233.5526315789473},{"$f":"(TREND(INDEX($V$5:$V$32,MATCH(F195,$U$5:$U$32)):INDEX($V$5:$V$32,MATCH(F195,$U$5:$U$32)+1),INDEX($U$5:$U$32,MATCH(F195,$U$5:$U$32)):INDEX($U$5:$U$32,MATCH(F195,$U$5:$U$32)+1),F195))*256/360","v":19.2},12.8,2381,2381]
[null,null,null,null,191,{"$f":"(1/(E196*256))*Setup_Settings!$E$5*60000000","v":1227.0942408376964},{"$f":"(TREND(INDEX($C$5:$C$32,MATCH(F196,$B$5:$B$32)):INDEX($C$5:$C$32,MATCH(F196,$B$5:$B$32)+1),INDEX($B$5:$B$32,MATCH(F196,$B$5:$B$32)):INDEX($B$5:$B$32,MATCH(F196,$B$5:$B$32)+1),F196))*256/360","v":17.066666666666666},14.933333333333334,2801.2666666666669,2801,null,191,{"$f":"(1/(L196*256))*Setup_Settings!$E$5*60000000","v":1227.0942408376964},{"$f":"(TREND(INDEX($V$5:$V$32,MATCH(F196,$U$5:$U$32)):INDEX($V$5:$V$32,MATCH(F196,$U$5:$U$32)+1),INDEX($U$5:$U$32,MATCH(F196,$U$5:$U$32)):INDEX($U$5:$U$32,MATCH(F196,$U$5:$U$32)+1),F196))*256/360","v":19.2},12.8,2393.8000000000002,2394]
[null,null,null,null,192,{"$f":"(1/(E197*256))*Setup_Settings!$E$5*60000000","v":1220.703125},{"$f":"(TREND(INDEX($C$5:$C$32,MATCH(F197,$B$5:$B$32)):INDEX($C$5:$C$32,MATCH(F197,$B$5:$B$32)+1),INDEX($B$5:$B$32,MATCH(F197,$B$5:$B$32)):INDEX($B$5:$B$32,MATCH(F197,$B$5:$B$32)+1),F197))*256/360","v":17.066666666666666},14.933333333333334,2816.2,2816,null,192,{"$f":"(1/(L197*256))*Setup_Settings!$E$5*60000000","v":1220.703125},{"$f":"(TREND(INDEX($V$5:$V$32,MATCH(F197,$U$5:$U$32)):INDEX($V$5:$V$32,MATCH(F197,$U$5:$U$32)+1),INDEX($U$5:$U$32,MATCH(F197,$U$5:$U$32)):INDEX($U$5:$U$32,MATCH(F197,$U$5:$U$32)+1),F197))*256/360","v":19.2},12.8,2406.6000000000004,2407]
[null,null,null,null,193,{"$f":"(1/(E198*256))*Setup_Settings!$E$5*60000000","v":1214.3782383419689},{"$f":"(TREND(INDEX($C$5:$C$32,MATCH(F198,$B$5:$B$32)):INDEX($C$5:$C$32,MATCH(F198,$B$5:$B$32)+1),INDEX($B$5:$B$32,MATCH(F198,$B$5:$B$32)):INDEX($B$5:$B$32,MATCH(F198,$B$5:$B$32)+1),F198))*256/360","v":17.066666666666666},14.933333333333334,2831.1333333333332,2831,null,193,{"$f":"(1/(L198*256))*Setup_Settings!$E$5*60000000","v":1214.3782383419689},{"$f":"(TREND(INDEX($V$5:$V$32,MATCH(F198,$U$5:$U$32)):INDEX($V$5:$V$32,MATCH(F198,$U$5:$U$32)+1),INDEX($U$5:$U$32,MATCH(F198,$U$5:$U$32)):INDEX($U$5:$U$32,MATCH(F198,$U$5:$U$32)+1),F198))*256/360","v":19.2},12.8,2419.4,2419]
[null,null,null,null,194,{"$f":"(1/(E199*256))*Setup_Settings!$E$5*60000000","v":1208.1185567010309},{"$f":"(TREND(INDEX($C$5:$C$32,MATCH(F199,$B$5:$B$32)):INDEX($C$5:$C$32,MATCH(F199,$B$5:$B$32)+1),INDEX($B$5:$B$32,MATCH(F199,$B$5:$B$32)):INDEX($B$5:$B$32,MATCH(F199,$B$5:$B$32)+1),F199))*256/360","v":17.066666666666666},14.933333333333334,2846.0666666666666,2846,null,194,{"$f":"(1/(L199*256))*Setup_Settings!$E$5*60000000","v":1208.1185567010309},{"$f":"(TREND(INDEX($V$5:$V$32,MATCH(F199,$U$5:$U$32)):INDEX($V$5:$V$32,MATCH(F199,$U$5:$U$32)+1),INDEX($U$5:$U$32,MATCH(F199,$U$5:$U$32)):INDEX($U$5:$U$32,MATCH(F199,$U$5:$U$32)+1),F199))*256/360","v":19.2},12.8,2432.2000000000003,2432]
[null,null,null,null,195,{"$f":"(1/(E200*256))*Setup_Settings!$E$5*60000000","v":1201.9230769230769},{"$f":"(TREND(INDEX($C$5:$C$32,MATCH(F200,$B$5:$B$32)):INDEX($C$5:$C$32,MATCH(F200,$B$5:$B$32)+1),INDEX($B$5:$B$32,MATCH(F200,$B$5:$B$32)):INDEX($B$5:$B$32,MATCH(F200,$B$5:$B$32)+1),F200))*256/360","v":17.066666666666666},14.933333333333334,2861,2861,null,195,{"$f":"(1/(L200*256))*Setup_Settings!$E$5*60000000","v":1201.9230769230769},{"$f":"(TREND(INDEX($V$5:$V$32,MATCH(F200,$U$5:$U$32)):INDEX($V$5:$V$32,MATCH(F200,$U$5:$U$32)+1),INDEX($U$5:$U$32,MATCH(F200,$U$5:$U$32)):INDEX($U$5:$U$32,MATCH(F200,$U$5:$U$32)+1),F200))*256/360","v":19.2},12.8,2445,2445]
[null,null,null,null,196,{"$f":"(1/(E201*256))*Setup_Settings!$E$5*60000000","v":1195.7908163265306},{"$f":"(TREND(INDEX($C$5:$C$32,MATCH(F201,$B$5:$B$32)):INDEX($C$5:$C$32,MATCH(F201,$B$5:$B$32)+1),INDEX($B$5:$B$32,MATCH(F201,$B$5:$B$32)):INDEX($B$5:$B$32,MATCH(F201,$B$5:$B$32)+1),F201))*256/360","v":17.066666666666666},14.933333333333334,2875.9333333333334,2876,null,196,{"$f":"(1/(L201*256))*Setup_Settings!$E$5*60000000","v":1195.7908163265306},{"$f":"(TREND(INDEX($V$5:$V$32,MATCH(F201,$U$5:$U$32)):INDEX($V$5:$V$32,MATCH(F201,$U$5:$U$32)+1),INDEX($U$5:$U$32,MATCH(F201,$U$5:$U$32)):INDEX($U$5:$U$32,MATCH(F201,$U$5:$U$32)+1),F201))*256/360","v":19.2},12.8,2457.8000000000002,2458]
[null,null,null,null,197,{"$f":"(1/(E202*256))*Setup_Settings!$E$5*60000000","v":1189.7208121827409},{"$f":"(TREND(INDEX($C$5:$C$32,MATCH(F202,$B$5:$B$32)):INDEX($C$5:$C$32,MATCH(F202,$B$5:$B$32)+1),INDEX($B$5:$B$32,MATCH(F202,$B$5:$B$32)):INDEX($B$5:$B$32,MATCH(F202,$B$5:$B$32)+1),F202))*256/360","v":17.066666666666666},14.933333333333334,2890.8666666666668,2891,null,197,{"$f":"(1/(L202*256))*Setup_Settings!$E$5*60000000","v":1189.7208121827409},{"$f":"(TREND(INDEX($V$5:$V$32,MATCH(F202,$U$5:$U$32)):INDEX($V$5:$V$32,MATCH(F202,$U$5:$U$32)+1),INDEX($U$5:$U$32,MATCH(F202,$U$5:$U$32)):INDEX($U$5:$U$32,MATCH(F202,$U$5:$U$32)+1),F202))*256/360","v":19.2},12.8,2470.6000000000004,2471]
[null,null,null,null,198,{"$f":"(1/(E203*256))*Setup_Settings!$E$5*60000000","v":1183.7121212121212},{"$f":"(TREND(INDEX($C$5:$C$32,MATCH(F203,$B$5:$B$32)):INDEX($C$5:$C$32,MATCH(F203,$B$5:$B$32)+1),INDEX($B$5:$B$32,MATCH(F203,$B$5:$B$32)):INDEX($B$5:$B$32,MATCH(F203,$B$5:$B$32)+1),F203))*256/360","v":17.066666666666666},14.933333333333334,2905.8,2906,null,198,{"$f":"(1/(L203*256))*Setup_Settings!$E$5*60000000","v":1183.7121212121212},{"$f":"(TREND(INDEX($V$5:$V$32,MATCH(F203,$U$5:$U$32)):INDEX($V$5:$V$32,MATCH(F203,$U$5:$U$32)+1),INDEX($U$5:$U$32,MATCH(F203,$U$5:$U$32)):INDEX($U$5:$U$32,MATCH(F203,$U$5:$U$32)+1),F203))*256/360","v":19.2},12.8,2483.4,2483]
[null,null,null,null,199,{"$f":"(1/(E204*256))*Setup_Settings!$E$5*60000000","v":1177.7638190954774},{"$f":"(TREND(INDEX($C$5:$C$32,MATCH(F204,$B$5:$B$32)):INDEX($C$5:$C$32,MATCH(F204,$B$5:$B$32)+1),INDEX($B$5:$B$32,MATCH(F204,$B$5:$B$32)):INDEX($B$5:$B$32,MATCH(F204,$B$5:$B$32)+1),F204))*256/360","v":17.066666666666666},14.933333333333334,2920.7333333333336,2921,null,199,{"$f":"(1/(L204*256))*Setup_Settings!$E$5*60000000","v":1177.7638190954774},{"$f":"(TREND(INDEX($V$5:$V$32,MATCH(F204,$U$5:$U$32)):INDEX($V$5:$V$32,MATCH(F204,$U$5:$U$32)+1),INDEX($U$5:$U$32,MATCH(F204,$U$5:$U$32)):INDEX($U$5:$U$32,MATCH(F204,$U$5:$U$32)+1),F204))*256/360","v":19.2},12.8,2496.2000000000003,2496]
[null,null,null,null,200,{"$f":"(1/(E205*256))*Setup_Settings!$E$5*60000000","v":1171.875},{"$f":"(TREND(INDEX($C$5:$C$32,MATCH(F205,$B$5:$B$32)):INDEX($C$5:$C$32,MATCH(F205,$B$5:$B$32)+1),INDEX($B$5:$B$32,MATCH(F205,$B$5:$B$32)):INDEX($B$5:$B$32,MATCH(F205,$B$5:$B$32)+1),F205))*256/360","v":17.066666666666666},14.933333333333334,2935.6666666666665,2936,null,200,{"$f":"(1/(L205*256))*Setup_Settings!$E$5*60000000","v":1171.875},{"$f":"(TREND(INDEX($V$5:$V$32,MATCH(F205,$U$5:$U$32)):INDEX($V$5:$V$32,MATCH(F205,$U$5:$U$32)+1),INDEX($U$5:$U$32,MATCH(F205,$U$5:$U$32)):INDEX($U$5:$U$32,MATCH(F205,$U$5:$U$32)+1),F205))*256/360","v":19.2},12.8,2509,2509]
[null,null,null,null,201,{"$f":"(1/(E206*256))*Setup_Settings!$E$5*60000000","v":1166.044776119403},{"$f":"(TREND(INDEX($C$5:$C$32,MATCH(F206,$B$5:$B$32)):INDEX($C$5:$C$32,MATCH(F206,$B$5:$B$32)+1),INDEX($B$5:$B$32,MATCH(F206,$B$5:$B$32)):INDEX($B$5:$B$32,MATCH(F206,$B$5:$B$32)+1),F206))*256/360","v":17.066666666666666},14.933333333333334,2950.6,2951,null,201,{"$f":"(1/(L206*256))*Setup_Settings!$E$5*60000000","v":1166.044776119403},{"$f":"(TREND(INDEX($V$5:$V$32,MATCH(F206,$U$5:$U$32)):INDEX($V$5:$V$32,MATCH(F206,$U$5:$U$32)+1),INDEX($U$5:$U$32,MATCH(F206,$U$5:$U$32)):INDEX($U$5:$U$32,MATCH(F206,$U$5:$U$32)+1),F206))*256/360","v":19.2},12.8,2521.8000000000002,2522]
[null,null,null,null,202,{"$f":"(1/(E207*256))*Setup_Settings!$E$5*60000000","v":1160.2722772277227},{"$f":"(TREND(INDEX($C$5:$C$32,MATCH(F207,$B$5:$B$32)):INDEX($C$5:$C$32,MATCH(F207,$B$5:$B$32)+1),INDEX($B$5:$B$32,MATCH(F207,$B$5:$B$32)):INDEX($B$5:$B$32,MATCH(F207,$B$5:$B$32)+1),F207))*256/360","v":17.066666666666666},14.933333333333334,2965.5333333333333,2966,null,202,{"$f":"(1/(L207*256))*Setup_Settings!$E$5*60000000","v":1160.2722772277227},{"$f":"(TREND(INDEX($V$5:$V$32,MATCH(F207,$U$5:$U$32)):INDEX($V$5:$V$32,MATCH(F207,$U$5:$U$32)+1),INDEX($U$5:$U$32,MATCH(F207,$U$5:$U$32)):INDEX($U$5:$U$32,MATCH(F207,$U$5:$U$32)+1),F207))*256/360","v":19.2},12.8,2534.6000000000004,2535]
[null,null,null,null,203,{"$f":"(1/(E208*256))*Setup_Settings!$E$5*60000000","v":1154.5566502463055},{"$f":"(TREND(INDEX($C$5:$C$32,MATCH(F208,$B$5:$B$32)):INDEX($C$5:$C$32,MATCH(F208,$B$5:$B$32)+1),INDEX($B$5:$B$32,MATCH(F208,$B$5:$B$32)):INDEX($B$5:$B$32,MATCH(F208,$B$5:$B$32)+1),F208))*256/360","v":17.066666666666666},14.933333333333334,2980.4666666666667,2980,null,203,{"$f":"(1/(L208*256))*Setup_Settings!$E$5*60000000","v":1154.5566502463055},{"$f":"(TREND(INDEX($V$5:$V$32,MATCH(F208,$U$5:$U$32)):INDEX($V$5:$V$32,MATCH(F208,$U$5:$U$32)+1),INDEX($U$5:$U$32,MATCH(F208,$U$5:$U$32)):INDEX($U$5:$U$32,MATCH(F208,$U$5:$U$32)+1),F208))*256/360","v":19.2},12.8,2547.4,2547]
[null,null,null,null,204,{"$f":"(1/(E209*256))*Setup_Settings!$E$5*60000000","v":1148.8970588235295},{"$f":"(TREND(INDEX($C$5:$C$32,MATCH(F209,$B$5:$B$32)):INDEX($C$5:$C$32,MATCH(F209,$B$5:$B$32)+1),INDEX($B$5:$B$32,MATCH(F209,$B$5:$B$32)):INDEX($B$5:$B$32,MATCH(F209,$B$5:$B$32)+1),F209))*256/360","v":17.066666666666666},14.933333333333334,2995.4,2995,null,204,{"$f":"(1/(L209*256))*Setup_Settings!$E$5*60000000","v":1148.8970588235295},{"$f":"(TREND(INDEX($V$5:$V$32,MATCH(F209,$U$5:$U$32)):INDEX($V$5:$V$32,MATCH(F209,$U$5:$U$32)+1),INDEX($U$5:$U$32,MATCH(F209,$U$5:$U$32)):INDEX($U$5:$U$32,MATCH(F209,$U$5:$U$32)+1),F209))*256/360","v":19.2},12.8,2560.2000000000003,2560]
[null,null,null,null,205,{"$f":"(1/(E210*256))*Setup_Settings!$E$5*60000000","v":1143.2926829268292},{"$f":"(TREND(INDEX($C$5:$C$32,MATCH(F210,$B$5:$B$32)):INDEX($C$5:$C$32,MATCH(F210,$B$5:$B$32)+1),INDEX($B$5:$B$32,MATCH(F210,$B$5:$B$32)):INDEX($B$5:$B$32,MATCH(F210,$B$5:$B$32)+1),F210))*256/360","v":17.066666666666666},14.933333333333334,3010.3333333333335,3010,null,205,{"$f":"(1/(L210*256))*Setup_Settings!$E$5*60000000","v":1143.2926829268292},{"$f":"(TREND(INDEX($V$5:$V$32,MATCH(F210,$U$5:$U$32)):INDEX($V$5:$V$32,MATCH(F210,$U$5:$U$32)+1),INDEX($U$5:$U$32,MATCH(F210,$U$5:$U$32)):INDEX($U$5:$U$32,MATCH(F210,$U$5:$U$32)+1),F210))*256/360","v":19.2},12.8,2573,2573]
[null,null,null,null,206,{"$f":"(1/(E211*256))*Setup_Settings!$E$5*60000000","v":1137.7427184466019},{"$f":"(TREND(INDEX($C$5:$C$32,MATCH(F211,$B$5:$B$32)):INDEX($C$5:$C$32,MATCH(F211,$B$5:$B$32)+1),INDEX($B$5:$B$32,MATCH(F211,$B$5:$B$32)):INDEX($B$5:$B$32,MATCH(F211,$B$5:$B$32)+1),F211))*256/360","v":17.066666666666666},14.933333333333334,3025.2666666666669,3025,null,206,{"$f":"(1/(L211*256))*Setup_Settings!$E$5*60000000","v":1137.7427184466019},{"$f":"(TREND(INDEX($V$5:$V$32,MATCH(F211,$U$5:$U$32)):INDEX($V$5:$V$32,MATCH(F211,$U$5:$U$32)+1),INDEX($U$5:$U$32,MATCH(F211,$U$5:$U$32)):INDEX($U$5:$U$32,MATCH(F211,$U$5:$U$32)+1),F211))*256/360","v":19.2},12.8,2585.8000000000002,2586]
[null,null,null,null,207,{"$f":"(1/(E212*256))*Setup_Settings!$E$5*60000000","v":1132.2463768115942},{"$f":"(TREND(INDEX($C$5:$C$32,MATCH(F212,$B$5:$B$32)):INDEX($C$5:$C$32,MATCH(F212,$B$5:$B$32)+1),INDEX($B$5:$B$32,MATCH(F212,$B$5:$B$32)):INDEX($B$5:$B$32,MATCH(F212,$B$5:$B$32)+1),F212))*256/360","v":17.066666666666666},14.933333333333334,3040.2000000000003,3040,null,207,{"$f":"(1/(L212*256))*Setup_Settings!$E$5*60000000","v":1132.2463768115942},{"$f":"(TREND(INDEX($V$5:$V$32,MATCH(F212,$U$5:$U$32)):INDEX($V$5:$V$32,MATCH(F212,$U$5:$U$32)+1),INDEX($U$5:$U$32,MATCH(F212,$U$5:$U$32)):INDEX($U$5:$U$32,MATCH(F212,$U$5:$U$32)+1),F212))*256/360","v":19.2},12.8,2598.6000000000004,2599]
[null,null,null,null,208,{"$f":"(1/(E213*256))*Setup_Settings!$E$5*60000000","v":1126.8028846153848},{"$f":"(TREND(INDEX($C$5:$C$32,MATCH(F213,$B$5:$B$32)):INDEX($C$5:$C$32,MATCH(F213,$B$5:$B$32)+1),INDEX($B$5:$B$32,MATCH(F213,$B$5:$B$32)):INDEX($B$5:$B$32,MATCH(F213,$B$5:$B$32)+1),F213))*256/360","v":17.066666666666666},14.933333333333334,{"$f":"(E213*H213)-$F$2","v":3055.1333333333332},3055,null,208,{"$f":"(1/(L213*256))*Setup_Settings!$E$5*60000000","v":1126.8028846153848},{"$f":"(TREND(INDEX($V$5:$V$32,MATCH(F213,$U$5:$U$32)):INDEX($V$5:$V$32,MATCH(F213,$U$5:$U$32)+1),INDEX($U$5:$U$32,MATCH(F213,$U$5:$U$32)):INDEX($U$5:$U$32,MATCH(F213,$U$5:$U$32)+1),F213))*256/360","v":19.2},{"$f":"$L$3-N213","v":12.8},2611.4,2611]
[null,null,null,null,209,{"$f":"(1/(E214*256))*Setup_Settings!$E$5*60000000","v":1121.4114832535886},{"$f":"(TREND(INDEX($C$5:$C$32,MATCH(F214,$B$5:$B$32)):INDEX($C$5:$C$32,MATCH(F214,$B$5:$B$32)+1),INDEX($B$5:$B$32,MATCH(F214,$B$5:$B$32)):INDEX($B$5:$B$32,MATCH(F214,$B$5:$B$32)+1),F214))*256/360","v":17.066666666666666},{"$f":"$E$3-G214","v":14.933333333333334},3070.0666666666666,{"$f":"IF((ROUND(E214*H214,0)-$F$2)>0,(ROUND(E214*H214,0)-$F$2),1)","v":3070},null,209,{"$f":"(1/(L214*256))*Setup_Settings!$E$5*60000000","v":1121.4114832535886},{"$f":"(TREND(INDEX($V$5:$V$32,MATCH(F214,$U$5:$U$32)):INDEX($V$5:$V$32,MATCH(F214,$U$5:$U$32)+1),INDEX($U$5:$U$32,MATCH(F214,$U$5:$U$32)):INDEX($U$5:$U$32,MATCH(F214,$U$5:$U$32)+1),F214))*256/360","v":19.2},12.8,2624.2000000000003,{"$f":"IF((ROUND(L214*O214,0)-$F$2)>1,(ROUND(L214*O214,0)-$M$2),1)","v":2624}]
[null,null,null,null,210,{"$f":"(1/(E215*256))*Setup_Settings!$E$5*60000000","v":1116.0714285714287},{"$f":"(TREND(INDEX($C$5:$C$32,MATCH(F215,$B$5:$B$32)):INDEX($C$5:$C$32,MATCH(F215,$B$5:$B$32)+1),INDEX($B$5:$B$32,MATCH(F215,$B$5:$B$32)):INDEX($B$5:$B$32,MATCH(F215,$B$5:$B$32)+1),F215))*256/360","v":17.066666666666666},14.933333333333334,3085,3085,null,210,{"$f":"(1/(L215*256))*Setup_Settings!$E$5*60000000","v":1116.0714285714287},{"$f":"(TREND(INDEX($V$5:$V$32,MATCH(F215,$U$5:$U$32)):INDEX($V$5:$V$32,MATCH(F215,$U$5:$U$32)+1),INDEX($U$5:$U$32,MATCH(F215,$U$5:$U$32)):INDEX($U$5:$U$32,MATCH(F215,$U$5:$U$32)+1),F215))*256/360","v":19.2},12.8,2637,2637]
[null,null,null,null,211,{"$f":"(1/(E216*256))*Setup_Settings!$E$5*60000000","v":1110.7819905213271},{"$f":"(TREND(INDEX($C$5:$C$32,MATCH(F216,$B$5:$B$32)):INDEX($C$5:$C$32,MATCH(F216,$B$5:$B$32)+1),INDEX($B$5:$B$32,MATCH(F216,$B$5:$B$32)):INDEX($B$5:$B$32,MATCH(F216,$B$5:$B$32)+1),F216))*256/360","v":17.066666666666666},14.933333333333334,3099.9333333333334,3100,null,211,{"$f":"(1/(L216*256))*Setup_Settings!$E$5*60000000","v":1110.7819905213271},{"$f":"(TREND(INDEX($V$5:$V$32,MATCH(F216,$U$5:$U$32)):INDEX($V$5:$V$32,MATCH(F216,$U$5:$U$32)+1),INDEX($U$5:$U$32,MATCH(F216,$U$5:$U$32)):INDEX($U$5:$U$32,MATCH(F216,$U$5:$U$32)+1),F216))*256/360","v":19.2},12.8,2649.8,2650]
[null,null,null,null,212,{"$f":"(1/(E217*256))*Setup_Settings!$E$5*60000000","v":1105.5424528301887},{"$f":"(TREND(INDEX($C$5:$C$32,MATCH(F217,$B$5:$B$32)):INDEX($C$5:$C$32,MATCH(F217,$B$5:$B$32)+1),INDEX($B$5:$B$32,MATCH(F217,$B$5:$B$32)):INDEX($B$5:$B$32,MATCH(F217,$B$5:$B$32)+1),F217))*256/360","v":17.066666666666666},14.933333333333334,3114.8666666666668,3115,null,212,{"$f":"(1/(L217*256))*Setup_Settings!$E$5*60000000","v":1105.5424528301887},{"$f":"(TREND(INDEX($V$5:$V$32,MATCH(F217,$U$5:$U$32)):INDEX($V$5:$V$32,MATCH(F217,$U$5:$U$32)+1),INDEX($U$5:$U$32,MATCH(F217,$U$5:$U$32)):INDEX($U$5:$U$32,MATCH(F217,$U$5:$U$32)+1),F217))*256/360","v":19.2},12.8,2662.6000000000004,2663]
[null,null,null,null,213,{"$f":"(1/(E218*256))*Setup_Settings!$E$5*60000000","v":1100.3521126760563},{"$f":"(TREND(INDEX($C$5:$C$32,MATCH(F218,$B$5:$B$32)):INDEX($C$5:$C$32,MATCH(F218,$B$5:$B$32)+1),INDEX($B$5:$B$32,MATCH(F218,$B$5:$B$32)):INDEX($B$5:$B$32,MATCH(F218,$B$5:$B$32)+1),F218))*256/360","v":17.066666666666666},14.933333333333334,3129.8,3130,null,213,{"$f":"(1/(L218*256))*Setup_Settings!$E$5*60000000","v":1100.3521126760563},{"$f":"(TREND(INDEX($V$5:$V$32,MATCH(F218,$U$5:$U$32)):INDEX($V$5:$V$32,MATCH(F218,$U$5:$U$32)+1),INDEX($U$5:$U$32,MATCH(F218,$U$5:$U$32)):INDEX($U$5:$U$32,MATCH(F218,$U$5:$U$32)+1),F218))*256/360","v":19.2},12.8,2675.4,2675]
[null,null,null,null,214,{"$f":"(1/(E219*256))*Setup_Settings!$E$5*60000000","v":1095.2102803738317},{"$f":"(TREND(INDEX($C$5:$C$32,MATCH(F219,$B$5:$B$32)):INDEX($C$5:$C$32,MATCH(F219,$B$5:$B$32)+1),INDEX($B$5:$B$32,MATCH(F219,$B$5:$B$32)):INDEX($B$5:$B$32,MATCH(F219,$B$5:$B$32)+1),F219))*256/360","v":17.066666666666666},14.933333333333334,3144.7333333333336,3145,null,214,{"$f":"(1/(L219*256))*Setup_Settings!$E$5*60000000","v":1095.2102803738317},{"$f":"(TREND(INDEX($V$5:$V$32,MATCH(F219,$U$5:$U$32)):INDEX($V$5:$V$32,MATCH(F219,$U$5:$U$32)+1),INDEX($U$5:$U$32,MATCH(F219,$U$5:$U$32)):INDEX($U$5:$U$32,MATCH(F219,$U$5:$U$32)+1),F219))*256/360","v":19.2},12.8,{"$f":"(L219*O219)-$F$2","v":2688.2000000000003},2688]
[null,null,null,null,215,{"$f":"(1/(E220*256))*Setup_Settings!$E$5*60000000","v":1090.1162790697674},{"$f":"(TREND(INDEX($C$5:$C$32,MATCH(F220,$B$5:$B$32)):INDEX($C$5:$C$32,MATCH(F220,$B$5:$B$32)+1),INDEX($B$5:$B$32,MATCH(F220,$B$5:$B$32)):INDEX($B$5:$B$32,MATCH(F220,$B$5:$B$32)+1),F220))*256/360","v":17.066666666666666},14.933333333333334,3159.6666666666665,3160,null,215,{"$f":"(1/(L220*256))*Setup_Settings!$E$5*60000000","v":1090.1162790697674},{"$f":"(TREND(INDEX($V$5:$V$32,MATCH(F220,$U$5:$U$32)):INDEX($V$5:$V$32,MATCH(F220,$U$5:$U$32)+1),INDEX($U$5:$U$32,MATCH(F220,$U$5:$U$32)):INDEX($U$5:$U$32,MATCH(F220,$U$5:$U$32)+1),F220))*256/360","v":19.2},12.8,2701,2701]
[null,null,null,null,216,{"$f":"(1/(E221*256))*Setup_Settings!$E$5*60000000","v":1085.0694444444443},{"$f":"(TREND(INDEX($C$5:$C$32,MATCH(F221,$B$5:$B$32)):INDEX($C$5:$C$32,MATCH(F221,$B$5:$B$32)+1),INDEX($B$5:$B$32,MATCH(F221,$B$5:$B$32)):INDEX($B$5:$B$32,MATCH(F221,$B$5:$B$32)+1),F221))*256/360","v":17.066666666666666},14.933333333333334,3174.6,3175,null,216,{"$f":"(1/(L221*256))*Setup_Settings!$E$5*60000000","v":1085.0694444444443},{"$f":"(TREND(INDEX($V$5:$V$32,MATCH(F221,$U$5:$U$32)):INDEX($V$5:$V$32,MATCH(F221,$U$5:$U$32)+1),INDEX($U$5:$U$32,MATCH(F221,$U$5:$U$32)):INDEX($U$5:$U$32,MATCH(F221,$U$5:$U$32)+1),F221))*256/360","v":19.2},12.8,2713.8,2714]
[null,null,null,null,217,{"$f":"(1/(E222*256))*Setup_Settings!$E$5*60000000","v":1080.0691244239631},{"$f":"(TREND(INDEX($C$5:$C$32,MATCH(F222,$B$5:$B$32)):INDEX($C$5:$C$32,MATCH(F222,$B$5:$B$32)+1),INDEX($B$5:$B$32,MATCH(F222,$B$5:$B$32)):INDEX($B$5:$B$32,MATCH(F222,$B$5:$B$32)+1),F222))*256/360","v":17.066666666666666},14.933333333333334,3189.5333333333333,3190,null,217,{"$f":"(1/(L222*256))*Setup_Settings!$E$5*60000000","v":1080.0691244239631},{"$f":"(TREND(INDEX($V$5:$V$32,MATCH(F222,$U$5:$U$32)):INDEX($V$5:$V$32,MATCH(F222,$U$5:$U$32)+1),INDEX($U$5:$U$32,MATCH(F222,$U$5:$U$32)):INDEX($U$5:$U$32,MATCH(F222,$U$5:$U$32)+1),F222))*256/360","v":19.2},12.8,2726.6000000000004,2727]
[null,null,null,null,218,{"$f":"(1/(E223*256))*Setup_Settings!$E$5*60000000","v":1075.1146788990827},{"$f":"(TREND(INDEX($C$5:$C$32,MATCH(F223,$B$5:$B$32)):INDEX($C$5:$C$32,MATCH(F223,$B$5:$B$32)+1),INDEX($B$5:$B$32,MATCH(F223,$B$5:$B$32)):INDEX($B$5:$B$32,MATCH(F223,$B$5:$B$32)+1),F223))*256/360","v":17.066666666666666},14.933333333333334,3204.4666666666667,3204,null,218,{"$f":"(1/(L223*256))*Setup_Settings!$E$5*60000000","v":1075.1146788990827},{"$f":"(TREND(INDEX($V$5:$V$32,MATCH(F223,$U$5:$U$32)):INDEX($V$5:$V$32,MATCH(F223,$U$5:$U$32)+1),INDEX($U$5:$U$32,MATCH(F223,$U$5:$U$32)):INDEX($U$5:$U$32,MATCH(F223,$U$5:$U$32)+1),F223))*256/360","v":19.2},12.8,2739.4,2739]
[null,null,null,null,219,{"$f":"(1/(E224*256))*Setup_Settings!$E$5*60000000","v":1070.2054794520548},{"$f":"(TREND(INDEX($C$5:$C$32,MATCH(F224,$B$5:$B$32)):INDEX($C$5:$C$32,MATCH(F224,$B$5:$B$32)+1),INDEX($B$5:$B$32,MATCH(F224,$B$5:$B$32)):INDEX($B$5:$B$32,MATCH(F224,$B$5:$B$32)+1),F224))*256/360","v":17.066666666666666},14.933333333333334,3219.4,3219,null,219,{"$f":"(1/(L224*256))*Setup_Settings!$E$5*60000000","v":1070.2054794520548},{"$f":"(TREND(INDEX($V$5:$V$32,MATCH(F224,$U$5:$U$32)):INDEX($V$5:$V$32,MATCH(F224,$U$5:$U$32)+1),INDEX($U$5:$U$32,MATCH(F224,$U$5:$U$32)):INDEX($U$5:$U$32,MATCH(F224,$U$5:$U$32)+1),F224))*256/360","v":19.2},12.8,2752.2000000000003,2752]
[null,null,null,null,220,{"$f":"(1/(E225*256))*Setup_Settings!$E$5*60000000","v":1065.340909090909},{"$f":"(TREND(INDEX($C$5:$C$32,MATCH(F225,$B$5:$B$32)):INDEX($C$5:$C$32,MATCH(F225,$B$5:$B$32)+1),INDEX($B$5:$B$32,MATCH(F225,$B$5:$B$32)):INDEX($B$5:$B$32,MATCH(F225,$B$5:$B$32)+1),F225))*256/360","v":17.066666666666666},14.933333333333334,3234.3333333333335,3234,null,220,{"$f":"(1/(L225*256))*Setup_Settings!$E$5*60000000","v":1065.340909090909},{"$f":"(TREND(INDEX($V$5:$V$32,MATCH(F225,$U$5:$U$32)):INDEX($V$5:$V$32,MATCH(F225,$U$5:$U$32)+1),INDEX($U$5:$U$32,MATCH(F225,$U$5:$U$32)):INDEX($U$5:$U$32,MATCH(F225,$U$5:$U$32)+1),F225))*256/360","v":19.2},12.8,2765,2765]
[null,null,null,null,221,{"$f":"(1/(E226*256))*Setup_Settings!$E$5*60000000","v":1060.5203619909503},{"$f":"(TREND(INDEX($C$5:$C$32,MATCH(F226,$B$5:$B$32)):INDEX($C$5:$C$32,MATCH(F226,$B$5:$B$32)+1),INDEX($B$5:$B$32,MATCH(F226,$B$5:$B$32)):INDEX($B$5:$B$32,MATCH(F226,$B$5:$B$32)+1),F226))*256/360","v":17.066666666666666},14.933333333333334,3249.2666666666669,3249,null,221,{"$f":"(1/(L226*256))*Setup_Settings!$E$5*60000000","v":1060.5203619909503},{"$f":"(TREND(INDEX($V$5:$V$32,MATCH(F226,$U$5:$U$32)):INDEX($V$5:$V$32,MATCH(F226,$U$5:$U$32)+1),INDEX($U$5:$U$32,MATCH(F226,$U$5:$U$32)):INDEX($U$5:$U$32,MATCH(F226,$U$5:$U$32)+1),F226))*256/360","v":19.2},12.8,2777.8,2778]
[null,null,null,null,222,{"$f":"(1/(E227*256))*Setup_Settings!$E$5*60000000","v":1055.7432432432433},{"$f":"(TREND(INDEX($C$5:$C$32,MATCH(F227,$B$5:$B$32)):INDEX($C$5:$C$32,MATCH(F227,$B$5:$B$32)+1),INDEX($B$5:$B$32,MATCH(F227,$B$5:$B$32)):INDEX($B$5:$B$32,MATCH(F227,$B$5:$B$32)+1),F227))*256/360","v":17.066666666666666},14.933333333333334,3264.2000000000003,3264,null,222,{"$f":"(1/(L227*256))*Setup_Settings!$E$5*60000000","v":1055.7432432432433},{"$f":"(TREND(INDEX($V$5:$V$32,MATCH(F227,$U$5:$U$32)):INDEX($V$5:$V$32,MATCH(F227,$U$5:$U$32)+1),INDEX($U$5:$U$32,MATCH(F227,$U$5:$U$32)):INDEX($U$5:$U$32,MATCH(F227,$U$5:$U$32)+1),F227))*256/360","v":19.2},12.8,2790.6000000000004,2791]
[null,null,null,null,223,{"$f":"(1/(E228*256))*Setup_Settings!$E$5*60000000","v":1051.0089686098654},{"$f":"(TREND(INDEX($C$5:$C$32,MATCH(F228,$B$5:$B$32)):INDEX($C$5:$C$32,MATCH(F228,$B$5:$B$32)+1),INDEX($B$5:$B$32,MATCH(F228,$B$5:$B$32)):INDEX($B$5:$B$32,MATCH(F228,$B$5:$B$32)+1),F228))*256/360","v":17.066666666666666},14.933333333333334,3279.1333333333332,3279,null,223,{"$f":"(1/(L228*256))*Setup_Settings!$E$5*60000000","v":1051.0089686098654},{"$f":"(TREND(INDEX($V$5:$V$32,MATCH(F228,$U$5:$U$32)):INDEX($V$5:$V$32,MATCH(F228,$U$5:$U$32)+1),INDEX($U$5:$U$32,MATCH(F228,$U$5:$U$32)):INDEX($U$5:$U$32,MATCH(F228,$U$5:$U$32)+1),F228))*256/360","v":19.2},12.8,2803.4,2803]
[null,null,null,null,224,{"$f":"(1/(E229*256))*Setup_Settings!$E$5*60000000","v":1046.3169642857142},{"$f":"(TREND(INDEX($C$5:$C$32,MATCH(F229,$B$5:$B$32)):INDEX($C$5:$C$32,MATCH(F229,$B$5:$B$32)+1),INDEX($B$5:$B$32,MATCH(F229,$B$5:$B$32)):INDEX($B$5:$B$32,MATCH(F229,$B$5:$B$32)+1),F229))*256/360","v":17.066666666666666},14.933333333333334,3294.0666666666666,3294,null,224,{"$f":"(1/(L229*256))*Setup_Settings!$E$5*60000000","v":1046.3169642857142},{"$f":"(TREND(INDEX($V$5:$V$32,MATCH(F229,$U$5:$U$32)):INDEX($V$5:$V$32,MATCH(F229,$U$5:$U$32)+1),INDEX($U$5:$U$32,MATCH(F229,$U$5:$U$32)):INDEX($U$5:$U$32,MATCH(F229,$U$5:$U$32)+1),F229))*256/360","v":19.2},12.8,2816.2000000000003,2816]
[null,null,null,null,225,{"$f":"(1/(E230*256))*Setup_Settings!$E$5*60000000","v":1041.6666666666667},{"$f":"(TREND(INDEX($C$5:$C$32,MATCH(F230,$B$5:$B$32)):INDEX($C$5:$C$32,MATCH(F230,$B$5:$B$32)+1),INDEX($B$5:$B$32,MATCH(F230,$B$5:$B$32)):INDEX($B$5:$B$32,MATCH(F230,$B$5:$B$32)+1),F230))*256/360","v":17.066666666666666},14.933333333333334,3309,3309,null,225,{"$f":"(1/(L230*256))*Setup_Settings!$E$5*60000000","v":1041.6666666666667},{"$f":"(TREND(INDEX($V$5:$V$32,MATCH(F230,$U$5:$U$32)):INDEX($V$5:$V$32,MATCH(F230,$U$5:$U$32)+1),INDEX($U$5:$U$32,MATCH(F230,$U$5:$U$32)):INDEX($U$5:$U$32,MATCH(F230,$U$5:$U$32)+1),F230))*256/360","v":19.2},12.8,2829,2829]
[null,null,null,null,226,{"$f":"(1/(E231*256))*Setup_Settings!$E$5*60000000","v":1037.0575221238937},{"$f":"(TREND(INDEX($C$5:$C$32,MATCH(F231,$B$5:$B$32)):INDEX($C$5:$C$32,MATCH(F231,$B$5:$B$32)+1),INDEX($B$5:$B$32,MATCH(F231,$B$5:$B$32)):INDEX($B$5:$B$32,MATCH(F231,$B$5:$B$32)+1),F231))*256/360","v":17.066666666666666},14.933333333333334,3323.9333333333334,3324,null,226,{"$f":"(1/(L231*256))*Setup_Settings!$E$5*60000000","v":1037.0575221238937},{"$f":"(TREND(INDEX($V$5:$V$32,MATCH(F231,$U$5:$U$32)):INDEX($V$5:$V$32,MATCH(F231,$U$5:$U$32)+1),INDEX($U$5:$U$32,MATCH(F231,$U$5:$U$32)):INDEX($U$5:$U$32,MATCH(F231,$U$5:$U$32)+1),F231))*256/360","v":19.2},12.8,2841.8,2842]
[null,null,null,null,227,{"$f":"(1/(E232*256))*Setup_Settings!$E$5*60000000","v":1032.4889867841412},{"$f":"(TREND(INDEX($C$5:$C$32,MATCH(F232,$B$5:$B$32)):INDEX($C$5:$C$32,MATCH(F232,$B$5:$B$32)+1),INDEX($B$5:$B$32,MATCH(F232,$B$5:$B$32)):INDEX($B$5:$B$32,MATCH(F232,$B$5:$B$32)+1),F232))*256/360","v":17.066666666666666},14.933333333333334,3338.8666666666668,3339,null,227,{"$f":"(1/(L232*256))*Setup_Settings!$E$5*60000000","v":1032.4889867841412},{"$f":"(TREND(INDEX($V$5:$V$32,MATCH(F232,$U$5:$U$32)):INDEX($V$5:$V$32,MATCH(F232,$U$5:$U$32)+1),INDEX($U$5:$U$32,MATCH(F232,$U$5:$U$32)):INDEX($U$5:$U$32,MATCH(F232,$U$5:$U$32)+1),F232))*256/360","v":19.2},12.8,2854.6000000000004,2855]
[null,null,null,null,228,{"$f":"(1/(E233*256))*Setup_Settings!$E$5*60000000","v":1027.9605263157894},{"$f":"(TREND(INDEX($C$5:$C$32,MATCH(F233,$B$5:$B$32)):INDEX($C$5:$C$32,MATCH(F233,$B$5:$B$32)+1),INDEX($B$5:$B$32,MATCH(F233,$B$5:$B$32)):INDEX($B$5:$B$32,MATCH(F233,$B$5:$B$32)+1),F233))*256/360","v":17.066666666666666},14.933333333333334,3353.8,3354,null,228,{"$f":"(1/(L233*256))*Setup_Settings!$E$5*60000000","v":1027.9605263157894},{"$f":"(TREND(INDEX($V$5:$V$32,MATCH(F233,$U$5:$U$32)):INDEX($V$5:$V$32,MATCH(F233,$U$5:$U$32)+1),INDEX($U$5:$U$32,MATCH(F233,$U$5:$U$32)):INDEX($U$5:$U$32,MATCH(F233,$U$5:$U$32)+1),F233))*256/360","v":19.2},12.8,2867.4,2867]
[null,null,null,null,229,{"$f":"(1/(E234*256))*Setup_Settings!$E$5*60000000","v":1023.4716157205239},{"$f":"(TREND(INDEX($C$5:$C$32,MATCH(F234,$B$5:$B$32)):INDEX($C$5:$C$32,MATCH(F234,$B$5:$B$32)+1),INDEX($B$5:$B$32,MATCH(F234,$B$5:$B$32)):INDEX($B$5:$B$32,MATCH(F234,$B$5:$B$32)+1),F234))*256/360","v":17.066666666666666},14.933333333333334,3368.7333333333336,3369,null,229,{"$f":"(1/(L234*256))*Setup_Settings!$E$5*60000000","v":1023.4716157205239},{"$f":"(TREND(INDEX($V$5:$V$32,MATCH(F234,$U$5:$U$32)):INDEX($V$5:$V$32,MATCH(F234,$U$5:$U$32)+1),INDEX($U$5:$U$32,MATCH(F234,$U$5:$U$32)):INDEX($U$5:$U$32,MATCH(F234,$U$5:$U$32)+1),F234))*256/360","v":19.2},12.8,2880.2000000000003,2880]
[null,null,null,null,230,{"$f":"(1/(E235*256))*Setup_Settings!$E$5*60000000","v":1019.0217391304348},{"$f":"(TREND(INDEX($C$5:$C$32,MATCH(F235,$B$5:$B$32)):INDEX($C$5:$C$32,MATCH(F235,$B$5:$B$32)+1),INDEX($B$5:$B$32,MATCH(F235,$B$5:$B$32)):INDEX($B$5:$B$32,MATCH(F235,$B$5:$B$32)+1),F235))*256/360","v":17.066666666666666},14.933333333333334,3383.6666666666665,3384,null,230,{"$f":"(1/(L235*256))*Setup_Settings!$E$5*60000000","v":1019.0217391304348},{"$f":"(TREND(INDEX($V$5:$V$32,MATCH(F235,$U$5:$U$32)):INDEX($V$5:$V$32,MATCH(F235,$U$5:$U$32)+1),INDEX($U$5:$U$32,MATCH(F235,$U$5:$U$32)):INDEX($U$5:$U$32,MATCH(F235,$U$5:$U$32)+1),F235))*256/360","v":19.2},12.8,2893,2893]
[null,null,null,null,231,{"$f":"(1/(E236*256))*Setup_Settings!$E$5*60000000","v":1014.6103896103896},{"$f":"(TREND(INDEX($C$5:$C$32,MATCH(F236,$B$5:$B$32)):INDEX($C$5:$C$32,MATCH(F236,$B$5:$B$32)+1),INDEX($B$5:$B$32,MATCH(F236,$B$5:$B$32)):INDEX($B$5:$B$32,MATCH(F236,$B$5:$B$32)+1),F236))*256/360","v":17.066666666666666},14.933333333333334,3398.6,3399,null,231,{"$f":"(1/(L236*256))*Setup_Settings!$E$5*60000000","v":1014.6103896103896},{"$f":"(TREND(INDEX($V$5:$V$32,MATCH(F236,$U$5:$U$32)):INDEX($V$5:$V$32,MATCH(F236,$U$5:$U$32)+1),INDEX($U$5:$U$32,MATCH(F236,$U$5:$U$32)):INDEX($U$5:$U$32,MATCH(F236,$U$5:$U$32)+1),F236))*256/360","v":19.2},12.8,2905.8,2906]
[null,null,null,null,232,{"$f":"(1/(E237*256))*Setup_Settings!$E$5*60000000","v":1010.2370689655172},{"$f":"(TREND(INDEX($C$5:$C$32,MATCH(F237,$B$5:$B$32)):INDEX($C$5:$C$32,MATCH(F237,$B$5:$B$32)+1),INDEX($B$5:$B$32,MATCH(F237,$B$5:$B$32)):INDEX($B$5:$B$32,MATCH(F237,$B$5:$B$32)+1),F237))*256/360","v":17.066666666666666},14.933333333333334,3413.5333333333333,3414,null,232,{"$f":"(1/(L237*256))*Setup_Settings!$E$5*60000000","v":1010.2370689655172},{"$f":"(TREND(INDEX($V$5:$V$32,MATCH(F237,$U$5:$U$32)):INDEX($V$5:$V$32,MATCH(F237,$U$5:$U$32)+1),INDEX($U$5:$U$32,MATCH(F237,$U$5:$U$32)):INDEX($U$5:$U$32,MATCH(F237,$U$5:$U$32)+1),F237))*256/360","v":19.2},12.8,2918.6000000000004,2919]
[null,null,null,null,233,{"$f":"(1/(E238*256))*Setup_Settings!$E$5*60000000","v":1005.9012875536481},{"$f":"(TREND(INDEX($C$5:$C$32,MATCH(F238,$B$5:$B$32)):INDEX($C$5:$C$32,MATCH(F238,$B$5:$B$32)+1),INDEX($B$5:$B$32,MATCH(F238,$B$5:$B$32)):INDEX($B$5:$B$32,MATCH(F238,$B$5:$B$32)+1),F238))*256/360","v":17.066666666666666},14.933333333333334,3428.4666666666667,3428,null,233,{"$f":"(1/(L238*256))*Setup_Settings!$E$5*60000000","v":1005.9012875536481},{"$f":"(TREND(INDEX($V$5:$V$32,MATCH(F238,$U$5:$U$32)):INDEX($V$5:$V$32,MATCH(F238,$U$5:$U$32)+1),INDEX($U$5:$U$32,MATCH(F238,$U$5:$U$32)):INDEX($U$5:$U$32,MATCH(F238,$U$5:$U$32)+1),F238))*256/360","v":19.2},12.8,2931.4,2931]
[null,null,null,null,234,{"$f":"(1/(E239*256))*Setup_Settings!$E$5*60000000","v":1001.6025641025642},{"$f":"(TREND(INDEX($C$5:$C$32,MATCH(F239,$B$5:$B$32)):INDEX($C$5:$C$32,MATCH(F239,$B$5:$B$32)+1),INDEX($B$5:$B$32,MATCH(F239,$B$5:$B$32)):INDEX($B$5:$B$32,MATCH(F239,$B$5:$B$32)+1),F239))*256/360","v":17.066666666666666},14.933333333333334,3443.4,3443,null,234,{"$f":"(1/(L239*256))*Setup_Settings!$E$5*60000000","v":1001.6025641025642},{"$f":"(TREND(INDEX($V$5:$V$32,MATCH(F239,$U$5:$U$32)):INDEX($V$5:$V$32,MATCH(F239,$U$5:$U$32)+1),INDEX($U$5:$U$32,MATCH(F239,$U$5:$U$32)):INDEX($U$5:$U$32,MATCH(F239,$U$5:$U$32)+1),F239))*256/360","v":19.2},12.8,2944.2000000000003,2944]
[null,null,null,null,235,{"$f":"(1/(E240*256))*Setup_Settings!$E$5*60000000","v":997.34042553191489},{"$f":"(TREND(INDEX($C$5:$C$32,MATCH(F240,$B$5:$B$32)):INDEX($C$5:$C$32,MATCH(F240,$B$5:$B$32)+1),INDEX($B$5:$B$32,MATCH(F240,$B$5:$B$32)):INDEX($B$5:$B$32,MATCH(F240,$B$5:$B$32)+1),F240))*256/360","v":17.013711583924351},14.986288416075649,3470.7777777777774,3471,null,235,{"$f":"(1/(L240*256))*Setup_Settings!$E$5*60000000","v":997.34042553191489},{"$f":"(TREND(INDEX($V$5:$V$32,MATCH(F240,$U$5:$U$32)):INDEX($V$5:$V$32,MATCH(F240,$U$5:$U$32)+1),INDEX($U$5:$U$32,MATCH(F240,$U$5:$U$32)):INDEX($U$5:$U$32,MATCH(F240,$U$5:$U$32)+1),F240))*256/360","v":19.135697399527185},12.864302600472815,2972.1111111111113,2972]
[null,null,null,null,236,{"$f":"(1/(E241*256))*Setup_Settings!$E$5*60000000","v":993.11440677966107},{"$f":"(TREND(INDEX($C$5:$C$32,MATCH(F241,$B$5:$B$32)):INDEX($C$5:$C$32,MATCH(F241,$B$5:$B$32)+1),INDEX($B$5:$B$32,MATCH(F241,$B$5:$B$32)):INDEX($B$5:$B$32,MATCH(F241,$B$5:$B$32)+1),F241))*256/360","v":16.929566854990583},15.070433145009417,3505.6222222222223,3506,null,236,{"$f":"(1/(L241*256))*Setup_Settings!$E$5*60000000","v":993.11440677966107},{"$f":"(TREND(INDEX($V$5:$V$32,MATCH(F241,$U$5:$U$32)):INDEX($V$5:$V$32,MATCH(F241,$U$5:$U$32)+1),INDEX($U$5:$U$32,MATCH(F241,$U$5:$U$32)):INDEX($U$5:$U$32,MATCH(F241,$U$5:$U$32)+1),F241))*256/360","v":19.033521657250468},12.966478342749532,3009.0888888888894,3009]
[null,null,null,null,237,{"$f":"(1/(E242*256))*Setup_Settings!$E$5*60000000","v":988.9240506329113},{"$f":"(TREND(INDEX($C$5:$C$32,MATCH(F242,$B$5:$B$32)):INDEX($C$5:$C$32,MATCH(F242,$B$5:$B$32)+1),INDEX($B$5:$B$32,MATCH(F242,$B$5:$B$32)):INDEX($B$5:$B$32,MATCH(F242,$B$5:$B$32)+1),F242))*256/360","v":16.846132208157524},15.153867791842476,3540.4666666666667,3540,null,237,{"$f":"(1/(L242*256))*Setup_Settings!$E$5*60000000","v":988.9240506329113},{"$f":"(TREND(INDEX($V$5:$V$32,MATCH(F242,$U$5:$U$32)):INDEX($V$5:$V$32,MATCH(F242,$U$5:$U$32)+1),INDEX($U$5:$U$32,MATCH(F242,$U$5:$U$32)):INDEX($U$5:$U$32,MATCH(F242,$U$5:$U$32)+1),F242))*256/360","v":18.93220815752461},13.06779184247539,3046.0666666666675,3046]
[null,null,null,null,238,{"$f":"(1/(E243*256))*Setup_Settings!$E$5*60000000","v":984.76890756302521},{"$f":"(TREND(INDEX($C$5:$C$32,MATCH(F243,$B$5:$B$32)):INDEX($C$5:$C$32,MATCH(F243,$B$5:$B$32)+1),INDEX($B$5:$B$32,MATCH(F243,$B$5:$B$32)):INDEX($B$5:$B$32,MATCH(F243,$B$5:$B$32)+1),F243))*256/360","v":16.763398692810458},15.236601307189542,3575.3111111111111,3575,null,238,{"$f":"(1/(L243*256))*Setup_Settings!$E$5*60000000","v":984.76890756302521},{"$f":"(TREND(INDEX($V$5:$V$32,MATCH(F243,$U$5:$U$32)):INDEX($V$5:$V$32,MATCH(F243,$U$5:$U$32)+1),INDEX($U$5:$U$32,MATCH(F243,$U$5:$U$32)):INDEX($U$5:$U$32,MATCH(F243,$U$5:$U$32)+1),F243))*256/360","v":18.831746031746029},13.168253968253971,3083.0444444444452,3083]
[null,null,null,null,239,{"$f":"(1/(E244*256))*Setup_Settings!$E$5*60000000","v":980.64853556485343},{"$f":"(TREND(INDEX($C$5:$C$32,MATCH(F244,$B$5:$B$32)):INDEX($C$5:$C$32,MATCH(F244,$B$5:$B$32)+1),INDEX($B$5:$B$32,MATCH(F244,$B$5:$B$32)):INDEX($B$5:$B$32,MATCH(F244,$B$5:$B$32)+1),F244))*256/360","v":16.681357508135747},15.318642491864253,3610.1555555555565,3610,null,239,{"$f":"(1/(L244*256))*Setup_Settings!$E$5*60000000","v":980.64853556485343},{"$f":"(TREND(INDEX($V$5:$V$32,MATCH(F244,$U$5:$U$32)):INDEX($V$5:$V$32,MATCH(F244,$U$5:$U$32)+1),INDEX($U$5:$U$32,MATCH(F244,$U$5:$U$32)):INDEX($U$5:$U$32,MATCH(F244,$U$5:$U$32)+1),F244))*256/360","v":18.732124593212454},13.267875406787546,3120.0222222222233,3120]
[null,null,null,null,240,{"$f":"(1/(E245*256))*Setup_Settings!$E$5*60000000","v":976.5625},{"$f":"(TREND(INDEX($C$5:$C$32,MATCH(F245,$B$5:$B$32)):INDEX($C$5:$C$32,MATCH(F245,$B$5:$B$32)+1),INDEX($B$5:$B$32,MATCH(F245,$B$5:$B$32)):INDEX($B$5:$B$32,MATCH(F245,$B$5:$B$32)+1),F245))*256/360","v":16.600000000000001},15.399999999999999,3644.9999999999995,3645,null,240,{"$f":"(1/(L245*256))*Setup_Settings!$E$5*60000000","v":976.5625},{"$f":"(TREND(INDEX($V$5:$V$32,MATCH(F245,$U$5:$U$32)):INDEX($V$5:$V$32,MATCH(F245,$U$5:$U$32)+1),INDEX($U$5:$U$32,MATCH(F245,$U$5:$U$32)):INDEX($U$5:$U$32,MATCH(F245,$U$5:$U$32)+1),F245))*256/360","v":18.633333333333329},13.366666666666671,3157.0000000000009,3157]
[null,null,null,null,241,{"$f":"(1/(E246*256))*Setup_Settings!$E$5*60000000","v":972.51037344398344},{"$f":"(TREND(INDEX($C$5:$C$32,MATCH(F246,$B$5:$B$32)):INDEX($C$5:$C$32,MATCH(F246,$B$5:$B$32)+1),INDEX($B$5:$B$32,MATCH(F246,$B$5:$B$32)):INDEX($B$5:$B$32,MATCH(F246,$B$5:$B$32)+1),F246))*256/360","v":16.519317657906871},15.480682342093129,3679.844444444444,3680,null,241,{"$f":"(1/(L246*256))*Setup_Settings!$E$5*60000000","v":972.51037344398344},{"$f":"(TREND(INDEX($V$5:$V$32,MATCH(F246,$U$5:$U$32)):INDEX($V$5:$V$32,MATCH(F246,$U$5:$U$32)+1),INDEX($U$5:$U$32,MATCH(F246,$U$5:$U$32)):INDEX($U$5:$U$32,MATCH(F246,$U$5:$U$32)+1),F246))*256/360","v":18.53536191793453},13.46463808206547,3193.9777777777781,3194]
[null,null,null,null,242,{"$f":"(1/(E247*256))*Setup_Settings!$E$5*60000000","v":968.49173553719015},{"$f":"(TREND(INDEX($C$5:$C$32,MATCH(F247,$B$5:$B$32)):INDEX($C$5:$C$32,MATCH(F247,$B$5:$B$32)+1),INDEX($B$5:$B$32,MATCH(F247,$B$5:$B$32)):INDEX($B$5:$B$32,MATCH(F247,$B$5:$B$32)+1),F247))*256/360","v":16.439302112029388},15.560697887970612,3714.688888888888,3715,null,242,{"$f":"(1/(L247*256))*Setup_Settings!$E$5*60000000","v":968.49173553719015},{"$f":"(TREND(INDEX($V$5:$V$32,MATCH(F247,$U$5:$U$32)):INDEX($V$5:$V$32,MATCH(F247,$U$5:$U$32)+1),INDEX($U$5:$U$32,MATCH(F247,$U$5:$U$32)):INDEX($U$5:$U$32,MATCH(F247,$U$5:$U$32)+1),F247))*256/360","v":18.438200183654725},13.561799816345275,3230.9555555555567,3231]
[null,null,null,null,243,{"$f":"(1/(E248*256))*Setup_Settings!$E$5*60000000","v":964.50617283950623},{"$f":"(TREND(INDEX($C$5:$C$32,MATCH(F248,$B$5:$B$32)):INDEX($C$5:$C$32,MATCH(F248,$B$5:$B$32)+1),INDEX($B$5:$B$32,MATCH(F248,$B$5:$B$32)):INDEX($B$5:$B$32,MATCH(F248,$B$5:$B$32)+1),F248))*256/360","v":16.359945130315502},15.640054869684498,3749.5333333333328,3750,null,243,{"$f":"(1/(L248*256))*Setup_Settings!$E$5*60000000","v":964.50617283950623},{"$f":"(TREND(INDEX($V$5:$V$32,MATCH(F248,$U$5:$U$32)):INDEX($V$5:$V$32,MATCH(F248,$U$5:$U$32)+1),INDEX($U$5:$U$32,MATCH(F248,$U$5:$U$32)):INDEX($U$5:$U$32,MATCH(F248,$U$5:$U$32)+1),F248))*256/360","v":18.341838134430727},13.658161865569273,3267.9333333333334,3268]
[null,null,null,null,244,{"$f":"(1/(E249*256))*Setup_Settings!$E$5*60000000","v":960.55327868852464},{"$f":"(TREND(INDEX($C$5:$C$32,MATCH(F249,$B$5:$B$32)):INDEX($C$5:$C$32,MATCH(F249,$B$5:$B$32)+1),INDEX($B$5:$B$32,MATCH(F249,$B$5:$B$32)):INDEX($B$5:$B$32,MATCH(F249,$B$5:$B$32)+1),F249))*256/360","v":16.281238615664847},15.718761384335153,3784.3777777777773,3784,null,244,{"$f":"(1/(L249*256))*Setup_Settings!$E$5*60000000","v":960.55327868852464},{"$f":"(TREND(INDEX($V$5:$V$32,MATCH(F249,$U$5:$U$32)):INDEX($V$5:$V$32,MATCH(F249,$U$5:$U$32)+1),INDEX($U$5:$U$32,MATCH(F249,$U$5:$U$32)):INDEX($U$5:$U$32,MATCH(F249,$U$5:$U$32)+1),F249))*256/360","v":18.246265938069214},13.753734061930786,3304.9111111111115,3305]
[null,null,null,null,245,{"$f":"(1/(E250*256))*Setup_Settings!$E$5*60000000","v":956.63265306122457},{"$f":"(TREND(INDEX($C$5:$C$32,MATCH(F250,$B$5:$B$32)):INDEX($C$5:$C$32,MATCH(F250,$B$5:$B$32)+1),INDEX($B$5:$B$32,MATCH(F250,$B$5:$B$32)):INDEX($B$5:$B$32,MATCH(F250,$B$5:$B$32)+1),F250))*256/360","v":16.203174603174606},15.796825396825394,3819.2222222222217,3819,null,245,{"$f":"(1/(L250*256))*Setup_Settings!$E$5*60000000","v":956.63265306122457},{"$f":"(TREND(INDEX($V$5:$V$32,MATCH(F250,$U$5:$U$32)):INDEX($V$5:$V$32,MATCH(F250,$U$5:$U$32)+1),INDEX($U$5:$U$32,MATCH(F250,$U$5:$U$32)):INDEX($U$5:$U$32,MATCH(F250,$U$5:$U$32)+1),F250))*256/360","v":18.151473922902497},13.848526077097503,3341.8888888888882,3342]
[null,null,null,null,246,{"$f":"(1/(E251*256))*Setup_Settings!$E$5*60000000","v":952.74390243902451},{"$f":"(TREND(INDEX($C$5:$C$32,MATCH(F251,$B$5:$B$32)):INDEX($C$5:$C$32,MATCH(F251,$B$5:$B$32)+1),INDEX($B$5:$B$32,MATCH(F251,$B$5:$B$32)):INDEX($B$5:$B$32,MATCH(F251,$B$5:$B$32)+1),F251))*256/360","v":16.125745257452575},15.874254742547425,3854.0666666666666,3854,null,246,{"$f":"(1/(L251*256))*Setup_Settings!$E$5*60000000","v":952.74390243902451},{"$f":"(TREND(INDEX($V$5:$V$32,MATCH(F251,$U$5:$U$32)):INDEX($V$5:$V$32,MATCH(F251,$U$5:$U$32)+1),INDEX($U$5:$U$32,MATCH(F251,$U$5:$U$32)):INDEX($U$5:$U$32,MATCH(F251,$U$5:$U$32)+1),F251))*256/360","v":18.057452574525744},13.942547425474256,3378.8666666666668,3379]
[null,null,null,null,247,{"$f":"(1/(E252*256))*Setup_Settings!$E$5*60000000","v":948.88663967611342},{"$f":"(TREND(INDEX($C$5:$C$32,MATCH(F252,$B$5:$B$32)):INDEX($C$5:$C$32,MATCH(F252,$B$5:$B$32)+1),INDEX($B$5:$B$32,MATCH(F252,$B$5:$B$32)):INDEX($B$5:$B$32,MATCH(F252,$B$5:$B$32)+1),F252))*256/360","v":16.048942869995503},15.951057130004497,3888.9111111111106,3889,null,247,{"$f":"(1/(L252*256))*Setup_Settings!$E$5*60000000","v":948.88663967611342},{"$f":"(TREND(INDEX($V$5:$V$32,MATCH(F252,$U$5:$U$32)):INDEX($V$5:$V$32,MATCH(F252,$U$5:$U$32)+1),INDEX($U$5:$U$32,MATCH(F252,$U$5:$U$32)):INDEX($U$5:$U$32,MATCH(F252,$U$5:$U$32)+1),F252))*256/360","v":17.964192532613588},14.035807467386412,3415.844444444444,3416]
[null,null,null,null,248,{"$f":"(1/(E253*256))*Setup_Settings!$E$5*60000000","v":945.06048387096769},{"$f":"(TREND(INDEX($C$5:$C$32,MATCH(F253,$B$5:$B$32)):INDEX($C$5:$C$32,MATCH(F253,$B$5:$B$32)+1),INDEX($B$5:$B$32,MATCH(F253,$B$5:$B$32)):INDEX($B$5:$B$32,MATCH(F253,$B$5:$B$32)+1),F253))*256/360","v":15.972759856630823},16.027240143369177,3923.7555555555559,3924,null,248,{"$f":"(1/(L253*256))*Setup_Settings!$E$5*60000000","v":945.06048387096769},{"$f":"(TREND(INDEX($V$5:$V$32,MATCH(F253,$U$5:$U$32)):INDEX($V$5:$V$32,MATCH(F253,$U$5:$U$32)+1),INDEX($U$5:$U$32,MATCH(F253,$U$5:$U$32)):INDEX($U$5:$U$32,MATCH(F253,$U$5:$U$32)+1),F253))*256/360","v":17.871684587813615},14.128315412186385,3452.8222222222234,3453]
[null,null,null,null,249,{"$f":"(1/(E254*256))*Setup_Settings!$E$5*60000000","v":941.26506024096375},{"$f":"(TREND(INDEX($C$5:$C$32,MATCH(F254,$B$5:$B$32)):INDEX($C$5:$C$32,MATCH(F254,$B$5:$B$32)+1),INDEX($B$5:$B$32,MATCH(F254,$B$5:$B$32)):INDEX($B$5:$B$32,MATCH(F254,$B$5:$B$32)+1),F254))*256/360","v":15.897188755020078},16.102811244979922,3958.6000000000004,3959,null,249,{"$f":"(1/(L254*256))*Setup_Settings!$E$5*60000000","v":941.26506024096375},{"$f":"(TREND(INDEX($V$5:$V$32,MATCH(F254,$U$5:$U$32)):INDEX($V$5:$V$32,MATCH(F254,$U$5:$U$32)+1),INDEX($U$5:$U$32,MATCH(F254,$U$5:$U$32)):INDEX($U$5:$U$32,MATCH(F254,$U$5:$U$32)+1),F254))*256/360","v":17.779919678714855},14.220080321285145,3489.8000000000011,3490]
[null,null,null,null,250,{"$f":"(1/(E255*256))*Setup_Settings!$E$5*60000000","v":937.5},{"$f":"(TREND(INDEX($C$5:$C$32,MATCH(F255,$B$5:$B$32)):INDEX($C$5:$C$32,MATCH(F255,$B$5:$B$32)+1),INDEX($B$5:$B$32,MATCH(F255,$B$5:$B$32)):INDEX($B$5:$B$32,MATCH(F255,$B$5:$B$32)+1),F255))*256/360","v":15.822222222222223},16.177777777777777,3993.4444444444443,3993,null,250,{"$f":"(1/(L255*256))*Setup_Settings!$E$5*60000000","v":937.5},{"$f":"(TREND(INDEX($V$5:$V$32,MATCH(F255,$U$5:$U$32)):INDEX($V$5:$V$32,MATCH(F255,$U$5:$U$32)+1),INDEX($U$5:$U$32,MATCH(F255,$U$5:$U$32)):INDEX($U$5:$U$32,MATCH(F255,$U$5:$U$32)+1),F255))*256/360","v":17.688888888888886},14.311111111111114,3526.7777777777783,3527]
[null,null,null,null,251,{"$f":"(1/(E256*256))*Setup_Settings!$E$5*60000000","v":933.76494023904377},{"$f":"(TREND(INDEX($C$5:$C$32,MATCH(F256,$B$5:$B$32)):INDEX($C$5:$C$32,MATCH(F256,$B$5:$B$32)+1),INDEX($B$5:$B$32,MATCH(F256,$B$5:$B$32)):INDEX($B$5:$B$32,MATCH(F256,$B$5:$B$32)+1),F256))*256/360","v":15.747853032315183},16.252146967684816,4028.2888888888888,4028,null,251,{"$f":"(1/(L256*256))*Setup_Settings!$E$5*60000000","v":933.76494023904377},{"$f":"(TREND(INDEX($V$5:$V$32,MATCH(F256,$U$5:$U$32)):INDEX($V$5:$V$32,MATCH(F256,$U$5:$U$32)+1),INDEX($U$5:$U$32,MATCH(F256,$U$5:$U$32)):INDEX($U$5:$U$32,MATCH(F256,$U$5:$U$32)+1),F256))*256/360","v":17.598583444001768},14.401416555998232,3563.7555555555559,3564]
[null,null,null,null,252,{"$f":"(1/(E257*256))*Setup_Settings!$E$5*60000000","v":930.05952380952374},{"$f":"(TREND(INDEX($C$5:$C$32,MATCH(F257,$B$5:$B$32)):INDEX($C$5:$C$32,MATCH(F257,$B$5:$B$32)+1),INDEX($B$5:$B$32,MATCH(F257,$B$5:$B$32)):INDEX($B$5:$B$32,MATCH(F257,$B$5:$B$32)+1),F257))*256/360","v":15.674074074074072},16.32592592592593,4063.1333333333341,4063,null,252,{"$f":"(1/(L257*256))*Setup_Settings!$E$5*60000000","v":930.05952380952374},{"$f":"(TREND(INDEX($V$5:$V$32,MATCH(F257,$U$5:$U$32)):INDEX($V$5:$V$32,MATCH(F257,$U$5:$U$32)+1),INDEX($U$5:$U$32,MATCH(F257,$U$5:$U$32)):INDEX($U$5:$U$32,MATCH(F257,$U$5:$U$32)+1),F257))*256/360","v":17.508994708994706},14.491005291005294,3600.733333333334,3601]
[null,null,null,null,253,{"$f":"(1/(E258*256))*Setup_Settings!$E$5*60000000","v":926.38339920948613},{"$f":"(TREND(INDEX($C$5:$C$32,MATCH(F258,$B$5:$B$32)):INDEX($C$5:$C$32,MATCH(F258,$B$5:$B$32)+1),INDEX($B$5:$B$32,MATCH(F258,$B$5:$B$32)):INDEX($B$5:$B$32,MATCH(F258,$B$5:$B$32)+1),F258))*256/360","v":15.600878348704436},16.399121651295566,4097.9777777777781,4098,null,253,{"$f":"(1/(L258*256))*Setup_Settings!$E$5*60000000","v":926.38339920948613},{"$f":"(TREND(INDEX($V$5:$V$32,MATCH(F258,$U$5:$U$32)):INDEX($V$5:$V$32,MATCH(F258,$U$5:$U$32)+1),INDEX($U$5:$U$32,MATCH(F258,$U$5:$U$32)):INDEX($U$5:$U$32,MATCH(F258,$U$5:$U$32)+1),F258))*256/360","v":17.420114185331574},14.579885814668426,3637.7111111111117,3638]
[null,null,null,null,254,{"$f":"(1/(E259*256))*Setup_Settings!$E$5*60000000","v":922.73622047244089},{"$f":"(TREND(INDEX($C$5:$C$32,MATCH(F259,$B$5:$B$32)):INDEX($C$5:$C$32,MATCH(F259,$B$5:$B$32)+1),INDEX($B$5:$B$32,MATCH(F259,$B$5:$B$32)):INDEX($B$5:$B$32,MATCH(F259,$B$5:$B$32)+1),F259))*256/360","v":15.528258967629045},16.471741032370957,4132.822222222223,4133,null,254,{"$f":"(1/(L259*256))*Setup_Settings!$E$5*60000000","v":922.73622047244089},{"$f":"(TREND(INDEX($V$5:$V$32,MATCH(F259,$U$5:$U$32)):INDEX($V$5:$V$32,MATCH(F259,$U$5:$U$32)+1),INDEX($U$5:$U$32,MATCH(F259,$U$5:$U$32)):INDEX($U$5:$U$32,MATCH(F259,$U$5:$U$32)+1),F259))*256/360","v":17.331933508311458},{"$f":"$L$3-N259","v":14.668066491688542},3674.6888888888898,3675]
[null,null,null,null,255,{"$f":"(1/(E260*256))*Setup_Settings!$E$5*60000000","v":919.11764705882354},{"$f":"(TREND(INDEX($C$5:$C$32,MATCH(F260,$B$5:$B$32)):INDEX($C$5:$C$32,MATCH(F260,$B$5:$B$32)+1),INDEX($B$5:$B$32,MATCH(F260,$B$5:$B$32)):INDEX($B$5:$B$32,MATCH(F260,$B$5:$B$32)+1),F260))*256/360","v":15.456209150326798},16.543790849673201,4167.6666666666661,4168,null,255,{"$f":"(1/(L260*256))*Setup_Settings!$E$5*60000000","v":919.11764705882354},{"$f":"(TREND(INDEX($V$5:$V$32,MATCH(F260,$U$5:$U$32)):INDEX($V$5:$V$32,MATCH(F260,$U$5:$U$32)+1),INDEX($U$5:$U$32,MATCH(F260,$U$5:$U$32)):INDEX($U$5:$U$32,MATCH(F260,$U$5:$U$32)+1),F260))*256/360","v":17.244444444444444},{"$f":"$L$3-N260","v":14.755555555555556},3711.666666666667,3712]
[null,null,null,null,256,{"$f":"(1/(E261*256))*Setup_Settings!$E$5*60000000","v":915.52734375},{"$f":"(TREND(INDEX($C$5:$C$32,MATCH(F261,$B$5:$B$32)):INDEX($C$5:$C$32,MATCH(F261,$B$5:$B$32)+1),INDEX($B$5:$B$32,MATCH(F261,$B$5:$B$32)):INDEX($B$5:$B$32,MATCH(F261,$B$5:$B$32)+1),F261))*256/360","v":15.384722222222223},16.615277777777777,4202.5111111111109,4203,null,256,{"$f":"(1/(L261*256))*Setup_Settings!$E$5*60000000","v":915.52734375},{"$f":"(TREND(INDEX($V$5:$V$32,MATCH(F261,$U$5:$U$32)):INDEX($V$5:$V$32,MATCH(F261,$U$5:$U$32)+1),INDEX($U$5:$U$32,MATCH(F261,$U$5:$U$32)):INDEX($U$5:$U$32,MATCH(F261,$U$5:$U$32)+1),F261))*256/360","v":17.157638888888886},{"$f":"$L$3-N261","v":14.842361111111114},3748.6444444444451,3749]

{"sheet":"12F683_Code","index":4,"n_rows":249,"n_cols":1,"rows_kept":249,"cut":false,"hidden":false,"merged":[]}
["/*******************************************************************************"]
["*  Filename:  CDI-2012_12F683_v1.0.c                                           *"]
["*  Version:   1.0           Date: November 17, 2012                            *"]
["*  Author:    Jake Stewart  (jakestew@mail.com)                                *"]
["*  Credits:   John (gr8flyer55), Nyemi, jpanhalt, lovefool, COM, Gompy,        *"]
["*              Adrian, and Bluejets.                                           *"]
["*  Website:   http://www.electrofunnel.com/CDI-2012/index.htm                  *"]
["*  Copyright: 2012 Jake Stewart                                                *"]
["********************************************************************************"]
["*    License:  This code is free for personal and limited commercial use. You  *"]
["* may use and modify it as you see fit as long as you do not sell the code, or *"]
["* any derivative work, or any product containing it without written permission.*"]
["* Contact jakestew@mail.com for affordable licensing.                          *"]
["********************************************************************************"]
["*  Processor:   PIC12F683                Compiler:    MPLAB XC8 v1.10          *"]
["*  Additional Files: Excel spreadsheet for table generation.                   *"]
["********************************************************************************"]
["*  Description:    CDI ignition control program                                *"]
["********************************************************************************"]
["*  Pin assignments...                                                          *"]
["* Pin 7(GP0) = Output for LED/tachometer, active high                          *"]
["* Pin 6(GP1) = Output to HV spark circuit board, active low                    *"]
["* Pin 5(GP2) = Sensor input, active low, falling edge = magnet approaching     *"]
["* Pin 4(GP3) = Tied low on some timer boards, no function assigned             *"]
["* Pin 3(GP4) = Kill Switch, internal pull-up, ground to stop spark output      *"]
["* Pin 2(GP5) = Table Switch, internal pull-up, ground for Table2               *"]
["********************************************************************************"]
["*  Interrupts:                                                                 *"]
["* GP2    - Sensor input signal edge, falling=activating, rising=deactivating   *"]
["* TMR1   - Timer1, every 65.5 ms (if not cleared)                              *"]
["* CCP1IF - Timer1 period register (TMR1 matches delay time)                    *"]
["*******************************************************************************/"]
[]
["#include <stdio.h>   // Standard IO include"]
["#include <stdlib.h>  // Standard library include"]
["#include <xc.h>      // Auto include device specific headers and libraries"]
["#include <stdint.h>  // Defines C99 standard data types like uint8_t, uint16_t"]
["#include <stdbool.h> // For true/false definition"]
[]
["#define _XTAL_FREQ 8000000   // Oscillator/crystal Speed = 4mhz"]
["#define ICLK (_XTAL_FREQ/4)  // Instruction clock = XTAL divided by four"]
[]
["/* Device Config Register: CONFIG1 (see pic12f683.h)"]
[" * IO on OSC pins,Watchdog Off,PowerUp Timer On,IO on MCLR,Code Protect Off,Data Protect Off,"]
[" * Brown-out Reset Off,Clock Switch Off,Fail-Safe Clock Monitor Off */"]
["__CONFIG(FOSC_INTOSCIO & WDTE_OFF & PWRTE_ON & MCLRE_OFF & CP_OFF & CPD_OFF & BOREN_OFF & IESO_OFF & FCMEN_OFF);"]
["// CONFIG Register = 0b 000011000100 = 0x00C4"]
[]
["/************************************************************************"]
["*  Extra Settings:     (adjust with care)                               *"]
["************************************************************************/"]
["#define Trigger_Pulse_Time 300 // On time, in uS, that output is kept on (2 is the minimum IME)"]
[]
["/***** Ignition Advance Table (256 point, 16-bit table) *****/"]
["static const uint16_t AdvanceTable1[256] = //@ 0x03F0 =  // 0x03F0"]
["{  /*****  PASTE TABLE DATA ON THE LINE BELOW  *****/"]
[{"$f":"Table_Values!G3","v":"4203,45,25,48047,2,3,102,1,40,0,0,0,0,0,0,173,188,203,218,233,248,263,278,292,307,322,337,352,367,382,397,412,427,442,457,472,487,502,516,531,546,561,576,591,606,621,636,651,666,681,696,711,726,740,755,770,785,800,815,830,845,860,875,890,905,920,935,950,964,979,994,1009,1024,1039,1054,1069,1084,1099,1114,1129,1144,1159,1174,1188,1203,1218,1233,1248,1263,1278,1293,1308,1323,1338,1353,1368,1383,1398,1412,1427,1442,1457,1472,1487,1502,1517,1532,1547,1562,1577,1592,1607,1622,1636,1651,1666,1681,1696,1711,1726,1741,1756,1771,1786,1801,1816,1831,1846,1860,1875,1890,1905,1920,1935,1950,1965,1980,1995,2010,2025,2040,2055,2070,2084,2099,2114,2129,2144,2159,2174,2189,2204,2219,2234,2249,2264,2279,2294,2308,2323,2338,2353,2368,2383,2398,2413,2428,2443,2458,2473,2488,2503,2518,2532,2547,2562,2577,2592,2607,2622,2637,2652,2667,2682,2697,2712,2727,2742,2756,2771,2786,2801,2816,2831,2846,2861,2876,2891,2906,2921,2936,2951,2966,2980,2995,3010,3025,3040,3055,3070,3085,3100,3115,3130,3145,3160,3175,3190,3204,3219,3234,3249,3264,3279,3294,3309,3324,3339,3354,3369,3384,3399,3414,3428,3443,3471,3506,3540,3575,3610,3645,3680,3715,3750,3784,3819,3854,3889,3924,3959,3993,4028,4063,4098,4133,4168"}]
["}; /*****  PASTE TABLE DATA ON THE LINE ABOVE  *****/"]
[]
["/***** Ignition Advance Table 2 (256 point, 16-bit table) *****/"]
["static const uint16_t AdvanceTable2[256] = //@ 0x05F0 =  // 0x05F0"]
["{  /*****  PASTE TABLE DATA ON THE LINE BELOW  *****/"]
[{"$f":"Table_Values!N3","v":"3749,50,25,53906,3,3,102,1,40,0,0,0,0,0,0,141,154,167,179,192,205,218,231,243,256,269,282,295,307,320,333,346,359,371,384,397,410,423,435,448,461,474,487,499,512,525,538,551,563,576,589,602,615,627,640,653,666,679,691,704,717,730,743,755,768,781,794,807,819,832,845,858,871,883,896,909,922,935,947,960,973,986,999,1011,1024,1037,1050,1063,1075,1088,1101,1114,1127,1139,1152,1165,1178,1191,1203,1216,1229,1242,1255,1267,1280,1293,1306,1319,1331,1344,1357,1370,1383,1395,1408,1421,1434,1447,1459,1472,1485,1498,1511,1523,1536,1549,1562,1575,1587,1600,1613,1626,1639,1651,1664,1677,1690,1703,1715,1728,1741,1754,1767,1779,1792,1805,1818,1831,1843,1856,1869,1882,1895,1907,1920,1933,1946,1959,1971,1984,1997,2010,2023,2035,2048,2061,2074,2087,2099,2112,2125,2138,2151,2163,2176,2189,2202,2215,2227,2240,2253,2266,2279,2291,2304,2317,2330,2343,2355,2368,2381,2394,2407,2419,2432,2445,2458,2471,2483,2496,2509,2522,2535,2547,2560,2573,2586,2599,2611,2624,2637,2650,2663,2675,2688,2701,2714,2727,2739,2752,2765,2778,2791,2803,2816,2829,2842,2855,2867,2880,2893,2906,2919,2931,2944,2972,3009,3046,3083,3120,3157,3194,3231,3268,3305,3342,3379,3416,3453,3490,3527,3564,3601,3638,3675,3712"}]
["}; /*****  PASTE TABLE DATA ON THE LINE ABOVE  *****/"]
[]
["/***** FUNCTION PROTOTYPES *****/"]
["static void Initalize(void);    // PIC Initialization"]
["static void LoadSettings(void); // Loads user settings embedded in the tables"]
["static void CheckPins(void);    // Check pins and debounce readings"]
[]
["/***** GLOBAL VARIABLES *****/"]
["union {uint8_t ALL;struct{unsigned GP0:1;unsigned GP1:1;unsigned GP2:1;"]
["    unsigned GP3:1;unsigned GP4:1;unsigned GP5:1;};} sGPIO;  // Union/Struct for shadow copy of GPIO"]
[]
["const uint16_t *TablePointer = AdvanceTable1; // Pointer to active ignition table"]
["volatile uint8_t  Unhandled_Interrupt = 0;    // Should never have any of these!"]
["volatile uint8_t  MSD_Start_Spark = 0; // Number of sparks to fire on the first starting rev."]
["volatile uint8_t  Engine_Running = 0;  // Is the engine running?"]
["volatile uint8_t  TMR1_Overflow = 0;   // Timer1 counter"]
["volatile uint8_t  MSD_Low_Spark = 0;   // Number of sparks to fire when in LowRPM mode (120-915 RPM)"]
["volatile uint8_t  SensorDigiDeg = 0;   // Sensor Digi-Degrees BTDC"]
["volatile uint8_t  LowRPM_Delay = 0;    // Low RPM Advance Digi-Degrees (3 RPS - 916 RPM)"]
["volatile uint8_t  Max_MSD_Rev = 0;     // Maximum RPM to use MSD at (value is in terms of CurrentRev + 1)"]
["volatile uint8_t  CurrentRev = 0;      // Timer for current revolution"]
["volatile uint16_t StartDelay = 0;      // uS delay for start spark(s)"]
["volatile uint8_t  Spark_Fire = 0;      // Loaded with the number of sparks to fire"]
["volatile uint8_t  MSD_Spark = 0;       // Number of sparks per revolution when RPM is below Max_MSD_Rev"]
["volatile uint8_t  MSD_Delay = 0;       // uS in between trigger pulses for MSD (minimum 63 IME)"]
["volatile uint8_t  LastRev = 0;  // Previous revolution time"]
["volatile uint24_t LowCalc = 0;  // Used as a temp var for calculating"]
["uint8_t KillSwitch = 0;         // Kill Switch Debounce Variable"]
["uint8_t TableSwitch = 0;         // Table Switch Debounce Variable"]
["uint8_t i = 0;                   // 8-bit counter variable"]
[]
["void main(void) {"]
["    TRISIO    = 0b111100;    // Trying to get GP1 on as fast as possible to prevent startup sparks."]
["    sGPIO.GP1 = 1;           // GP1 should normally be on (high)"]
["    GPIO = sGPIO.ALL;        // Shadow GPIO -> GPIO"]
["    Initalize();          // Call initialization function"]
["//    __delay_ms(500);      // Startup delay to let circuit stabilize"]
["    LoadSettings();       // Load table 1 user settings"]
["    Spark_Fire = MSD_Start_Spark; // Prime the spark counter for first firing"]
["    PIE1bits.TMR1IE = 1;  // Timer1 Interrupt Enable"]
["    T1CONbits.TMR1ON = 1; // Start Timer1"]
["    INTCONbits.GIE = 1;   // Global Interrupt Enable"]
[]
["    while(1){  // Main loop, Run this loop forever"]
["        CheckPins();    // Check our TableSelect and KillSwitch pins"]
["        __delay_ms(10); // Delay here so main loop runs at around 10-20 ms (100-50 times/sec)"]
["    }"]
["}"]
[]
["/* ISR = Interrupt Service Routine, it is called when any enabled interrupt is generated. */"]
["static void interrupt isr(void){  /* All in one IF block to avoid runtime errors */"]
["#if 1  /* Determine which flag generated the interrupt and service it */"]
["    if(PIR1bits.CCP1IF){  /******** TIMER1 COMPARE MATCH ********/"]
["        for(;Spark_Fire != 0;--Spark_Fire){"]
["            sGPIO.GP1 = 0;    // Turn on HV output by turning GP1 off"]
["            sGPIO.GP0 = 1;    // Turn on LED/tach (GP0) bit in shadow"]
["            GPIO = sGPIO.ALL; // Update GPIO"]
["            __delay_us(Trigger_Pulse_Time);  // Load Trigger_Pulse_Time (uS)"]
["            sGPIO.GP1 = 1;    // GP1 is normally on (on = off)"]
["            sGPIO.GP0 = 0;    // Turn off LED/tach (GP0) bit in shadow"]
["            GPIO = sGPIO.ALL; // Update GPIO"]
["            if(Spark_Fire != 0){"]
["                for(i=0; i < MSD_Delay; i++){ // Delay for MSD_Delay value"]
["                    __delay_us(96);  // About 4 uS overhead per loop"]
["                }"]
["            }"]
["        }"]
["        LastRev = CurrentRev;  // Store previous rev. time value"]
["        CCP1CONbits.CCP1M = 0; // Compare mode off, so we don't end up here again until the next spark"]
["        PIE1bits.CCP1IE = 0;   // Disable compare interrupt"]
["        PIR1bits.CCP1IF = 0;   // Clear compare interrupt flag"]
["        INTCONbits.INTF = 0;   // Clear sensor interrupt flag in case we have generated the flag from sensor noise"]
["        INTCONbits.INTE = 1;   // Enable interrupt for GP2 sensor input"]
["    }"]
["/*****************************************************************************/"]
["    else if(INTCONbits.INTF){  /******** GP2 SENSOR INPUT ********/"]
["        if(GPIObits.GP2 == 0){"]
["            T1CONbits.TMR1ON = 0;       // Turn off Timer1"]
["            CurrentRev = TMR1H + (TMR1L >> 7); // 8 high bits of Timer1 + the highest low bit (rounding method)"]
["            TMR1 = 0;                   // Reset Timer1"]
["            CCP1CONbits.CCP1M = 0b1010; // Set Timer1 CCP compare mode"]
["            CCPR1 = *(TablePointer + CurrentRev);  // Load delay table value"]
["            if(CurrentRev > Max_MSD_Rev){Spark_Fire = MSD_Spark;} // Set the MSD sparks if revs are low enough"]
["            else{Spark_Fire = 1;}"]
["            if(TMR1_Overflow){  // If we overflowed we need to calc the delay time since it's not in the table"]
["                LowCalc = CurrentRev + (TMR1_Overflow<<8);  // Figure out total elapsed time"]
["                CCPR1 = LowCalc * LowRPM_Delay;  // Shift one more bit and multiply times our start advance setting"]
["                TMR1_Overflow = 0;   // Reset TMR1 overflow counter"]
["                Spark_Fire = MSD_Low_Spark;"]
["                CurrentRev = 255;  // CurrentRev should be maxed instead of rolled over to a random number"]
["                if(Engine_Running == 0){  // If our engine isn't running we won't have a valid rev time"]
["                    CCPR1 = StartDelay;  // Use default starting figure"]
["                    Spark_Fire = MSD_Start_Spark;"]
["                    Engine_Running = 1;  // Hopefully engine fired or at least hits the sensor again at above 3 RPS"]
["                }"]
["            }"]
["            // Prepare for throwing spark and exit ISR"]
["            INTCONbits.INTE = 0;  // Disable GP2 sensor interrupt so we don't get false triggers from sensor noise."]
["            INTCONbits.INTF = 0;  // Clear GP2 Interrupt Flag"]
["            PIR1bits.CCP1IF = 0;  // Clear compare interrupt flag"]
["            PIE1bits.CCP1IE = 1;  // Enable compare interrupt"]
["            T1CONbits.TMR1ON =1;  // Turn on Timer1"]
["        }"]
["        else {INTCONbits.INTF = 0;} // False interrupt from sensor noise, clear flag and continue"]
["    }"]
["/*****************************************************************************/"]
["    else if(PIR1bits.TMR1IF){  /******** TIMER1 OVERFLOW ********/"]
["        CCP1CONbits.CCP1M = 0;   // Compare mode off so we don't get compare matches now that our timer has rolled over"]
["        if(TMR1_Overflow > 7){"]
["            Engine_Running = 0;  // Engine is not running (under ~2 RPS / ~120 RPM)"]
["        }"]
["        else{"]
["            TMR1_Overflow++;  // Increment overflow count (=uS*65536)"]
["        }"]
["        PIR1bits.TMR1IF = 0; // Clear interrupt flag"]
["    }"]
["/*****************************************************************************/"]
["    else {  /******** UNHANDLED INTERRUPT ********/"]
["        if(Unhandled_Interrupt < 255){Unhandled_Interrupt++;}"]
["    }"]
["#endif"]
["}"]
[]
["static void LoadSettings(void){  // Load user settings from current table"]
["    SensorDigiDeg   = *(TablePointer + 1);"]
["    LowRPM_Delay    = *(TablePointer + 2);"]
["    StartDelay      = *(TablePointer + 3);"]
["    MSD_Start_Spark = *(TablePointer + 4);"]
["    MSD_Low_Spark   = *(TablePointer + 5);"]
["    Max_MSD_Rev     = *(TablePointer + 6);"]
["    MSD_Spark       = *(TablePointer + 7);"]
["    MSD_Delay       = *(TablePointer + 8);"]
["}"]
[]
["static void CheckPins(void){"]
["    if(GPIObits.GP4 == 0){   // If kill switch is on (grounded)"]
["        if(KillSwitch < 10){ // Less than debounce value"]
["            KillSwitch++;    // Increment value"]
["            if(KillSwitch == 10){   // Debounce value reached"]
["                INTCONbits.GIE = 0; // Disable interrupts"]
["                sGPIO.GP1 = 1;      // Make sure HV trigger is off (turn GP1 on)"]
["                GPIO = sGPIO.ALL;   // Update GPIO"]
["            }"]
["        }"]
["    }"]
["    else if(KillSwitch > 0){ // Kill switch off (high)"]
["        KillSwitch--;       // Decrease counter"]
["        if(KillSwitch == 0){INTCONbits.GIE = 1;} // If debounced back to 0, enable interrupts"]
["    }"]
["    if(GPIObits.GP5 == 0){    // If Table switch is on (grounded)"]
["        if(TableSwitch < 10){ // Less than max value"]
["            TableSwitch++;    // So increment"]
["            if(TableSwitch == 10){ // Debounce value reached"]
["                TablePointer = AdvanceTable2; // Point pointer at table 2"]
["                LoadSettings(); // Load the user settings from the currently selected table"]
["            }"]
["        }"]
["    }"]
["    else if(TableSwitch > 0){  // Table switch has been turned off"]
["        TableSwitch--;         // Decrease the debounce value"]
["        if(TableSwitch == 0){  // Table switch really is off"]
["            TablePointer = AdvanceTable1; // Point TablePointer at table 1"]
["            LoadSettings(); // Load the user settings from the currently selected table"]
["        }"]
["    }"]
["}"]
[]
["static void Initalize(void){"]
["    OSCCONbits.IRCF = 0b111; // Internal osc = 8MHz"]
["    OSCCONbits.SCS = 1;      // Use Internal osc"]
["    if(OSCCONbits.HTS == 0){__delay_ms(100);} // Wait for HF internal osc to become stable"]
["    if(OSCCONbits.LTS == 0){__delay_ms(100);} // Wait for LF internal osc to become stable"]
["    /*******   GP 543210  *******/"]
["    /*******  Pin 234567  *******/"]
["    TRISIO    = 0b111100;    // 1=Input, 0=Output,"]
["    WPU       = 0b110100;    // Internal pull-ups on GP2,4,5"]
["    INTCON = 0b01010000;     // Setup interrupts,"]
["    PIE1   = 0b00100001;     // Peripheral Interrupt Enable. CCP1, TMR1 on."]
["    PIR1   = 0b000000;       // Peripheral Interrupt Request Register"]
["    ANSEL  = 0b00000000;     // Turn off all analog inputs"]
["    OPTION_REG = 0b00000000; // pullups on, falling edge, Tmr0"]
["    CMCON0     = 0b00000111; // comparator config, disable"]
["    CCP1CON    = 0b00000000; // CCP off, special event mode = 1011 (resets Timer1)"]
["    T1CON      = 0b00010100; // TMR1 Off, 1:2 prescaler"]
["    TMR1 = 0;                //  Zero Timer1"]
["}"]

{"sheet":"12F1840_Code","index":5,"n_rows":280,"n_cols":1,"rows_kept":280,"cut":false,"hidden":false,"merged":[]}
["/*******************************************************************************"]
["*  Filename:  CDI-2012_12F1840_v1.0.c                                          *"]
["*  Version:   1.0           Date: November 16, 2012                            *"]
["*  Author:    Jake Stewart  (jakestew@mail.com)                                *"]
["*  Credits:   John (gr8flyer55), Nyemi, jpanhalt, lovefool, COM, Gompy,        *"]
["*              Adrian, and Bluejets.                                           *"]
["*  Website:   http://www.electrofunnel.com/CDI-2012/index.htm                  *"]
["*  Copyright: 2012 Jake Stewart                                                *"]
["********************************************************************************"]
["*    License:  This code is free for personal and limited commercial use. You  *"]
["* may use and modify it as you see fit as long as you do not sell the code, or *"]
["* any derivative work, or any product containing it without written permission.*"]
["* Contact jakestew@mail.com for affordable licensing.                          *"]
["********************************************************************************"]
["*  Processor:   PIC12F1840               Compiler:    MPLAB XC8 v1.10          *"]
["*  Additional Files: Excel spreadsheet for table generation.                   *"]
["********************************************************************************"]
["*  Description:    CDI ignition control program                                *"]
["********************************************************************************"]
["*  Pin assignments...                                                          *"]
["* Pin 7(GP0) = Output for LED/tachometer, active high                          *"]
["* Pin 6(GP1) = Output to HV spark circuit board, active low                    *"]
["* Pin 5(GP2) = Sensor input, active low, falling edge = magnet approaching     *"]
["* Pin 4(GP3) = Tied low on some timer boards, no function assigned             *"]
["* Pin 3(GP4) = Kill Switch, internal pull-up, ground to stop spark output      *"]
["* Pin 2(GP5) = Table Switch, internal pull-up, ground for Table2               *"]
["********************************************************************************"]
["*  Interrupts:                                                                 *"]
["* GP2    - Sensor input signal edge, falling=activating, rising=deactivating   *"]
["* TMR1   - Timer1, every 65.5 ms (if not cleared)                              *"]
["* CCP1IF - Timer1 period register (TMR1 matches delay time)                    *"]
["*******************************************************************************/"]
[]
["#include <stdio.h>   // Standard IO include"]
["#include <stdlib.h>  // Standard library include"]
["#include <xc.h>      // Auto include device specific headers and libraries"]
["#include <stdint.h>  // Defines C99 standard data types like uint8_t, uint16_t"]
["#include <stdbool.h> // For true/false definition"]
[]
["#define _XTAL_FREQ 8000000   // Oscillator/crystal Speed = 4mhz"]
["#define ICLK (_XTAL_FREQ/4)  // Instruction clock = XTAL divided by four"]
[]
["/*  Device Config Register: CONFIG1 (see pic12f1840.h)"]
[" * FOSC_INTOSC = Internal Oscillator, I/O on crystal pin"]
[" * WDTE_OFF = Watchdog timer off"]
[" * PWRTE_OFF = Power-up Timer"]
[" * MCLRE_OFF = MCLR Pin Function Select (Off=MCLR/VPP=digital input)"]
[" * CP_OFF = Program memory code protection disabled"]
[" * CPD_OFF = Data memory code protection disabled"]
[" * BOREN_OFF = Brown-out Reset disabled"]
[" * CLKOUTEN_OFF = CLKOUT function is disabled. I/O or osc on CLKOUT pin"]
[" * IESO_OFF = Internal/External clock switchover disabled"]
[" * FCMEN_OFF = Fail-Safe Clock Monitor"]
[" */"]
["__CONFIG(FOSC_INTOSC & WDTE_OFF & PWRTE_OFF & MCLRE_OFF & CP_OFF & CPD_OFF & BOREN_OFF & CLKOUTEN_OFF & IESO_OFF & FCMEN_OFF);"]
[]
["/*  Device Config Register: CONFIG2 (see pic12f1840.h)"]
[" * WRT_OFF = Flash Memory Self-Write Protection Off"]
[" * VCOREV_OFF = VDDCORE Visibility - VDDCORE pin functionality is disabled"]
[" * PLLEN_ON = 4x PLL enable"]
[" * STVREN_ON = Stack Overflow/Underflow Reset Enable"]
[" * BORV_LO = Brown-out Reset Voltage Selection (low trip point selected)(2.4V)"]
[" * DEBUG_OFF = In-Circuit Debugger disabled, ICSPCLK & ICSPDAT are I/O pins"]
[" * LVP_OFF = Low-Voltage Programming Mode off (must use high voltage)"]
[" */"]
["__CONFIG(WRT_OFF & VCOREV_OFF & PLLEN_OFF & STVREN_OFF & BORV_LO & DEBUG_OFF & LVP_OFF);"]
["// CONFIG1 Register = 0bXXXXXX"]
["// CONFIG2 Register = 0bXXXXXX"]
[]
["/************************************************************************"]
["*  Extra Settings:     (adjust with care)                               *"]
["************************************************************************/"]
["#define Trigger_Pulse_Time 300 // On time, in uS, that output is kept on (2 is the minimum IME)"]
[]
["/***** Ignition Advance Table (256 point, 16-bit table) *****/"]
["static const uint16_t AdvanceTable1[256] = //@ 0x03F0 =  // 0x03F0"]
["{  /*****  PASTE TABLE DATA ON THE LINE BELOW  *****/"]
[{"$f":"Table_Values!G3","v":"4203,45,25,48047,2,3,102,1,40,0,0,0,0,0,0,173,188,203,218,233,248,263,278,292,307,322,337,352,367,382,397,412,427,442,457,472,487,502,516,531,546,561,576,591,606,621,636,651,666,681,696,711,726,740,755,770,785,800,815,830,845,860,875,890,905,920,935,950,964,979,994,1009,1024,1039,1054,1069,1084,1099,1114,1129,1144,1159,1174,1188,1203,1218,1233,1248,1263,1278,1293,1308,1323,1338,1353,1368,1383,1398,1412,1427,1442,1457,1472,1487,1502,1517,1532,1547,1562,1577,1592,1607,1622,1636,1651,1666,1681,1696,1711,1726,1741,1756,1771,1786,1801,1816,1831,1846,1860,1875,1890,1905,1920,1935,1950,1965,1980,1995,2010,2025,2040,2055,2070,2084,2099,2114,2129,2144,2159,2174,2189,2204,2219,2234,2249,2264,2279,2294,2308,2323,2338,2353,2368,2383,2398,2413,2428,2443,2458,2473,2488,2503,2518,2532,2547,2562,2577,2592,2607,2622,2637,2652,2667,2682,2697,2712,2727,2742,2756,2771,2786,2801,2816,2831,2846,2861,2876,2891,2906,2921,2936,2951,2966,2980,2995,3010,3025,3040,3055,3070,3085,3100,3115,3130,3145,3160,3175,3190,3204,3219,3234,3249,3264,3279,3294,3309,3324,3339,3354,3369,3384,3399,3414,3428,3443,3471,3506,3540,3575,3610,3645,3680,3715,3750,3784,3819,3854,3889,3924,3959,3993,4028,4063,4098,4133,4168"}]
["}; /*****  PASTE TABLE DATA ON THE LINE ABOVE  *****/"]
[]
["/***** Ignition Advance Table 2 (256 point, 16-bit table) *****/"]
["static const uint16_t AdvanceTable2[256] = //@ 0x05F0 =  // 0x05F0"]
["{  /*****  PASTE TABLE DATA ON THE LINE BELOW  *****/"]
[{"$f":"Table_Values!N3","v":"3749,50,25,53906,3,3,102,1,40,0,0,0,0,0,0,141,154,167,179,192,205,218,231,243,256,269,282,295,307,320,333,346,359,371,384,397,410,423,435,448,461,474,487,499,512,525,538,551,563,576,589,602,615,627,640,653,666,679,691,704,717,730,743,755,768,781,794,807,819,832,845,858,871,883,896,909,922,935,947,960,973,986,999,1011,1024,1037,1050,1063,1075,1088,1101,1114,1127,1139,1152,1165,1178,1191,1203,1216,1229,1242,1255,1267,1280,1293,1306,1319,1331,1344,1357,1370,1383,1395,1408,1421,1434,1447,1459,1472,1485,1498,1511,1523,1536,1549,1562,1575,1587,1600,1613,1626,1639,1651,1664,1677,1690,1703,1715,1728,1741,1754,1767,1779,1792,1805,1818,1831,1843,1856,1869,1882,1895,1907,1920,1933,1946,1959,1971,1984,1997,2010,2023,2035,2048,2061,2074,2087,2099,2112,2125,2138,2151,2163,2176,2189,2202,2215,2227,2240,2253,2266,2279,2291,2304,2317,2330,2343,2355,2368,2381,2394,2407,2419,2432,2445,2458,2471,2483,2496,2509,2522,2535,2547,2560,2573,2586,2599,2611,2624,2637,2650,2663,2675,2688,2701,2714,2727,2739,2752,2765,2778,2791,2803,2816,2829,2842,2855,2867,2880,2893,2906,2919,2931,2944,2972,3009,3046,3083,3120,3157,3194,3231,3268,3305,3342,3379,3416,3453,3490,3527,3564,3601,3638,3675,3712"}]
["}; /*****  PASTE TABLE DATA ON THE LINE ABOVE  *****/"]
["/***** End of User Settings *****/"]
[]
["/***** FUNCTION PROTOTYPES *****/"]
["static void Initalize(void);    // PIC Initialization"]
["static void LoadSettings(void); // Loads user settings embedded in the tables"]
["static void CheckPins(void);    // Check pins and debounce readings"]
[]
["/***** GLOBAL VARIABLES *****/"]
["extern volatile unsigned short CCPR1 @ 0x291; // Register: CCPR1 (Missing from pic12f1840.h)"]
["union {uint8_t ALL;struct{unsigned GP0:1;unsigned GP1:1;unsigned GP2:1;"]
["    unsigned GP3:1;unsigned GP4:1;unsigned GP5:1;};} sGPIO;  // Shadow copy of GPIO"]
[]
["const uint16_t *TablePointer = AdvanceTable1; // Pointer to active ignition table"]
["volatile uint8_t  Unhandled_Interrupt = 0;    // Should never have any of these!"]
["volatile uint8_t  MSD_Start_Spark = 0; // Number of sparks to fire on the first starting rev."]
["volatile uint8_t  Engine_Running = 0;  // Is the engine running?"]
["volatile uint8_t  TMR1_Overflow = 0;   // Timer1 counter"]
["volatile uint8_t  MSD_Low_Spark = 0;   // Number of sparks to fire when in LowRPM mode (120-915 RPM)"]
["volatile uint8_t  SensorDigiDeg = 0;   // Sensor Digi-Degrees BTDC"]
["volatile uint8_t  LowRPM_Delay = 0;    // Low RPM Advance Digi-Degrees (3 RPS - 916 RPM)"]
["volatile uint8_t  Max_MSD_Rev = 0;     // Maximum RPM to use MSD at (value is in terms of CurrentRev + 1)"]
["volatile uint8_t  CurrentRev = 0;      // Timer for current revolution"]
["volatile uint16_t StartDelay = 0;      // uS delay for start spark(s)"]
["volatile uint8_t  Spark_Fire = 0;      // Loaded with the number of sparks to fire"]
["volatile uint8_t  MSD_Spark = 0;       // Number of sparks per revolution when RPM is below Max_MSD_Rev"]
["volatile uint8_t  MSD_Delay = 0;       // uS in between trigger pulses for MSD (minimum 63 IME)"]
["volatile uint8_t  LastRev = 0;  // Previous revolution time"]
["volatile uint24_t LowCalc = 0;  // Used as a temp var for calculating"]
["uint8_t KillSwitch = 0;         // Kill Switch Debounce Variable"]
["uint8_t TableSwitch = 0;         // Table Switch Debounce Variable"]
["uint8_t i = 0;                   // 8-bit counter variable"]
[]
["void main(void) {"]
["    TRISA = 0b111100;  // Try to get GP1 on as fast as possible to prevent startup sparks."]
["    sGPIO.GP1 = 1;        // GP1 should normally be on (high)"]
["    PORTA = sGPIO.ALL;    // Shadow GPIO -> GPIO"]
["    Initalize();          // Call initialization function"]
["//    __delay_ms(500);      // Startup delay to let circuit stabilize"]
["    LoadSettings();       // Load table 1 user settings"]
["    Spark_Fire = MSD_Start_Spark; // Prime the spark counter for first firing"]
["    PIE1bits.TMR1IE = 1;  // Timer1 Interrupt Enable"]
["    T1CONbits.TMR1ON = 1; // Start Timer1"]
["    INTCONbits.GIE = 1;   // Global Interrupt Enable"]
[]
["    while(1){  // Main loop, Run this loop forever"]
["        CheckPins();    // Check our TableSelect and KillSwitch pins"]
["        __delay_ms(10); // Delay here so main loop runs at around 10-20 ms (100-50 times/sec)"]
["    }"]
["}"]
[]
["/* ISR = Interrupt Service Routine, it is called when any enabled interrupt is generated. */"]
["static void interrupt isr(void){  /* All in one IF block to avoid runtime errors */"]
["#if 1  /* Determine which flag generated the interrupt and service it */"]
[]
["    if(PIR1bits.CCP1IF){  /******** TIMER1 COMPARE MATCH ********/"]
["        for(;Spark_Fire != 0;--Spark_Fire){"]
["            sGPIO.GP1 = 0;    // Turn on HV output by turning GP1 off"]
["            sGPIO.GP0 = 1;    // Turn on LED/tach (GP0) bit in shadow"]
["            PORTA = sGPIO.ALL; // Update GPIO"]
["            __delay_us(Trigger_Pulse_Time);  // Load Trigger_Pulse_Time (uS)"]
["            sGPIO.GP1 = 1;    // GP1 is normally on (on = off)"]
["            sGPIO.GP0 = 0;    // Turn off LED/tach (GP0) bit in shadow"]
["            PORTA = sGPIO.ALL; // Update GPIO"]
["            if(Spark_Fire != 0){"]
["                for(i=0; i < MSD_Delay; i++){ // Delay for MSD_Delay value"]
["                    __delay_us(96);  // About 4 uS overhead per loop"]
["                }"]
["            }"]
["        }"]
["        LastRev = CurrentRev;  // Store previous rev speed value"]
["        CCP1CONbits.CCP1M = 0; // Compare mode off, so we don't end up here again until the next spark"]
["        PIE1bits.CCP1IE = 0;   // Disable compare interrupt"]
["        PIR1bits.CCP1IF = 0;   // Clear compare interrupt flag"]
["        INTCONbits.INTF = 0;   // Clear sensor interrupt flag in case we have generated the flag from sensor noise"]
["        INTCONbits.INTE = 1;   // Enable interrupt for GP2 sensor input"]
["    }"]
["/*****************************************************************************/"]
["    else if(INTCONbits.INTF){  /******** GP2 SENSOR INPUT ********/"]
["        if(PORTAbits.RA2 == 0){"]
["            T1CONbits.TMR1ON = 0;       // Turn off Timer1"]
["            CurrentRev = TMR1H + (TMR1L >> 7); // 8 high bits of Timer1 + the highest low bit (rounding method)"]
["            TMR1 = 0;                   // Reset Timer1"]
["            CCP1CONbits.CCP1M = 0b1010; // Set Timer1 CCP compare mode"]
["            CCPR1 = *(TablePointer + CurrentRev);  // Load delay table value"]
["            if(CurrentRev > Max_MSD_Rev){Spark_Fire = MSD_Spark;} // Set the MSD sparks if revs are low enough"]
["            else{Spark_Fire = 1;}"]
["            if(TMR1_Overflow){  // If we overflowed we need to calc the delay time since it's not in the table"]
["                LowCalc = CurrentRev + (TMR1_Overflow<<8);  // Figure out total elapsed time"]
["                CCPR1 = LowCalc * LowRPM_Delay;  // Shift one more bit and multiply times our start advance setting"]
["                TMR1_Overflow = 0;   // Reset TMR1 overflow counter"]
["                Spark_Fire = MSD_Low_Spark;"]
["                CurrentRev = 255;  // CurrentRev should be maxed instead of rolled over to a random number"]
["                if(Engine_Running == 0){  // If our engine isn't running we won't have a valid rev time"]
["                    CCPR1 = StartDelay;  // Use default starting figure"]
["                    Spark_Fire = MSD_Start_Spark;"]
["                    Engine_Running = 1;  // Hopefully engine fired or at least hits the sensor again at above 3 RPS"]
["                }"]
["            }"]
["            // Prepare for throwing spark and exit ISR"]
["            INTCONbits.INTE = 0;  // Disable GP2 sensor interrupt so we don't get false triggers from sensor noise."]
["            INTCONbits.INTF = 0;  // Clear GP2 Interrupt Flag"]
["            PIR1bits.CCP1IF = 0;  // Clear compare interrupt flag"]
["            PIE1bits.CCP1IE = 1;  // Enable compare interrupt"]
["            T1CONbits.TMR1ON =1;  // Turn on Timer1"]
["        }"]
["        else {INTCONbits.INTF = 0;} // False interrupt, clear flag and continue"]
["    }"]
["/*****************************************************************************/"]
["    else if(PIR1bits.TMR1IF){  /******** TIMER1 OVERFLOW ********/"]
["        CCP1CONbits.CCP1M = 0;   // Compare mode off so we don't get compare matches now that our timer has rolled over"]
["        if(TMR1_Overflow > 7){"]
["            Engine_Running = 0;  // Engine is not running (under ~2 RPS / ~120 RPM)"]
["        }"]
["        else{"]
["            TMR1_Overflow++;  // Increment overflow count (=uS*65536)"]
["        }"]
["        PIR1bits.TMR1IF = 0; // Clear interrupt flag"]
["    }"]
["/*****************************************************************************/"]
["    else {  /******** UNHANDLED INTERRUPT ********/"]
["        if(Unhandled_Interrupt < 255){Unhandled_Interrupt++;}"]
["    }"]
["#endif"]
["}"]
[]
["static void LoadSettings(void){  // Load user settings from current table"]
["    SensorDigiDeg   = *(TablePointer + 1);"]
["    LowRPM_Delay    = *(TablePointer + 2);"]
["    StartDelay      = *(TablePointer + 3);"]
["    MSD_Start_Spark = *(TablePointer + 4);"]
["    MSD_Low_Spark   = *(TablePointer + 5);"]
["    Max_MSD_Rev     = *(TablePointer + 6);"]
["    MSD_Spark       = *(TablePointer + 7);"]
["    MSD_Delay       = *(TablePointer + 8);"]
["}"]
[]
["static void CheckPins(void){"]
["    if(PORTAbits.RA4 == 0){   // If kill switch is on (grounded)"]
["        if(KillSwitch < 10){ // Less than debounce value"]
["            KillSwitch++;    // Increment value"]
["            if(KillSwitch == 10){   // Debounce value reached"]
["                INTCONbits.GIE = 0; // Disable interrupts"]
["                sGPIO.GP1 = 1;      // Make sure HV trigger is off (turn GP1 on)"]
["                PORTA = sGPIO.ALL;   // Update GPIO"]
["            }"]
["        }"]
["    }"]
["    else if(KillSwitch > 0){ // Kill switch off (high)"]
["        KillSwitch--;       // Decrease counter"]
["        if(KillSwitch == 0){INTCONbits.GIE = 1;} // If debounced back to 0, enable interrupts"]
["    }"]
["    if(PORTAbits.RA5 == 0){    // If Table switch is on (grounded)"]
["        if(TableSwitch < 10){ // Less than max value"]
["            TableSwitch++;    // So increment"]
["            if(TableSwitch == 10){ // Debounce value reached"]
["                TablePointer = AdvanceTable2; // Point pointer at table 2"]
["                LoadSettings(); // Load the user settings from the currently selected table"]
["            }"]
["        }"]
["    }"]
["    else if(TableSwitch > 0){  // Table switch has been turned off"]
["        TableSwitch--;         // Decrease the debounce value"]
["        if(TableSwitch == 0){  // Table switch really is off"]
["            TablePointer = AdvanceTable1; // Point TablePointer at table 1"]
["            LoadSettings(); // Load the user settings from the currently selected table"]
["        }"]
["    }"]
["}"]
[]
["static void Initalize(void){"]
["    OSCCONbits.IRCF = 0b1110; // Internal osc = 8MHz"]
["    OSCCONbits.SPLLEN = 0;    // 4X PLL"]
["    OSCCONbits.SCS = 0b10;    // Use Internal osc"]
["    if(OSCSTATbits.HFIOFR == 0){__delay_ms(100);} // HF internal osc ready"]
["    if(OSCSTATbits.HFIOFL == 0){__delay_ms(100);} // HF internal osc locked (2% accurate)"]
["    if(OSCSTATbits.HFIOFS == 0){__delay_ms(100);} // HF internal osc stable (0.5% accurate)"]
["    INTCON = 0b01010000;     // Disable interrupts, except GP2, -TMR0, peripheral"]
["    PIE1   = 0b00000101;     // Peripheral Interrupt Enable. CCP1, TMR1 on."]
["    PIE2   = 0b00000000;     // Peripheral Interrupt Enable 2. All off."]
["    PIR1   = 0b00000000;     // Peripheral Interrupt Request Register 1"]
["    PIR2   = 0b00000000;     // Peripheral Interrupt Request Register 2"]
["    ANSELA = 0b00000000;     // Turn off all analog inputs"]
["    /*******   GP 543210  *******/"]
["    /*******  Pin 234567  *******/"]
["    TRISA     = 0b111100;    // 1=Input, 0=Output,"]
["    WPUA      = 0b110101;    // Internal pull-ups on GP5+4+2+0"]
["    sGPIO.ALL = 0b000000;    // Set initial pin states (all off) (Shadow write)"]
["    sGPIO.GP1 = 1;           // GP1 should normally be on (on = off)"]
["    PORTA = sGPIO.ALL;        // Shadow GPIO -> GPIO"]
["    OPTION_REG = 0b00000000; // pullups on, falling edge, Tmr0"]
["    CM1CON0    = 0b00000001; // comparator config, disable"]
["    CCP1CON    = 0b00000000; // CCP off, (special event mode = 1011, resets Timer1)"]
["    T1CON      = 0b00010100; // TMR1 Off, 1:2 prescaler"]
["    TMR1 = 0;                //  Zero Timer1"]
["}"]

{"sheet":"Compiler_Command_Lines","index":6,"n_rows":5,"n_cols":2,"rows_kept":5,"cut":false,"hidden":false,"merged":[]}
["For 12F683:","\"%PROGRAMFILES%\\Microchip\\xc8\\v1.11\\bin\\xc8.exe\" --chip=12F683 --mode=free --opt=+asm,-asmfile,-debug,+speed,-space -P 683.c"]
["For 12F1840:","\"%PROGRAMFILES%\\Microchip\\xc8\\v1.11\\bin\\xc8.exe\" --chip=12F1840 --mode=free --opt=+asm,-asmfile,-debug,+speed,-space -P 1840.c"]
["Cleanup:","del *.as *.cof *.d *.hxl *.lst *.p1 *.pre *.sdb *.sym funclist *.obj *.rlf"]
[]
[" "]